BEGIN:VCALENDAR
VERSION:2.0
PRODID:-//Beloit Rifle Club - ECPv6.15.17.1//NONSGML v1.0//EN
CALSCALE:GREGORIAN
METHOD:PUBLISH
X-ORIGINAL-URL:https://www.beloitrifleclub.org
X-WR-CALDESC:Events for Beloit Rifle Club
REFRESH-INTERVAL;VALUE=DURATION:PT1H
X-Robots-Tag:noindex
X-PUBLISHED-TTL:PT1H
BEGIN:VTIMEZONE
TZID:America/Chicago
BEGIN:DAYLIGHT
TZOFFSETFROM:-0600
TZOFFSETTO:-0500
TZNAME:CDT
DTSTART:20230312T080000
END:DAYLIGHT
BEGIN:STANDARD
TZOFFSETFROM:-0500
TZOFFSETTO:-0600
TZNAME:CST
DTSTART:20231105T070000
END:STANDARD
BEGIN:DAYLIGHT
TZOFFSETFROM:-0600
TZOFFSETTO:-0500
TZNAME:CDT
DTSTART:20240310T080000
END:DAYLIGHT
BEGIN:STANDARD
TZOFFSETFROM:-0500
TZOFFSETTO:-0600
TZNAME:CST
DTSTART:20241103T070000
END:STANDARD
BEGIN:DAYLIGHT
TZOFFSETFROM:-0600
TZOFFSETTO:-0500
TZNAME:CDT
DTSTART:20250309T080000
END:DAYLIGHT
BEGIN:STANDARD
TZOFFSETFROM:-0500
TZOFFSETTO:-0600
TZNAME:CST
DTSTART:20251102T070000
END:STANDARD
BEGIN:DAYLIGHT
TZOFFSETFROM:-0600
TZOFFSETTO:-0500
TZNAME:CDT
DTSTART:20260308T080000
END:DAYLIGHT
BEGIN:STANDARD
TZOFFSETFROM:-0500
TZOFFSETTO:-0600
TZNAME:CST
DTSTART:20261101T070000
END:STANDARD
BEGIN:DAYLIGHT
TZOFFSETFROM:-0600
TZOFFSETTO:-0500
TZNAME:CDT
DTSTART:20270314T080000
END:DAYLIGHT
BEGIN:STANDARD
TZOFFSETFROM:-0500
TZOFFSETTO:-0600
TZNAME:CST
DTSTART:20271107T070000
END:STANDARD
END:VTIMEZONE
BEGIN:VEVENT
DTSTART;TZID=America/Chicago:20260418T083000
DTEND;TZID=America/Chicago:20260418T140000
DTSTAMP:20260424T075041
CREATED:20250413T180442Z
LAST-MODIFIED:20260209T131941Z
UID:10013380-1776501000-1776520800@www.beloitrifleclub.org
SUMMARY:NRA Smallbore Rifle Silhouette Monthly Club Match
DESCRIPTION:NRA Smallbore Rifle Silhouette\nCompetition is open to everyone.\nRules: Current NRA Smallbore rifle Silhouette Rules will apply.\nCourse Of Fire: The Tournaments will be 1 match of 80 (2 x 40) rounds for Standard Rifle Class and 1 match of 80 rounds for Hunter Rifle Class. Squads within your relay will determine target order. \nFees:\nClub Members: $15.00 one rifle/$25 two rifles\nGuests: $20 one rifle / $30 two rifles\nJuniors under 18: Free \nThis is an NRA sanctioned match. All match rules as described in NRA Rifle Silhouette Rules book (2025 revision) will be observed.\nShooters with rifles that do not meet the rules requirements will be allowed to shoot but will not be eligible for Match Winner and results will not be considered for classification. \nFiring Times: Saturday Tournaments begin promptly at 10:00 AM. Please be present to register before 9:45 AM. *Sighting-In is from 8:30 to 9:45 AM.\nRegistration: Shooters registration will be done on the match day before the tournamet starts. \n\nEye and ear protection are mandatory!\nEmpty chamber indicators (ECI) are also required.\nAmmunition: .22LR/Short/Long Standard Velocity or High Velocity only.\n\n!!! IMPORTANT !!!\nPlease no Hyper-velocity\, stinger or any other type of round that may cause damages to the targets!\nFor more information\, please check the attached program or visit: \nSilhouette Discipline page…\n\n 
URL:https://www.beloitrifleclub.org/event/nra-smallbore-rifle-silhouette-monthly-club-match/2026-04-18/
LOCATION:BRC Silhouette Range\, 851 E Philhower Road\, Beloit\, WI\, 53511\, United States
END:VEVENT
BEGIN:VEVENT
DTSTART;TZID=America/Chicago:20250911T164500
DTEND;TZID=America/Chicago:20250911T183000
DTSTAMP:20260424T075041
CREATED:20250413T174846Z
LAST-MODIFIED:20250413T175251Z
UID:10012637-1757609100-1757615400@www.beloitrifleclub.org
SUMMARY:Smallbore Silhouette Practice
DESCRIPTION:NRA Smallbore Rifle Silhouette\n1 practice match (40 shots) \nPractice is open to club members and public.\nJunior shooters need to be accompanied by an adult.\nSetup starts approximately 4:45 PM shooting starts approximately 5:00 PM\nShooters will be required to reset targets between animals. \nWhat to bring:\nEye and ear protection\nEmpty chamber indicator(ECI). A limited number of ECI’s are available at the range.\n50+ rounds of ammunition. Please use only 22 short/long or long rifle; no magnum or stinger rounds. \nSilhouette Discipline page…\n\n  \n  \n 
URL:https://www.beloitrifleclub.org/event/smallbore-silhouette-practice/2025-09-11/
LOCATION:BRC Silhouette Range\, 851 E Philhower Road\, Beloit\, WI\, 53511\, United States
END:VEVENT
BEGIN:VEVENT
DTSTART;TZID=America/Chicago:20250904T164500
DTEND;TZID=America/Chicago:20250904T183000
DTSTAMP:20260424T075041
CREATED:20250413T174846Z
LAST-MODIFIED:20250413T175251Z
UID:10012636-1757004300-1757010600@www.beloitrifleclub.org
SUMMARY:Smallbore Silhouette Practice
DESCRIPTION:NRA Smallbore Rifle Silhouette\n1 practice match (40 shots) \nPractice is open to club members and public.\nJunior shooters need to be accompanied by an adult.\nSetup starts approximately 4:45 PM shooting starts approximately 5:00 PM\nShooters will be required to reset targets between animals. \nWhat to bring:\nEye and ear protection\nEmpty chamber indicator(ECI). A limited number of ECI’s are available at the range.\n50+ rounds of ammunition. Please use only 22 short/long or long rifle; no magnum or stinger rounds. \nSilhouette Discipline page…\n\n  \n  \n 
URL:https://www.beloitrifleclub.org/event/smallbore-silhouette-practice/2025-09-04/
LOCATION:BRC Silhouette Range\, 851 E Philhower Road\, Beloit\, WI\, 53511\, United States
END:VEVENT
BEGIN:VEVENT
DTSTART;TZID=America/Chicago:20250828T164500
DTEND;TZID=America/Chicago:20250828T183000
DTSTAMP:20260424T075041
CREATED:20250413T174846Z
LAST-MODIFIED:20250413T175251Z
UID:10012635-1756399500-1756405800@www.beloitrifleclub.org
SUMMARY:Smallbore Silhouette Practice
DESCRIPTION:NRA Smallbore Rifle Silhouette\n1 practice match (40 shots) \nPractice is open to club members and public.\nJunior shooters need to be accompanied by an adult.\nSetup starts approximately 4:45 PM shooting starts approximately 5:00 PM\nShooters will be required to reset targets between animals. \nWhat to bring:\nEye and ear protection\nEmpty chamber indicator(ECI). A limited number of ECI’s are available at the range.\n50+ rounds of ammunition. Please use only 22 short/long or long rifle; no magnum or stinger rounds. \nSilhouette Discipline page…\n\n  \n  \n 
URL:https://www.beloitrifleclub.org/event/smallbore-silhouette-practice/2025-08-28/
LOCATION:BRC Silhouette Range\, 851 E Philhower Road\, Beloit\, WI\, 53511\, United States
END:VEVENT
BEGIN:VEVENT
DTSTART;TZID=America/Chicago:20250823T083000
DTEND;TZID=America/Chicago:20250823T140000
DTSTAMP:20260424T075041
CREATED:20250413T182403Z
LAST-MODIFIED:20250413T182403Z
UID:10012646-1755937800-1755957600@www.beloitrifleclub.org
SUMMARY:Silhouette Wisconsin State Championship Tournament
DESCRIPTION:NRA Smallbore Rifle Silhouette\nCompetition is open to everyone. This event is sponsored by Wisconsin FORCE! \nPlease note:\nWhile out of state competitors are always welcome\, per WI FORCE regulations\, only Wisconsin residents qualify for State Champion title. \nRules:\n\nCurrent NRA Smallbore rifle Silhouette Rules will apply.\nEye and ear protection are mandatory!\nEmpty chamber indicators (ECI) are also required.\nAmmunition: .22LR/Short/Long Standard Velocity or High Velocity only.\n\nCourse Of Fire:\nThe Tournaments will be 1 match of 80 (2 x 40) rounds for Standard Rifle Class and 1 match of 80 rounds for Hunter Rifle Class. Squads within your relay will determine target order. \nFiring Times:\n\nSaturday Tournaments begin promptly at 10:00 AM.\nPlease be present to register before 9:45 AM.\n*Sighting-In is from 8:30 to 9:45 AM.\n\nRegistration:\n\nShooters registration will be done on the match day before the tournamet starts.\n\n!!! IMPORTANT !!!\nPlease no Hyper-velocity\, stinger or any other type of round that may cause damages to the targets!\n  \nSilhouette Discipline page…\n\n 
URL:https://www.beloitrifleclub.org/event/silhouette-wisconsin-state-championship-tournament/
LOCATION:BRC Silhouette Range\, 851 E Philhower Road\, Beloit\, WI\, 53511\, United States
END:VEVENT
BEGIN:VEVENT
DTSTART;TZID=America/Chicago:20250821T164500
DTEND;TZID=America/Chicago:20250821T183000
DTSTAMP:20260424T075041
CREATED:20250413T174846Z
LAST-MODIFIED:20250413T175251Z
UID:10012634-1755794700-1755801000@www.beloitrifleclub.org
SUMMARY:Smallbore Silhouette Practice
DESCRIPTION:NRA Smallbore Rifle Silhouette\n1 practice match (40 shots) \nPractice is open to club members and public.\nJunior shooters need to be accompanied by an adult.\nSetup starts approximately 4:45 PM shooting starts approximately 5:00 PM\nShooters will be required to reset targets between animals. \nWhat to bring:\nEye and ear protection\nEmpty chamber indicator(ECI). A limited number of ECI’s are available at the range.\n50+ rounds of ammunition. Please use only 22 short/long or long rifle; no magnum or stinger rounds. \nSilhouette Discipline page…\n\n  \n  \n 
URL:https://www.beloitrifleclub.org/event/smallbore-silhouette-practice/2025-08-21/
LOCATION:BRC Silhouette Range\, 851 E Philhower Road\, Beloit\, WI\, 53511\, United States
END:VEVENT
BEGIN:VEVENT
DTSTART;TZID=America/Chicago:20250814T164500
DTEND;TZID=America/Chicago:20250814T183000
DTSTAMP:20260424T075041
CREATED:20250413T174846Z
LAST-MODIFIED:20250413T175251Z
UID:10012633-1755189900-1755196200@www.beloitrifleclub.org
SUMMARY:Smallbore Silhouette Practice
DESCRIPTION:NRA Smallbore Rifle Silhouette\n1 practice match (40 shots) \nPractice is open to club members and public.\nJunior shooters need to be accompanied by an adult.\nSetup starts approximately 4:45 PM shooting starts approximately 5:00 PM\nShooters will be required to reset targets between animals. \nWhat to bring:\nEye and ear protection\nEmpty chamber indicator(ECI). A limited number of ECI’s are available at the range.\n50+ rounds of ammunition. Please use only 22 short/long or long rifle; no magnum or stinger rounds. \nSilhouette Discipline page…\n\n  \n  \n 
URL:https://www.beloitrifleclub.org/event/smallbore-silhouette-practice/2025-08-14/
LOCATION:BRC Silhouette Range\, 851 E Philhower Road\, Beloit\, WI\, 53511\, United States
END:VEVENT
BEGIN:VEVENT
DTSTART;TZID=America/Chicago:20250807T164500
DTEND;TZID=America/Chicago:20250807T183000
DTSTAMP:20260424T075041
CREATED:20250413T174846Z
LAST-MODIFIED:20250413T175251Z
UID:10012632-1754585100-1754591400@www.beloitrifleclub.org
SUMMARY:Smallbore Silhouette Practice
DESCRIPTION:NRA Smallbore Rifle Silhouette\n1 practice match (40 shots) \nPractice is open to club members and public.\nJunior shooters need to be accompanied by an adult.\nSetup starts approximately 4:45 PM shooting starts approximately 5:00 PM\nShooters will be required to reset targets between animals. \nWhat to bring:\nEye and ear protection\nEmpty chamber indicator(ECI). A limited number of ECI’s are available at the range.\n50+ rounds of ammunition. Please use only 22 short/long or long rifle; no magnum or stinger rounds. \nSilhouette Discipline page…\n\n  \n  \n 
URL:https://www.beloitrifleclub.org/event/smallbore-silhouette-practice/2025-08-07/
LOCATION:BRC Silhouette Range\, 851 E Philhower Road\, Beloit\, WI\, 53511\, United States
END:VEVENT
BEGIN:VEVENT
DTSTART;TZID=America/Chicago:20250731T164500
DTEND;TZID=America/Chicago:20250731T183000
DTSTAMP:20260424T075041
CREATED:20250413T174846Z
LAST-MODIFIED:20250413T175251Z
UID:10012631-1753980300-1753986600@www.beloitrifleclub.org
SUMMARY:Smallbore Silhouette Practice
DESCRIPTION:NRA Smallbore Rifle Silhouette\n1 practice match (40 shots) \nPractice is open to club members and public.\nJunior shooters need to be accompanied by an adult.\nSetup starts approximately 4:45 PM shooting starts approximately 5:00 PM\nShooters will be required to reset targets between animals. \nWhat to bring:\nEye and ear protection\nEmpty chamber indicator(ECI). A limited number of ECI’s are available at the range.\n50+ rounds of ammunition. Please use only 22 short/long or long rifle; no magnum or stinger rounds. \nSilhouette Discipline page…\n\n  \n  \n 
URL:https://www.beloitrifleclub.org/event/smallbore-silhouette-practice/2025-07-31/
LOCATION:BRC Silhouette Range\, 851 E Philhower Road\, Beloit\, WI\, 53511\, United States
END:VEVENT
BEGIN:VEVENT
DTSTART;TZID=America/Chicago:20250724T164500
DTEND;TZID=America/Chicago:20250724T183000
DTSTAMP:20260424T075041
CREATED:20250413T174846Z
LAST-MODIFIED:20250413T175251Z
UID:10012630-1753375500-1753381800@www.beloitrifleclub.org
SUMMARY:Smallbore Silhouette Practice
DESCRIPTION:NRA Smallbore Rifle Silhouette\n1 practice match (40 shots) \nPractice is open to club members and public.\nJunior shooters need to be accompanied by an adult.\nSetup starts approximately 4:45 PM shooting starts approximately 5:00 PM\nShooters will be required to reset targets between animals. \nWhat to bring:\nEye and ear protection\nEmpty chamber indicator(ECI). A limited number of ECI’s are available at the range.\n50+ rounds of ammunition. Please use only 22 short/long or long rifle; no magnum or stinger rounds. \nSilhouette Discipline page…\n\n  \n  \n 
URL:https://www.beloitrifleclub.org/event/smallbore-silhouette-practice/2025-07-24/
LOCATION:BRC Silhouette Range\, 851 E Philhower Road\, Beloit\, WI\, 53511\, United States
END:VEVENT
BEGIN:VEVENT
DTSTART;TZID=America/Chicago:20250717T164500
DTEND;TZID=America/Chicago:20250717T183000
DTSTAMP:20260424T075041
CREATED:20250413T174846Z
LAST-MODIFIED:20250413T175251Z
UID:10012629-1752770700-1752777000@www.beloitrifleclub.org
SUMMARY:Smallbore Silhouette Practice
DESCRIPTION:NRA Smallbore Rifle Silhouette\n1 practice match (40 shots) \nPractice is open to club members and public.\nJunior shooters need to be accompanied by an adult.\nSetup starts approximately 4:45 PM shooting starts approximately 5:00 PM\nShooters will be required to reset targets between animals. \nWhat to bring:\nEye and ear protection\nEmpty chamber indicator(ECI). A limited number of ECI’s are available at the range.\n50+ rounds of ammunition. Please use only 22 short/long or long rifle; no magnum or stinger rounds. \nSilhouette Discipline page…\n\n  \n  \n 
URL:https://www.beloitrifleclub.org/event/smallbore-silhouette-practice/2025-07-17/
LOCATION:BRC Silhouette Range\, 851 E Philhower Road\, Beloit\, WI\, 53511\, United States
END:VEVENT
BEGIN:VEVENT
DTSTART;TZID=America/Chicago:20250710T164500
DTEND;TZID=America/Chicago:20250710T183000
DTSTAMP:20260424T075041
CREATED:20250413T174846Z
LAST-MODIFIED:20250413T175251Z
UID:10012628-1752165900-1752172200@www.beloitrifleclub.org
SUMMARY:Smallbore Silhouette Practice
DESCRIPTION:NRA Smallbore Rifle Silhouette\n1 practice match (40 shots) \nPractice is open to club members and public.\nJunior shooters need to be accompanied by an adult.\nSetup starts approximately 4:45 PM shooting starts approximately 5:00 PM\nShooters will be required to reset targets between animals. \nWhat to bring:\nEye and ear protection\nEmpty chamber indicator(ECI). A limited number of ECI’s are available at the range.\n50+ rounds of ammunition. Please use only 22 short/long or long rifle; no magnum or stinger rounds. \nSilhouette Discipline page…\n\n  \n  \n 
URL:https://www.beloitrifleclub.org/event/smallbore-silhouette-practice/2025-07-10/
LOCATION:BRC Silhouette Range\, 851 E Philhower Road\, Beloit\, WI\, 53511\, United States
END:VEVENT
BEGIN:VEVENT
DTSTART;TZID=America/Chicago:20250703T164500
DTEND;TZID=America/Chicago:20250703T183000
DTSTAMP:20260424T075041
CREATED:20250413T174846Z
LAST-MODIFIED:20250413T175251Z
UID:10012627-1751561100-1751567400@www.beloitrifleclub.org
SUMMARY:Smallbore Silhouette Practice
DESCRIPTION:NRA Smallbore Rifle Silhouette\n1 practice match (40 shots) \nPractice is open to club members and public.\nJunior shooters need to be accompanied by an adult.\nSetup starts approximately 4:45 PM shooting starts approximately 5:00 PM\nShooters will be required to reset targets between animals. \nWhat to bring:\nEye and ear protection\nEmpty chamber indicator(ECI). A limited number of ECI’s are available at the range.\n50+ rounds of ammunition. Please use only 22 short/long or long rifle; no magnum or stinger rounds. \nSilhouette Discipline page…\n\n  \n  \n 
URL:https://www.beloitrifleclub.org/event/smallbore-silhouette-practice/2025-07-03/
LOCATION:BRC Silhouette Range\, 851 E Philhower Road\, Beloit\, WI\, 53511\, United States
END:VEVENT
BEGIN:VEVENT
DTSTART;TZID=America/Chicago:20250626T164500
DTEND;TZID=America/Chicago:20250626T183000
DTSTAMP:20260424T075041
CREATED:20250413T174846Z
LAST-MODIFIED:20250413T175251Z
UID:10012626-1750956300-1750962600@www.beloitrifleclub.org
SUMMARY:Smallbore Silhouette Practice
DESCRIPTION:NRA Smallbore Rifle Silhouette\n1 practice match (40 shots) \nPractice is open to club members and public.\nJunior shooters need to be accompanied by an adult.\nSetup starts approximately 4:45 PM shooting starts approximately 5:00 PM\nShooters will be required to reset targets between animals. \nWhat to bring:\nEye and ear protection\nEmpty chamber indicator(ECI). A limited number of ECI’s are available at the range.\n50+ rounds of ammunition. Please use only 22 short/long or long rifle; no magnum or stinger rounds. \nSilhouette Discipline page…\n\n  \n  \n 
URL:https://www.beloitrifleclub.org/event/smallbore-silhouette-practice/2025-06-26/
LOCATION:BRC Silhouette Range\, 851 E Philhower Road\, Beloit\, WI\, 53511\, United States
END:VEVENT
BEGIN:VEVENT
DTSTART;TZID=America/Chicago:20250619T164500
DTEND;TZID=America/Chicago:20250619T183000
DTSTAMP:20260424T075041
CREATED:20250413T174846Z
LAST-MODIFIED:20250413T175251Z
UID:10012625-1750351500-1750357800@www.beloitrifleclub.org
SUMMARY:Smallbore Silhouette Practice
DESCRIPTION:NRA Smallbore Rifle Silhouette\n1 practice match (40 shots) \nPractice is open to club members and public.\nJunior shooters need to be accompanied by an adult.\nSetup starts approximately 4:45 PM shooting starts approximately 5:00 PM\nShooters will be required to reset targets between animals. \nWhat to bring:\nEye and ear protection\nEmpty chamber indicator(ECI). A limited number of ECI’s are available at the range.\n50+ rounds of ammunition. Please use only 22 short/long or long rifle; no magnum or stinger rounds. \nSilhouette Discipline page…\n\n  \n  \n 
URL:https://www.beloitrifleclub.org/event/smallbore-silhouette-practice/2025-06-19/
LOCATION:BRC Silhouette Range\, 851 E Philhower Road\, Beloit\, WI\, 53511\, United States
END:VEVENT
BEGIN:VEVENT
DTSTART;TZID=America/Chicago:20250612T164500
DTEND;TZID=America/Chicago:20250612T183000
DTSTAMP:20260424T075041
CREATED:20250413T174846Z
LAST-MODIFIED:20250413T175251Z
UID:10012624-1749746700-1749753000@www.beloitrifleclub.org
SUMMARY:Smallbore Silhouette Practice
DESCRIPTION:NRA Smallbore Rifle Silhouette\n1 practice match (40 shots) \nPractice is open to club members and public.\nJunior shooters need to be accompanied by an adult.\nSetup starts approximately 4:45 PM shooting starts approximately 5:00 PM\nShooters will be required to reset targets between animals. \nWhat to bring:\nEye and ear protection\nEmpty chamber indicator(ECI). A limited number of ECI’s are available at the range.\n50+ rounds of ammunition. Please use only 22 short/long or long rifle; no magnum or stinger rounds. \nSilhouette Discipline page…\n\n  \n  \n 
URL:https://www.beloitrifleclub.org/event/smallbore-silhouette-practice/2025-06-12/
LOCATION:BRC Silhouette Range\, 851 E Philhower Road\, Beloit\, WI\, 53511\, United States
END:VEVENT
BEGIN:VEVENT
DTSTART;TZID=America/Chicago:20250605T164500
DTEND;TZID=America/Chicago:20250605T183000
DTSTAMP:20260424T075041
CREATED:20250413T174846Z
LAST-MODIFIED:20250413T175251Z
UID:10012623-1749141900-1749148200@www.beloitrifleclub.org
SUMMARY:Smallbore Silhouette Practice
DESCRIPTION:NRA Smallbore Rifle Silhouette\n1 practice match (40 shots) \nPractice is open to club members and public.\nJunior shooters need to be accompanied by an adult.\nSetup starts approximately 4:45 PM shooting starts approximately 5:00 PM\nShooters will be required to reset targets between animals. \nWhat to bring:\nEye and ear protection\nEmpty chamber indicator(ECI). A limited number of ECI’s are available at the range.\n50+ rounds of ammunition. Please use only 22 short/long or long rifle; no magnum or stinger rounds. \nSilhouette Discipline page…\n\n  \n  \n 
URL:https://www.beloitrifleclub.org/event/smallbore-silhouette-practice/2025-06-05/
LOCATION:BRC Silhouette Range\, 851 E Philhower Road\, Beloit\, WI\, 53511\, United States
END:VEVENT
BEGIN:VEVENT
DTSTART;TZID=America/Chicago:20250531T090000
DTEND;TZID=America/Chicago:20250531T130000
DTSTAMP:20260424T075041
CREATED:20250513T023421Z
LAST-MODIFIED:20250513T023421Z
UID:10012664-1748682000-1748696400@www.beloitrifleclub.org
SUMMARY:Intro to Silhouette
DESCRIPTION:
URL:https://www.beloitrifleclub.org/event/intro-to-silhouette/
LOCATION:BRC Silhouette Range\, 851 E Philhower Road\, Beloit\, WI\, 53511\, United States
END:VEVENT
BEGIN:VEVENT
DTSTART;TZID=America/Chicago:20250529T164500
DTEND;TZID=America/Chicago:20250529T183000
DTSTAMP:20260424T075041
CREATED:20250413T174846Z
LAST-MODIFIED:20250413T175251Z
UID:10012622-1748537100-1748543400@www.beloitrifleclub.org
SUMMARY:Smallbore Silhouette Practice
DESCRIPTION:NRA Smallbore Rifle Silhouette\n1 practice match (40 shots) \nPractice is open to club members and public.\nJunior shooters need to be accompanied by an adult.\nSetup starts approximately 4:45 PM shooting starts approximately 5:00 PM\nShooters will be required to reset targets between animals. \nWhat to bring:\nEye and ear protection\nEmpty chamber indicator(ECI). A limited number of ECI’s are available at the range.\n50+ rounds of ammunition. Please use only 22 short/long or long rifle; no magnum or stinger rounds. \nSilhouette Discipline page…\n\n  \n  \n 
URL:https://www.beloitrifleclub.org/event/smallbore-silhouette-practice/2025-05-29/
LOCATION:BRC Silhouette Range\, 851 E Philhower Road\, Beloit\, WI\, 53511\, United States
END:VEVENT
BEGIN:VEVENT
DTSTART;TZID=America/Chicago:20250522T164500
DTEND;TZID=America/Chicago:20250522T183000
DTSTAMP:20260424T075041
CREATED:20250413T174846Z
LAST-MODIFIED:20250413T175251Z
UID:10012621-1747932300-1747938600@www.beloitrifleclub.org
SUMMARY:Smallbore Silhouette Practice
DESCRIPTION:NRA Smallbore Rifle Silhouette\n1 practice match (40 shots) \nPractice is open to club members and public.\nJunior shooters need to be accompanied by an adult.\nSetup starts approximately 4:45 PM shooting starts approximately 5:00 PM\nShooters will be required to reset targets between animals. \nWhat to bring:\nEye and ear protection\nEmpty chamber indicator(ECI). A limited number of ECI’s are available at the range.\n50+ rounds of ammunition. Please use only 22 short/long or long rifle; no magnum or stinger rounds. \nSilhouette Discipline page…\n\n  \n  \n 
URL:https://www.beloitrifleclub.org/event/smallbore-silhouette-practice/2025-05-22/
LOCATION:BRC Silhouette Range\, 851 E Philhower Road\, Beloit\, WI\, 53511\, United States
END:VEVENT
BEGIN:VEVENT
DTSTART;TZID=America/Chicago:20250515T164500
DTEND;TZID=America/Chicago:20250515T183000
DTSTAMP:20260424T075041
CREATED:20250413T174846Z
LAST-MODIFIED:20250413T175251Z
UID:10012620-1747327500-1747333800@www.beloitrifleclub.org
SUMMARY:Smallbore Silhouette Practice
DESCRIPTION:NRA Smallbore Rifle Silhouette\n1 practice match (40 shots) \nPractice is open to club members and public.\nJunior shooters need to be accompanied by an adult.\nSetup starts approximately 4:45 PM shooting starts approximately 5:00 PM\nShooters will be required to reset targets between animals. \nWhat to bring:\nEye and ear protection\nEmpty chamber indicator(ECI). A limited number of ECI’s are available at the range.\n50+ rounds of ammunition. Please use only 22 short/long or long rifle; no magnum or stinger rounds. \nSilhouette Discipline page…\n\n  \n  \n 
URL:https://www.beloitrifleclub.org/event/smallbore-silhouette-practice/2025-05-15/
LOCATION:BRC Silhouette Range\, 851 E Philhower Road\, Beloit\, WI\, 53511\, United States
END:VEVENT
BEGIN:VEVENT
DTSTART;TZID=America/Chicago:20250508T164500
DTEND;TZID=America/Chicago:20250508T183000
DTSTAMP:20260424T075041
CREATED:20250413T174846Z
LAST-MODIFIED:20250413T175251Z
UID:10012619-1746722700-1746729000@www.beloitrifleclub.org
SUMMARY:Smallbore Silhouette Practice
DESCRIPTION:NRA Smallbore Rifle Silhouette\n1 practice match (40 shots) \nPractice is open to club members and public.\nJunior shooters need to be accompanied by an adult.\nSetup starts approximately 4:45 PM shooting starts approximately 5:00 PM\nShooters will be required to reset targets between animals. \nWhat to bring:\nEye and ear protection\nEmpty chamber indicator(ECI). A limited number of ECI’s are available at the range.\n50+ rounds of ammunition. Please use only 22 short/long or long rifle; no magnum or stinger rounds. \nSilhouette Discipline page…\n\n  \n  \n 
URL:https://www.beloitrifleclub.org/event/smallbore-silhouette-practice/2025-05-08/
LOCATION:BRC Silhouette Range\, 851 E Philhower Road\, Beloit\, WI\, 53511\, United States
END:VEVENT
BEGIN:VEVENT
DTSTART;TZID=America/Chicago:20250501T164500
DTEND;TZID=America/Chicago:20250501T183000
DTSTAMP:20260424T075041
CREATED:20250413T174846Z
LAST-MODIFIED:20250413T175251Z
UID:10012618-1746117900-1746124200@www.beloitrifleclub.org
SUMMARY:Smallbore Silhouette Practice
DESCRIPTION:NRA Smallbore Rifle Silhouette\n1 practice match (40 shots) \nPractice is open to club members and public.\nJunior shooters need to be accompanied by an adult.\nSetup starts approximately 4:45 PM shooting starts approximately 5:00 PM\nShooters will be required to reset targets between animals. \nWhat to bring:\nEye and ear protection\nEmpty chamber indicator(ECI). A limited number of ECI’s are available at the range.\n50+ rounds of ammunition. Please use only 22 short/long or long rifle; no magnum or stinger rounds. \nSilhouette Discipline page…\n\n  \n  \n 
URL:https://www.beloitrifleclub.org/event/smallbore-silhouette-practice/2025-05-01/
LOCATION:BRC Silhouette Range\, 851 E Philhower Road\, Beloit\, WI\, 53511\, United States
END:VEVENT
BEGIN:VEVENT
DTSTART;TZID=America/Chicago:20240810T070000
DTEND;TZID=America/Chicago:20240810T110000
DTSTAMP:20260424T075041
CREATED:20240807T042725Z
LAST-MODIFIED:20240807T042725Z
UID:10012089-1723273200-1723287600@www.beloitrifleclub.org
SUMMARY:3 Ranges Closed
DESCRIPTION:The Silhouette Range\, Outdoor Pistol Range and Trap Range will be closed \nSaturday morning August 10th from 7:00 am to 11:00 am \nWe are having the tree removed from the Silhouette Range cover and will be hauling the brush to behind the Pistol Range. \nThe ranges will be opened up as soon as the work is completed.
URL:https://www.beloitrifleclub.org/event/3-ranges-closed/
LOCATION:BRC Silhouette Range\, 851 E Philhower Road\, Beloit\, WI\, 53511\, United States
END:VEVENT
END:VCALENDAR