BEGIN:VCALENDAR
VERSION:2.0
PRODID:-//Beloit Rifle Club - ECPv6.15.17.1//NONSGML v1.0//EN
CALSCALE:GREGORIAN
METHOD:PUBLISH
X-ORIGINAL-URL:https://www.beloitrifleclub.org
X-WR-CALDESC:Events for Beloit Rifle Club
REFRESH-INTERVAL;VALUE=DURATION:PT1H
X-Robots-Tag:noindex
X-PUBLISHED-TTL:PT1H
BEGIN:VTIMEZONE
TZID:America/Chicago
BEGIN:DAYLIGHT
TZOFFSETFROM:-0600
TZOFFSETTO:-0500
TZNAME:CDT
DTSTART:20250309T080000
END:DAYLIGHT
BEGIN:STANDARD
TZOFFSETFROM:-0500
TZOFFSETTO:-0600
TZNAME:CST
DTSTART:20251102T070000
END:STANDARD
BEGIN:DAYLIGHT
TZOFFSETFROM:-0600
TZOFFSETTO:-0500
TZNAME:CDT
DTSTART:20260308T080000
END:DAYLIGHT
BEGIN:STANDARD
TZOFFSETFROM:-0500
TZOFFSETTO:-0600
TZNAME:CST
DTSTART:20261101T070000
END:STANDARD
BEGIN:DAYLIGHT
TZOFFSETFROM:-0600
TZOFFSETTO:-0500
TZNAME:CDT
DTSTART:20270314T080000
END:DAYLIGHT
BEGIN:STANDARD
TZOFFSETFROM:-0500
TZOFFSETTO:-0600
TZNAME:CST
DTSTART:20271107T070000
END:STANDARD
END:VTIMEZONE
BEGIN:VEVENT
DTSTART;TZID=America/Chicago:20260428T150000
DTEND;TZID=America/Chicago:20260428T180000
DTSTAMP:20260424T032421
CREATED:20250527T103539Z
LAST-MODIFIED:20251019T155852Z
UID:10012723-1777388400-1777399200@www.beloitrifleclub.org
SUMMARY:Precision Pistol Indoor Practice
DESCRIPTION:Start:  3:00 PM \nEnd:  6:00 PM
URL:https://www.beloitrifleclub.org/event/precision-pistol-outdoor-match-2/2026-04-28/
LOCATION:BRC Outdoor Pistol Range
GEO:42.569205083441;-89.0255173714
END:VEVENT
BEGIN:VEVENT
DTSTART;TZID=America/Chicago:20260502T080000
DTEND;TZID=America/Chicago:20260502T163000
DTSTAMP:20260424T032421
CREATED:20260423T102519Z
LAST-MODIFIED:20260423T102724Z
UID:10013493-1777708800-1777739400@www.beloitrifleclub.org
SUMMARY:Cub Scout Shoot
DESCRIPTION:Venue/Location Desctiption\n\n\n \nBlack Powder & Outdoor Pistol Range
URL:https://www.beloitrifleclub.org/event/cub-scout-shoot/
LOCATION:BRC Outdoor Pistol Range
ORGANIZER;CN="Kirt Byerley":MAILTO:kbyerley@indianvalley.com
GEO:42.569205083441;-89.0255173714
END:VEVENT
BEGIN:VEVENT
DTSTART;TZID=America/Chicago:20260505T150000
DTEND;TZID=America/Chicago:20260505T180000
DTSTAMP:20260424T032421
CREATED:20250527T103539Z
LAST-MODIFIED:20251019T155852Z
UID:10012724-1777993200-1778004000@www.beloitrifleclub.org
SUMMARY:Precision Pistol Indoor Practice
DESCRIPTION:Start:  3:00 PM \nEnd:  6:00 PM
URL:https://www.beloitrifleclub.org/event/precision-pistol-outdoor-match-2/2026-05-05/
LOCATION:BRC Outdoor Pistol Range
GEO:42.569205083441;-89.0255173714
END:VEVENT
BEGIN:VEVENT
DTSTART;TZID=America/Chicago:20260512T150000
DTEND;TZID=America/Chicago:20260512T180000
DTSTAMP:20260424T032421
CREATED:20250527T103539Z
LAST-MODIFIED:20251019T155852Z
UID:10012725-1778598000-1778608800@www.beloitrifleclub.org
SUMMARY:Precision Pistol Indoor Practice
DESCRIPTION:Start:  3:00 PM \nEnd:  6:00 PM
URL:https://www.beloitrifleclub.org/event/precision-pistol-outdoor-match-2/2026-05-12/
LOCATION:BRC Outdoor Pistol Range
GEO:42.569205083441;-89.0255173714
END:VEVENT
BEGIN:VEVENT
DTSTART;TZID=America/Chicago:20260519T150000
DTEND;TZID=America/Chicago:20260519T180000
DTSTAMP:20260424T032421
CREATED:20250527T103539Z
LAST-MODIFIED:20251019T155852Z
UID:10012726-1779202800-1779213600@www.beloitrifleclub.org
SUMMARY:Precision Pistol Indoor Practice
DESCRIPTION:Start:  3:00 PM \nEnd:  6:00 PM
URL:https://www.beloitrifleclub.org/event/precision-pistol-outdoor-match-2/2026-05-19/
LOCATION:BRC Outdoor Pistol Range
GEO:42.569205083441;-89.0255173714
END:VEVENT
BEGIN:VEVENT
DTSTART;TZID=America/Chicago:20260526T150000
DTEND;TZID=America/Chicago:20260526T180000
DTSTAMP:20260424T032421
CREATED:20250527T103539Z
LAST-MODIFIED:20251019T155852Z
UID:10012727-1779807600-1779818400@www.beloitrifleclub.org
SUMMARY:Precision Pistol Indoor Practice
DESCRIPTION:Start:  3:00 PM \nEnd:  6:00 PM
URL:https://www.beloitrifleclub.org/event/precision-pistol-outdoor-match-2/2026-05-26/
LOCATION:BRC Outdoor Pistol Range
GEO:42.569205083441;-89.0255173714
END:VEVENT
BEGIN:VEVENT
DTSTART;TZID=America/Chicago:20260602T150000
DTEND;TZID=America/Chicago:20260602T180000
DTSTAMP:20260424T032421
CREATED:20250527T103539Z
LAST-MODIFIED:20251019T155852Z
UID:10012728-1780412400-1780423200@www.beloitrifleclub.org
SUMMARY:Precision Pistol Indoor Practice
DESCRIPTION:Start:  3:00 PM \nEnd:  6:00 PM
URL:https://www.beloitrifleclub.org/event/precision-pistol-outdoor-match-2/2026-06-02/
LOCATION:BRC Outdoor Pistol Range
GEO:42.569205083441;-89.0255173714
END:VEVENT
BEGIN:VEVENT
DTSTART;TZID=America/Chicago:20260609T150000
DTEND;TZID=America/Chicago:20260609T180000
DTSTAMP:20260424T032421
CREATED:20250527T103539Z
LAST-MODIFIED:20251019T155852Z
UID:10012729-1781017200-1781028000@www.beloitrifleclub.org
SUMMARY:Precision Pistol Indoor Practice
DESCRIPTION:Start:  3:00 PM \nEnd:  6:00 PM
URL:https://www.beloitrifleclub.org/event/precision-pistol-outdoor-match-2/2026-06-09/
LOCATION:BRC Outdoor Pistol Range
GEO:42.569205083441;-89.0255173714
END:VEVENT
BEGIN:VEVENT
DTSTART;TZID=America/Chicago:20260613T090000
DTEND;TZID=America/Chicago:20260613T180000
DTSTAMP:20260424T032421
CREATED:20220608T235614Z
LAST-MODIFIED:20260402T004331Z
UID:10013479-1781341200-1781373600@www.beloitrifleclub.org
SUMMARY:Spring Pistol Warm Up Match
DESCRIPTION:1 Relay starts at 9 am\n270 shots/2700 available points \nEIC following the conclusion of the 2700.  Start time: 3 pm. \nRob Kovach is needing help running the pistol match from 7am to 4pm.  Please contact him at kovach_robert@hotmail.com if you can help out!   \n 
URL:https://www.beloitrifleclub.org/event/spring-pistol-warm-up-match/2026-06-13/
LOCATION:BRC Outdoor Pistol Range
ORGANIZER;CN="Rob Kovach":MAILTO:Kovach_robert@hotmail.com
GEO:42.569205083441;-89.0255173714
END:VEVENT
BEGIN:VEVENT
DTSTART;TZID=America/Chicago:20260614T090000
DTEND;TZID=America/Chicago:20260614T180000
DTSTAMP:20260424T032421
CREATED:20220608T235614Z
LAST-MODIFIED:20260402T004331Z
UID:10013480-1781427600-1781460000@www.beloitrifleclub.org
SUMMARY:Spring Pistol Warm Up Match
DESCRIPTION:1 Relay starts at 9 am\n270 shots/2700 available points \nEIC following the conclusion of the 2700.  Start time: 3 pm. \nRob Kovach is needing help running the pistol match from 7am to 4pm.  Please contact him at kovach_robert@hotmail.com if you can help out!   \n 
URL:https://www.beloitrifleclub.org/event/spring-pistol-warm-up-match/2026-06-14/
LOCATION:BRC Outdoor Pistol Range
ORGANIZER;CN="Rob Kovach":MAILTO:Kovach_robert@hotmail.com
GEO:42.569205083441;-89.0255173714
END:VEVENT
BEGIN:VEVENT
DTSTART;TZID=America/Chicago:20260616T150000
DTEND;TZID=America/Chicago:20260616T180000
DTSTAMP:20260424T032421
CREATED:20250527T103539Z
LAST-MODIFIED:20251019T155852Z
UID:10012730-1781622000-1781632800@www.beloitrifleclub.org
SUMMARY:Precision Pistol Indoor Practice
DESCRIPTION:Start:  3:00 PM \nEnd:  6:00 PM
URL:https://www.beloitrifleclub.org/event/precision-pistol-outdoor-match-2/2026-06-16/
LOCATION:BRC Outdoor Pistol Range
GEO:42.569205083441;-89.0255173714
END:VEVENT
BEGIN:VEVENT
DTSTART;TZID=America/Chicago:20260623T150000
DTEND;TZID=America/Chicago:20260623T180000
DTSTAMP:20260424T032421
CREATED:20250527T103539Z
LAST-MODIFIED:20251019T155852Z
UID:10012731-1782226800-1782237600@www.beloitrifleclub.org
SUMMARY:Precision Pistol Indoor Practice
DESCRIPTION:Start:  3:00 PM \nEnd:  6:00 PM
URL:https://www.beloitrifleclub.org/event/precision-pistol-outdoor-match-2/2026-06-23/
LOCATION:BRC Outdoor Pistol Range
GEO:42.569205083441;-89.0255173714
END:VEVENT
BEGIN:VEVENT
DTSTART;TZID=America/Chicago:20260630T150000
DTEND;TZID=America/Chicago:20260630T180000
DTSTAMP:20260424T032421
CREATED:20250527T103539Z
LAST-MODIFIED:20251019T155852Z
UID:10012732-1782831600-1782842400@www.beloitrifleclub.org
SUMMARY:Precision Pistol Indoor Practice
DESCRIPTION:Start:  3:00 PM \nEnd:  6:00 PM
URL:https://www.beloitrifleclub.org/event/precision-pistol-outdoor-match-2/2026-06-30/
LOCATION:BRC Outdoor Pistol Range
GEO:42.569205083441;-89.0255173714
END:VEVENT
BEGIN:VEVENT
DTSTART;TZID=America/Chicago:20260707T150000
DTEND;TZID=America/Chicago:20260707T180000
DTSTAMP:20260424T032421
CREATED:20250527T103539Z
LAST-MODIFIED:20251019T155852Z
UID:10012733-1783436400-1783447200@www.beloitrifleclub.org
SUMMARY:Precision Pistol Indoor Practice
DESCRIPTION:Start:  3:00 PM \nEnd:  6:00 PM
URL:https://www.beloitrifleclub.org/event/precision-pistol-outdoor-match-2/2026-07-07/
LOCATION:BRC Outdoor Pistol Range
GEO:42.569205083441;-89.0255173714
END:VEVENT
BEGIN:VEVENT
DTSTART;TZID=America/Chicago:20260714T150000
DTEND;TZID=America/Chicago:20260714T180000
DTSTAMP:20260424T032421
CREATED:20250527T103539Z
LAST-MODIFIED:20251019T155852Z
UID:10012734-1784041200-1784052000@www.beloitrifleclub.org
SUMMARY:Precision Pistol Indoor Practice
DESCRIPTION:Start:  3:00 PM \nEnd:  6:00 PM
URL:https://www.beloitrifleclub.org/event/precision-pistol-outdoor-match-2/2026-07-14/
LOCATION:BRC Outdoor Pistol Range
GEO:42.569205083441;-89.0255173714
END:VEVENT
BEGIN:VEVENT
DTSTART;TZID=America/Chicago:20260721T150000
DTEND;TZID=America/Chicago:20260721T180000
DTSTAMP:20260424T032421
CREATED:20250527T103539Z
LAST-MODIFIED:20251019T155852Z
UID:10012735-1784646000-1784656800@www.beloitrifleclub.org
SUMMARY:Precision Pistol Indoor Practice
DESCRIPTION:Start:  3:00 PM \nEnd:  6:00 PM
URL:https://www.beloitrifleclub.org/event/precision-pistol-outdoor-match-2/2026-07-21/
LOCATION:BRC Outdoor Pistol Range
GEO:42.569205083441;-89.0255173714
END:VEVENT
BEGIN:VEVENT
DTSTART;TZID=America/Chicago:20260728T150000
DTEND;TZID=America/Chicago:20260728T180000
DTSTAMP:20260424T032421
CREATED:20250527T103539Z
LAST-MODIFIED:20251019T155852Z
UID:10012736-1785250800-1785261600@www.beloitrifleclub.org
SUMMARY:Precision Pistol Indoor Practice
DESCRIPTION:Start:  3:00 PM \nEnd:  6:00 PM
URL:https://www.beloitrifleclub.org/event/precision-pistol-outdoor-match-2/2026-07-28/
LOCATION:BRC Outdoor Pistol Range
GEO:42.569205083441;-89.0255173714
END:VEVENT
BEGIN:VEVENT
DTSTART;TZID=America/Chicago:20260804T150000
DTEND;TZID=America/Chicago:20260804T180000
DTSTAMP:20260424T032421
CREATED:20250527T103539Z
LAST-MODIFIED:20251019T155852Z
UID:10012737-1785855600-1785866400@www.beloitrifleclub.org
SUMMARY:Precision Pistol Indoor Practice
DESCRIPTION:Start:  3:00 PM \nEnd:  6:00 PM
URL:https://www.beloitrifleclub.org/event/precision-pistol-outdoor-match-2/2026-08-04/
LOCATION:BRC Outdoor Pistol Range
GEO:42.569205083441;-89.0255173714
END:VEVENT
BEGIN:VEVENT
DTSTART;TZID=America/Chicago:20260811T150000
DTEND;TZID=America/Chicago:20260811T180000
DTSTAMP:20260424T032421
CREATED:20250527T103539Z
LAST-MODIFIED:20251019T155852Z
UID:10012738-1786460400-1786471200@www.beloitrifleclub.org
SUMMARY:Precision Pistol Indoor Practice
DESCRIPTION:Start:  3:00 PM \nEnd:  6:00 PM
URL:https://www.beloitrifleclub.org/event/precision-pistol-outdoor-match-2/2026-08-11/
LOCATION:BRC Outdoor Pistol Range
GEO:42.569205083441;-89.0255173714
END:VEVENT
BEGIN:VEVENT
DTSTART;TZID=America/Chicago:20260818T150000
DTEND;TZID=America/Chicago:20260818T180000
DTSTAMP:20260424T032421
CREATED:20250527T103539Z
LAST-MODIFIED:20251019T155852Z
UID:10012739-1787065200-1787076000@www.beloitrifleclub.org
SUMMARY:Precision Pistol Indoor Practice
DESCRIPTION:Start:  3:00 PM \nEnd:  6:00 PM
URL:https://www.beloitrifleclub.org/event/precision-pistol-outdoor-match-2/2026-08-18/
LOCATION:BRC Outdoor Pistol Range
GEO:42.569205083441;-89.0255173714
END:VEVENT
BEGIN:VEVENT
DTSTART;TZID=America/Chicago:20260825T150000
DTEND;TZID=America/Chicago:20260825T180000
DTSTAMP:20260424T032421
CREATED:20250527T103539Z
LAST-MODIFIED:20251019T155852Z
UID:10012740-1787670000-1787680800@www.beloitrifleclub.org
SUMMARY:Precision Pistol Indoor Practice
DESCRIPTION:Start:  3:00 PM \nEnd:  6:00 PM
URL:https://www.beloitrifleclub.org/event/precision-pistol-outdoor-match-2/2026-08-25/
LOCATION:BRC Outdoor Pistol Range
GEO:42.569205083441;-89.0255173714
END:VEVENT
BEGIN:VEVENT
DTSTART;TZID=America/Chicago:20260901T150000
DTEND;TZID=America/Chicago:20260901T180000
DTSTAMP:20260424T032421
CREATED:20250527T103539Z
LAST-MODIFIED:20251019T155852Z
UID:10012741-1788274800-1788285600@www.beloitrifleclub.org
SUMMARY:Precision Pistol Indoor Practice
DESCRIPTION:Start:  3:00 PM \nEnd:  6:00 PM
URL:https://www.beloitrifleclub.org/event/precision-pistol-outdoor-match-2/2026-09-01/
LOCATION:BRC Outdoor Pistol Range
GEO:42.569205083441;-89.0255173714
END:VEVENT
BEGIN:VEVENT
DTSTART;TZID=America/Chicago:20260908T150000
DTEND;TZID=America/Chicago:20260908T180000
DTSTAMP:20260424T032421
CREATED:20250527T103539Z
LAST-MODIFIED:20251019T155852Z
UID:10012742-1788879600-1788890400@www.beloitrifleclub.org
SUMMARY:Precision Pistol Indoor Practice
DESCRIPTION:Start:  3:00 PM \nEnd:  6:00 PM
URL:https://www.beloitrifleclub.org/event/precision-pistol-outdoor-match-2/2026-09-08/
LOCATION:BRC Outdoor Pistol Range
GEO:42.569205083441;-89.0255173714
END:VEVENT
BEGIN:VEVENT
DTSTART;TZID=America/Chicago:20260915T150000
DTEND;TZID=America/Chicago:20260915T180000
DTSTAMP:20260424T032421
CREATED:20250527T103539Z
LAST-MODIFIED:20251019T155852Z
UID:10012743-1789484400-1789495200@www.beloitrifleclub.org
SUMMARY:Precision Pistol Indoor Practice
DESCRIPTION:Start:  3:00 PM \nEnd:  6:00 PM
URL:https://www.beloitrifleclub.org/event/precision-pistol-outdoor-match-2/2026-09-15/
LOCATION:BRC Outdoor Pistol Range
GEO:42.569205083441;-89.0255173714
END:VEVENT
END:VCALENDAR