BEGIN:VCALENDAR
VERSION:2.0
PRODID:-//Beloit Rifle Club - ECPv6.15.17.1//NONSGML v1.0//EN
CALSCALE:GREGORIAN
METHOD:PUBLISH
X-ORIGINAL-URL:https://www.beloitrifleclub.org
X-WR-CALDESC:Events for Beloit Rifle Club
REFRESH-INTERVAL;VALUE=DURATION:PT1H
X-Robots-Tag:noindex
X-PUBLISHED-TTL:PT1H
BEGIN:VTIMEZONE
TZID:America/Chicago
BEGIN:DAYLIGHT
TZOFFSETFROM:-0600
TZOFFSETTO:-0500
TZNAME:CDT
DTSTART:20250309T080000
END:DAYLIGHT
BEGIN:STANDARD
TZOFFSETFROM:-0500
TZOFFSETTO:-0600
TZNAME:CST
DTSTART:20251102T070000
END:STANDARD
BEGIN:DAYLIGHT
TZOFFSETFROM:-0600
TZOFFSETTO:-0500
TZNAME:CDT
DTSTART:20260308T080000
END:DAYLIGHT
BEGIN:STANDARD
TZOFFSETFROM:-0500
TZOFFSETTO:-0600
TZNAME:CST
DTSTART:20261101T070000
END:STANDARD
BEGIN:DAYLIGHT
TZOFFSETFROM:-0600
TZOFFSETTO:-0500
TZNAME:CDT
DTSTART:20270314T080000
END:DAYLIGHT
BEGIN:STANDARD
TZOFFSETFROM:-0500
TZOFFSETTO:-0600
TZNAME:CST
DTSTART:20271107T070000
END:STANDARD
END:VTIMEZONE
BEGIN:VEVENT
DTSTART;TZID=America/Chicago:20260509T070000
DTEND;TZID=America/Chicago:20260509T150000
DTSTAMP:20260425T062451
CREATED:20260424T210200Z
LAST-MODIFIED:20260424T210252Z
UID:10013496-1778310000-1778338800@www.beloitrifleclub.org
SUMMARY:NRL22/PRO Precision .22 Match
DESCRIPTION:Match will be held on the NW Event Range. \n\nBRC NRL22/PRO Series May 2026\n\n\n\nRegistration opens on: May 01\, 2026 @ 5:00 PM · Registration closes on: May 09\, 2026 @ 12:00 AM\nTimes are local to America/Chicago timezone. \nMatch starts: May 09\, 2026 @ 9:00 AM · Match ends: May 09\, 2026 @ 3:00 PM \nLocation:\n851 E. Philhower Road\nBeloit\, Wisconsin 53511 \nNRL22/PRO Series monthly match. Follow BRC Precision Rimfire on Facebook for updates! \n9am Registration and Sight-In\nMatch Starts at 10am\nWe are planning to run the 5 NRL stages and 2 side stages\, for a total of 7. \nView squadding \nCost is $10 for BRC members\, $20.00 for non-members.
URL:https://www.beloitrifleclub.org/event/nrl22-pro-precision-22-match-2/
LOCATION:BRC NW Event Range\, 851 E. Philhower Rd.\, Beloit\, WI\, United States
GEO:42.5712949;-89.027621
X-APPLE-STRUCTURED-LOCATION;VALUE=URI;X-ADDRESS=BRC NW Event Range 851 E. Philhower Rd. Beloit WI United States;X-APPLE-RADIUS=500;X-TITLE=851 E. Philhower Rd.:geo:-89.027621,42.5712949
END:VEVENT
END:VCALENDAR