BEGIN:VCALENDAR
VERSION:2.0
PRODID:-//Beloit Rifle Club - ECPv6.15.17.1//NONSGML v1.0//EN
CALSCALE:GREGORIAN
METHOD:PUBLISH
X-ORIGINAL-URL:https://www.beloitrifleclub.org
X-WR-CALDESC:Events for Beloit Rifle Club
REFRESH-INTERVAL;VALUE=DURATION:PT1H
X-Robots-Tag:noindex
X-PUBLISHED-TTL:PT1H
BEGIN:VTIMEZONE
TZID:America/Chicago
BEGIN:DAYLIGHT
TZOFFSETFROM:-0600
TZOFFSETTO:-0500
TZNAME:CDT
DTSTART:20230312T080000
END:DAYLIGHT
BEGIN:STANDARD
TZOFFSETFROM:-0500
TZOFFSETTO:-0600
TZNAME:CST
DTSTART:20231105T070000
END:STANDARD
BEGIN:DAYLIGHT
TZOFFSETFROM:-0600
TZOFFSETTO:-0500
TZNAME:CDT
DTSTART:20240310T080000
END:DAYLIGHT
BEGIN:STANDARD
TZOFFSETFROM:-0500
TZOFFSETTO:-0600
TZNAME:CST
DTSTART:20241103T070000
END:STANDARD
BEGIN:DAYLIGHT
TZOFFSETFROM:-0600
TZOFFSETTO:-0500
TZNAME:CDT
DTSTART:20250309T080000
END:DAYLIGHT
BEGIN:STANDARD
TZOFFSETFROM:-0500
TZOFFSETTO:-0600
TZNAME:CST
DTSTART:20251102T070000
END:STANDARD
BEGIN:DAYLIGHT
TZOFFSETFROM:-0600
TZOFFSETTO:-0500
TZNAME:CDT
DTSTART:20260308T080000
END:DAYLIGHT
BEGIN:STANDARD
TZOFFSETFROM:-0500
TZOFFSETTO:-0600
TZNAME:CST
DTSTART:20261101T070000
END:STANDARD
END:VTIMEZONE
BEGIN:VEVENT
DTSTART;TZID=America/Chicago:20250921T080000
DTEND;TZID=America/Chicago:20250921T100000
DTSTAMP:20260425T081131
CREATED:20240211T162100Z
LAST-MODIFIED:20250917T221550Z
UID:10012587-1758441600-1758448800@www.beloitrifleclub.org
SUMMARY:Small Bore F Class - 22LR Competition
DESCRIPTION:Small Bore F Class is a fun and challenging 22lr competition. \n\nSign up starts at 8:00am\nShooting starts about 8:30am at the back 100yd range.\n\nThe course is two strings of fire with 20 rounds (40 rounds total) for record with unlimited sighters for each string in twenty minutes. \nSmall Bore F class is shot on “A-33” targets. \nSmall Bore is shot from a prone position using a front rest\, bi-pod or sling. \nShooters unable to get into prone can. shoot off a bench. \nCost is $5.00 for members and $10.00 for non members. \nYoung shooters are welcome with the following requirements: \n\nThey must have proof of completing a Shooters Safety Course.\nMinors must have a parent present to supervise them.
URL:https://www.beloitrifleclub.org/event/small-bore-f-class-22lr-competition/2025-09-21/
LOCATION:BRC Back 100 yrd Range\, 851 E Philhower Road\, Beloit\, WI\, 53511\, United States
ORGANIZER;CN="Don Miller":MAILTO:millstone55@yahoo.com
END:VEVENT
BEGIN:VEVENT
DTSTART;TZID=America/Chicago:20250907T080000
DTEND;TZID=America/Chicago:20250907T130000
DTSTAMP:20260425T081131
CREATED:20240421T145853Z
LAST-MODIFIED:20250318T040410Z
UID:10012603-1757232000-1757250000@www.beloitrifleclub.org
SUMMARY:High Power Rifle Match Reduced Course
DESCRIPTION:HIGH POWER RIFLE 500 POINT MATCH 100 YARD REDUCED COURSE \nSignup starts at 7:30am.\n\nDownload Details
URL:https://www.beloitrifleclub.org/event/high-power-rifle-match/2025-09-07/
LOCATION:BRC Back 100 yrd Range\, 851 E Philhower Road\, Beloit\, WI\, 53511\, United States
ORGANIZER;CN="Dave Fatino":MAILTO:davefM14@gmail.com
END:VEVENT
BEGIN:VEVENT
DTSTART;TZID=America/Chicago:20250817T080000
DTEND;TZID=America/Chicago:20250817T100000
DTSTAMP:20260425T081131
CREATED:20240211T162100Z
LAST-MODIFIED:20250917T221550Z
UID:10012586-1755417600-1755424800@www.beloitrifleclub.org
SUMMARY:Small Bore F Class - 22LR Competition
DESCRIPTION:Small Bore F Class is a fun and challenging 22lr competition. \n\nSign up starts at 8:00am\nShooting starts about 8:30am at the back 100yd range.\n\nThe course is two strings of fire with 20 rounds (40 rounds total) for record with unlimited sighters for each string in twenty minutes. \nSmall Bore F class is shot on “A-33” targets. \nSmall Bore is shot from a prone position using a front rest\, bi-pod or sling. \nShooters unable to get into prone can. shoot off a bench. \nCost is $5.00 for members and $10.00 for non members. \nYoung shooters are welcome with the following requirements: \n\nThey must have proof of completing a Shooters Safety Course.\nMinors must have a parent present to supervise them.
URL:https://www.beloitrifleclub.org/event/small-bore-f-class-22lr-competition/2025-08-17/
LOCATION:BRC Back 100 yrd Range\, 851 E Philhower Road\, Beloit\, WI\, 53511\, United States
ORGANIZER;CN="Don Miller":MAILTO:millstone55@yahoo.com
END:VEVENT
BEGIN:VEVENT
DTSTART;TZID=America/Chicago:20250810T080000
DTEND;TZID=America/Chicago:20250810T130000
DTSTAMP:20260425T081131
CREATED:20240421T145853Z
LAST-MODIFIED:20250318T040410Z
UID:10012604-1754812800-1754830800@www.beloitrifleclub.org
SUMMARY:High Power Rifle Match Reduced Course
DESCRIPTION:HIGH POWER RIFLE 500 POINT MATCH 100 YARD REDUCED COURSE \nSignup starts at 7:30am.\n\nDownload Details
URL:https://www.beloitrifleclub.org/event/high-power-rifle-match/2025-08-10/
LOCATION:BRC Back 100 yrd Range\, 851 E Philhower Road\, Beloit\, WI\, 53511\, United States
ORGANIZER;CN="Dave Fatino":MAILTO:davefM14@gmail.com
END:VEVENT
BEGIN:VEVENT
DTSTART;TZID=America/Chicago:20250720T080000
DTEND;TZID=America/Chicago:20250720T100000
DTSTAMP:20260425T081131
CREATED:20240211T162100Z
LAST-MODIFIED:20250917T221550Z
UID:10012585-1752998400-1753005600@www.beloitrifleclub.org
SUMMARY:Small Bore F Class - 22LR Competition
DESCRIPTION:Small Bore F Class is a fun and challenging 22lr competition. \n\nSign up starts at 8:00am\nShooting starts about 8:30am at the back 100yd range.\n\nThe course is two strings of fire with 20 rounds (40 rounds total) for record with unlimited sighters for each string in twenty minutes. \nSmall Bore F class is shot on “A-33” targets. \nSmall Bore is shot from a prone position using a front rest\, bi-pod or sling. \nShooters unable to get into prone can. shoot off a bench. \nCost is $5.00 for members and $10.00 for non members. \nYoung shooters are welcome with the following requirements: \n\nThey must have proof of completing a Shooters Safety Course.\nMinors must have a parent present to supervise them.
URL:https://www.beloitrifleclub.org/event/small-bore-f-class-22lr-competition/2025-07-20/
LOCATION:BRC Back 100 yrd Range\, 851 E Philhower Road\, Beloit\, WI\, 53511\, United States
ORGANIZER;CN="Don Miller":MAILTO:millstone55@yahoo.com
END:VEVENT
BEGIN:VEVENT
DTSTART;TZID=America/Chicago:20250615T080000
DTEND;TZID=America/Chicago:20250615T130000
DTSTAMP:20260425T081131
CREATED:20240421T145853Z
LAST-MODIFIED:20250318T040410Z
UID:10012602-1749974400-1749992400@www.beloitrifleclub.org
SUMMARY:High Power Rifle Match Reduced Course
DESCRIPTION:HIGH POWER RIFLE 500 POINT MATCH 100 YARD REDUCED COURSE \nSignup starts at 7:30am.\n\nDownload Details
URL:https://www.beloitrifleclub.org/event/high-power-rifle-match/2025-06-15/
LOCATION:BRC Back 100 yrd Range\, 851 E Philhower Road\, Beloit\, WI\, 53511\, United States
ORGANIZER;CN="Dave Fatino":MAILTO:davefM14@gmail.com
END:VEVENT
BEGIN:VEVENT
DTSTART;TZID=America/Chicago:20250518T080000
DTEND;TZID=America/Chicago:20250518T100000
DTSTAMP:20260425T081132
CREATED:20240211T162100Z
LAST-MODIFIED:20250917T221550Z
UID:10012584-1747555200-1747562400@www.beloitrifleclub.org
SUMMARY:Small Bore F Class - 22LR Competition
DESCRIPTION:Small Bore F Class is a fun and challenging 22lr competition. \n\nSign up starts at 8:00am\nShooting starts about 8:30am at the back 100yd range.\n\nThe course is two strings of fire with 20 rounds (40 rounds total) for record with unlimited sighters for each string in twenty minutes. \nSmall Bore F class is shot on “A-33” targets. \nSmall Bore is shot from a prone position using a front rest\, bi-pod or sling. \nShooters unable to get into prone can. shoot off a bench. \nCost is $5.00 for members and $10.00 for non members. \nYoung shooters are welcome with the following requirements: \n\nThey must have proof of completing a Shooters Safety Course.\nMinors must have a parent present to supervise them.
URL:https://www.beloitrifleclub.org/event/small-bore-f-class-22lr-competition/2025-05-18/
LOCATION:BRC Back 100 yrd Range\, 851 E Philhower Road\, Beloit\, WI\, 53511\, United States
ORGANIZER;CN="Don Miller":MAILTO:millstone55@yahoo.com
END:VEVENT
BEGIN:VEVENT
DTSTART;TZID=America/Chicago:20250511T080000
DTEND;TZID=America/Chicago:20250511T130000
DTSTAMP:20260425T081132
CREATED:20240421T145853Z
LAST-MODIFIED:20250318T040410Z
UID:10012601-1746950400-1746968400@www.beloitrifleclub.org
SUMMARY:High Power Rifle Match Reduced Course
DESCRIPTION:HIGH POWER RIFLE 500 POINT MATCH 100 YARD REDUCED COURSE \nSignup starts at 7:30am.\n\nDownload Details
URL:https://www.beloitrifleclub.org/event/high-power-rifle-match/2025-05-11/
LOCATION:BRC Back 100 yrd Range\, 851 E Philhower Road\, Beloit\, WI\, 53511\, United States
ORGANIZER;CN="Dave Fatino":MAILTO:davefM14@gmail.com
END:VEVENT
BEGIN:VEVENT
DTSTART;TZID=America/Chicago:20250420T080000
DTEND;TZID=America/Chicago:20250420T100000
DTSTAMP:20260425T081132
CREATED:20240211T162100Z
LAST-MODIFIED:20250917T221550Z
UID:10012583-1745136000-1745143200@www.beloitrifleclub.org
SUMMARY:Small Bore F Class - 22LR Competition
DESCRIPTION:Small Bore F Class is a fun and challenging 22lr competition. \n\nSign up starts at 8:00am\nShooting starts about 8:30am at the back 100yd range.\n\nThe course is two strings of fire with 20 rounds (40 rounds total) for record with unlimited sighters for each string in twenty minutes. \nSmall Bore F class is shot on “A-33” targets. \nSmall Bore is shot from a prone position using a front rest\, bi-pod or sling. \nShooters unable to get into prone can. shoot off a bench. \nCost is $5.00 for members and $10.00 for non members. \nYoung shooters are welcome with the following requirements: \n\nThey must have proof of completing a Shooters Safety Course.\nMinors must have a parent present to supervise them.
URL:https://www.beloitrifleclub.org/event/small-bore-f-class-22lr-competition/2025-04-20/
LOCATION:BRC Back 100 yrd Range\, 851 E Philhower Road\, Beloit\, WI\, 53511\, United States
ORGANIZER;CN="Don Miller":MAILTO:millstone55@yahoo.com
END:VEVENT
BEGIN:VEVENT
DTSTART;TZID=America/Chicago:20240615T080000
DTEND;TZID=America/Chicago:20240615T100000
DTSTAMP:20260425T081132
CREATED:20240211T162100Z
LAST-MODIFIED:20250917T221550Z
UID:10012582-1718438400-1718445600@www.beloitrifleclub.org
SUMMARY:Small Bore F Class - 22LR Competition
DESCRIPTION:Small Bore F Class is a fun and challenging 22lr competition. \n\nSign up starts at 8:00am\nShooting starts about 8:30am at the back 100yd range.\n\nThe course is two strings of fire with 20 rounds (40 rounds total) for record with unlimited sighters for each string in twenty minutes. \nSmall Bore F class is shot on “A-33” targets. \nSmall Bore is shot from a prone position using a front rest\, bi-pod or sling. \nShooters unable to get into prone can. shoot off a bench. \nCost is $5.00 for members and $10.00 for non members. \nYoung shooters are welcome with the following requirements: \n\nThey must have proof of completing a Shooters Safety Course.\nMinors must have a parent present to supervise them.
URL:https://www.beloitrifleclub.org/event/small-bore-f-class-22lr-competition/2024-06-15/
LOCATION:BRC Back 100 yrd Range\, 851 E Philhower Road\, Beloit\, WI\, 53511\, United States
ORGANIZER;CN="Don Miller":MAILTO:millstone55@yahoo.com
END:VEVENT
END:VCALENDAR