BEGIN:VCALENDAR
VERSION:2.0
PRODID:-//Beloit Rifle Club - ECPv6.15.17.1//NONSGML v1.0//EN
CALSCALE:GREGORIAN
METHOD:PUBLISH
X-ORIGINAL-URL:https://www.beloitrifleclub.org
X-WR-CALDESC:Events for Beloit Rifle Club
REFRESH-INTERVAL;VALUE=DURATION:PT1H
X-Robots-Tag:noindex
X-PUBLISHED-TTL:PT1H
BEGIN:VTIMEZONE
TZID:America/Chicago
BEGIN:DAYLIGHT
TZOFFSETFROM:-0600
TZOFFSETTO:-0500
TZNAME:CDT
DTSTART:20230312T080000
END:DAYLIGHT
BEGIN:STANDARD
TZOFFSETFROM:-0500
TZOFFSETTO:-0600
TZNAME:CST
DTSTART:20231105T070000
END:STANDARD
BEGIN:DAYLIGHT
TZOFFSETFROM:-0600
TZOFFSETTO:-0500
TZNAME:CDT
DTSTART:20240310T080000
END:DAYLIGHT
BEGIN:STANDARD
TZOFFSETFROM:-0500
TZOFFSETTO:-0600
TZNAME:CST
DTSTART:20241103T070000
END:STANDARD
BEGIN:DAYLIGHT
TZOFFSETFROM:-0600
TZOFFSETTO:-0500
TZNAME:CDT
DTSTART:20250309T080000
END:DAYLIGHT
BEGIN:STANDARD
TZOFFSETFROM:-0500
TZOFFSETTO:-0600
TZNAME:CST
DTSTART:20251102T070000
END:STANDARD
BEGIN:DAYLIGHT
TZOFFSETFROM:-0600
TZOFFSETTO:-0500
TZNAME:CDT
DTSTART:20260308T080000
END:DAYLIGHT
BEGIN:STANDARD
TZOFFSETFROM:-0500
TZOFFSETTO:-0600
TZNAME:CST
DTSTART:20261101T070000
END:STANDARD
BEGIN:DAYLIGHT
TZOFFSETFROM:-0600
TZOFFSETTO:-0500
TZNAME:CDT
DTSTART:20270314T080000
END:DAYLIGHT
BEGIN:STANDARD
TZOFFSETFROM:-0500
TZOFFSETTO:-0600
TZNAME:CST
DTSTART:20271107T070000
END:STANDARD
END:VTIMEZONE
BEGIN:VEVENT
DTSTART;TZID=America/Chicago:20260418T073000
DTEND;TZID=America/Chicago:20260418T140000
DTSTAMP:20260423T084025
CREATED:20241229T225651Z
LAST-MODIFIED:20260125T054555Z
UID:10013248-1776497400-1776520800@www.beloitrifleclub.org
SUMMARY:Rock River Regulator - Cowboy Action Shoot - Match
DESCRIPTION:We have Cowboy competitions every 1st and 3rd Saturday of the month. \nWe start registration at 7:30 and begin shooting at 9:00. \nWe shoot 5 fun and exciting stages each match followed lunch. We encourage you to come and see what it is all about. \nRemember your eye and ear protection.  \nBRC members if you are looking for work hours we are looking for help at the shoots. \nThe West Defensive Range will be shutdown for motor traffic until 2:00PM. If you want to use the Defensive range you will need to carry your gear down to the range. \n  \n\n\n\nDate\n    Start Time    \n    End Time    \nSpecial notes\n\n\n\n\nApril 4\, 2026\n7:30am\n2:00pm\nCowboy Match\n\n\nApril 18\, 2026\n7:30am\n2:00pm\nCowboy Match\n\n\nMay 2\, 2026\n7:30am\n2:00pm\nCowboy Match\n\n\nMay 16\, 2026\n7:30am\n2:00pm\nCowboy Match\n\n\nMay 30\, 2026 ???\n7:30am\n2:00pm\nWild Bunch Match     \n\n\nJune 6\, 2026\n7:30am\n2:00pm\nCowboy Match\n\n\nJuly 4\, 2026\n7:30 am\n2:00pm\nCowboy Match\n\n\nJuly 18\, 2026\n7:30am\n2:00pm\nCowboy Match\n\n\nAugust 1\, 2026\n7:30am\n2:00pm\nCowboy Match\n\n\nAugust 15\, 2026\n7:30am\n2:00pm\nCowboy Match\n\n\nAugust 29\, 2026 ???\n7:30am\n2:00pm\nWild Bunch Match     \n\n\nSeptember 5\, 2026\n7:30am\n2:00pm\nCowboy Match\n\n\nSeptember 19\, 2026\n7:30am\n2:00pm\nCowboy Match\n\n\nOctober 3\, 2026\n7:30am\n2:00pm\nCowboy Match\n\n\nOctober 17\, 2026\n7:30am\n2:00pm\nCowboy Match\n\n\nOctober 31\, 2026\n7:30am\n2:00pm\nCowboy Match\n\n\n\n\n\n\n\n\n\n\n\n\n\n\n\n \n  \n 
URL:https://www.beloitrifleclub.org/event/rock-river-regulator-cowboy/2026-04-18/
LOCATION:BRC Cowboy Range\, 951 E Philhower Road\, Beloit\, WI\, 53511\, United States
ATTACH;FMTTYPE=image/jpeg:https://www.beloitrifleclub.org/wp-content/uploads/2026/01/IMG_2469.jpeg
END:VEVENT
BEGIN:VEVENT
DTSTART;TZID=America/Chicago:20260411T073000
DTEND;TZID=America/Chicago:20260411T140000
DTSTAMP:20260423T084025
CREATED:20241230T000103Z
LAST-MODIFIED:20260125T055846Z
UID:10013263-1775892600-1775916000@www.beloitrifleclub.org
SUMMARY:Rock River Regulator - Cowboy Action Shoot - Wild Bunch
DESCRIPTION:  \n\nWe start registration at 7:30 and begin shooting at 9:00. \nWe shoot 5 fun and exciting stages each match followed lunch. We encourage you to come and see what it is all about. \nRemember your eye and ear protection.  \nBRC members if you are looking for work hours\, we are looking for help at the shoots. \nThe West Defensive Range will be shut down for motor traffic until 2:00PM. If you want to use the Defensive range\, you will need to carry your gear down to the range. \n  \n\n\n\nDate\n    Start Time    \n    End Time    \nSpecial notes\n\n\n\n\nApril 11\, 2026    \n7:30am\n2:00pm\nWild Bunch Match     \n\n\nMay 9\, 2026\n7:30am\n2:00pm\nWild Bunch Match     \n\n\nJuly 11\, 2026    \n7:30am\n2:00pm\nWild Bunch Match     \n\n\nAugust 8\, 2026    \n7:30am\n2:00pm\nWild Bunch Match     \n\n\nSeptember 12\, 2026    \n7:30am\n2:00pm\nWild Bunch Match     \n\n\nOctober 10\, 2026    \n7:30am\n2:00pm\nWild Bunch Match     \n\n\n\n\n\n\n\n\n\n\n\n\n\n\n\n \n  \n 
URL:https://www.beloitrifleclub.org/event/rock-river-regulator-wild-bunch-cowboy/2026-04-11/
LOCATION:BRC Cowboy Range\, 951 E Philhower Road\, Beloit\, WI\, 53511\, United States
ATTACH;FMTTYPE=image/jpeg:https://www.beloitrifleclub.org/wp-content/uploads/2026/01/IMG_2469.jpeg
END:VEVENT
BEGIN:VEVENT
DTSTART;TZID=America/Chicago:20260404T073000
DTEND;TZID=America/Chicago:20260404T140000
DTSTAMP:20260423T084025
CREATED:20241229T225651Z
LAST-MODIFIED:20260125T054555Z
UID:10013247-1775287800-1775311200@www.beloitrifleclub.org
SUMMARY:Rock River Regulator - Cowboy Action Shoot - Match
DESCRIPTION:We have Cowboy competitions every 1st and 3rd Saturday of the month. \nWe start registration at 7:30 and begin shooting at 9:00. \nWe shoot 5 fun and exciting stages each match followed lunch. We encourage you to come and see what it is all about. \nRemember your eye and ear protection.  \nBRC members if you are looking for work hours we are looking for help at the shoots. \nThe West Defensive Range will be shutdown for motor traffic until 2:00PM. If you want to use the Defensive range you will need to carry your gear down to the range. \n  \n\n\n\nDate\n    Start Time    \n    End Time    \nSpecial notes\n\n\n\n\nApril 4\, 2026\n7:30am\n2:00pm\nCowboy Match\n\n\nApril 18\, 2026\n7:30am\n2:00pm\nCowboy Match\n\n\nMay 2\, 2026\n7:30am\n2:00pm\nCowboy Match\n\n\nMay 16\, 2026\n7:30am\n2:00pm\nCowboy Match\n\n\nMay 30\, 2026 ???\n7:30am\n2:00pm\nWild Bunch Match     \n\n\nJune 6\, 2026\n7:30am\n2:00pm\nCowboy Match\n\n\nJuly 4\, 2026\n7:30 am\n2:00pm\nCowboy Match\n\n\nJuly 18\, 2026\n7:30am\n2:00pm\nCowboy Match\n\n\nAugust 1\, 2026\n7:30am\n2:00pm\nCowboy Match\n\n\nAugust 15\, 2026\n7:30am\n2:00pm\nCowboy Match\n\n\nAugust 29\, 2026 ???\n7:30am\n2:00pm\nWild Bunch Match     \n\n\nSeptember 5\, 2026\n7:30am\n2:00pm\nCowboy Match\n\n\nSeptember 19\, 2026\n7:30am\n2:00pm\nCowboy Match\n\n\nOctober 3\, 2026\n7:30am\n2:00pm\nCowboy Match\n\n\nOctober 17\, 2026\n7:30am\n2:00pm\nCowboy Match\n\n\nOctober 31\, 2026\n7:30am\n2:00pm\nCowboy Match\n\n\n\n\n\n\n\n\n\n\n\n\n\n\n\n \n  \n 
URL:https://www.beloitrifleclub.org/event/rock-river-regulator-cowboy/2026-04-04/
LOCATION:BRC Cowboy Range\, 951 E Philhower Road\, Beloit\, WI\, 53511\, United States
ATTACH;FMTTYPE=image/jpeg:https://www.beloitrifleclub.org/wp-content/uploads/2026/01/IMG_2469.jpeg
END:VEVENT
BEGIN:VEVENT
DTSTART;TZID=America/Chicago:20241019T073000
DTEND;TZID=America/Chicago:20241019T130000
DTSTAMP:20260423T084025
CREATED:20231218T035118Z
LAST-MODIFIED:20240323T145525Z
UID:10011694-1729323000-1729342800@www.beloitrifleclub.org
SUMMARY:Cowboy - Rock River Regulators
DESCRIPTION:Cowboy Action Shoots Back Range 1st and 3rd Saturdays April through October. \nRegistration Starts @ 7:30 AM. Safety Meeting @ 8:45 AM Start Shooting @ 9:00 AM \n\nMatch Dates Download
URL:https://www.beloitrifleclub.org/event/cowboy-match-3/2024-10-19/
LOCATION:Beloit Rifle Club\, 851 E Philhower Road\, Beloit\, WI\, 53511\, United States
END:VEVENT
BEGIN:VEVENT
DTSTART;TZID=America/Chicago:20241005T073000
DTEND;TZID=America/Chicago:20241005T130000
DTSTAMP:20260423T084025
CREATED:20231218T035118Z
LAST-MODIFIED:20240323T145525Z
UID:10011174-1728113400-1728133200@www.beloitrifleclub.org
SUMMARY:Cowboy - Rock River Regulators
DESCRIPTION:Cowboy Action Shoots Back Range 1st and 3rd Saturdays April through October. \nRegistration Starts @ 7:30 AM. Safety Meeting @ 8:45 AM Start Shooting @ 9:00 AM \n\nMatch Dates Download
URL:https://www.beloitrifleclub.org/event/cowboy-match-3/2024-10-05/
LOCATION:Beloit Rifle Club\, 851 E Philhower Road\, Beloit\, WI\, 53511\, United States
END:VEVENT
BEGIN:VEVENT
DTSTART;TZID=America/Chicago:20240921T073000
DTEND;TZID=America/Chicago:20240921T130000
DTSTAMP:20260423T084025
CREATED:20231218T035118Z
LAST-MODIFIED:20240323T145525Z
UID:10011693-1726903800-1726923600@www.beloitrifleclub.org
SUMMARY:Cowboy - Rock River Regulators
DESCRIPTION:Cowboy Action Shoots Back Range 1st and 3rd Saturdays April through October. \nRegistration Starts @ 7:30 AM. Safety Meeting @ 8:45 AM Start Shooting @ 9:00 AM \n\nMatch Dates Download
URL:https://www.beloitrifleclub.org/event/cowboy-match-3/2024-09-21/
LOCATION:Beloit Rifle Club\, 851 E Philhower Road\, Beloit\, WI\, 53511\, United States
END:VEVENT
BEGIN:VEVENT
DTSTART;TZID=America/Chicago:20240907T073000
DTEND;TZID=America/Chicago:20240907T130000
DTSTAMP:20260423T084025
CREATED:20231218T035118Z
LAST-MODIFIED:20240323T145525Z
UID:10011173-1725694200-1725714000@www.beloitrifleclub.org
SUMMARY:Cowboy - Rock River Regulators
DESCRIPTION:Cowboy Action Shoots Back Range 1st and 3rd Saturdays April through October. \nRegistration Starts @ 7:30 AM. Safety Meeting @ 8:45 AM Start Shooting @ 9:00 AM \n\nMatch Dates Download
URL:https://www.beloitrifleclub.org/event/cowboy-match-3/2024-09-07/
LOCATION:Beloit Rifle Club\, 851 E Philhower Road\, Beloit\, WI\, 53511\, United States
END:VEVENT
BEGIN:VEVENT
DTSTART;TZID=America/Chicago:20240831T073000
DTEND;TZID=America/Chicago:20240831T130000
DTSTAMP:20260423T084025
CREATED:20231218T035118Z
LAST-MODIFIED:20240323T145525Z
UID:10011701-1725089400-1725109200@www.beloitrifleclub.org
SUMMARY:Cowboy - Rock River Regulators
DESCRIPTION:Cowboy Action Shoots Back Range 1st and 3rd Saturdays April through October. \nRegistration Starts @ 7:30 AM. Safety Meeting @ 8:45 AM Start Shooting @ 9:00 AM \n\nMatch Dates Download
URL:https://www.beloitrifleclub.org/event/cowboy-match-3/2024-08-31/
LOCATION:Beloit Rifle Club\, 851 E Philhower Road\, Beloit\, WI\, 53511\, United States
END:VEVENT
BEGIN:VEVENT
DTSTART;TZID=America/Chicago:20240817T073000
DTEND;TZID=America/Chicago:20240817T130000
DTSTAMP:20260423T084025
CREATED:20231218T035118Z
LAST-MODIFIED:20240323T145525Z
UID:10011692-1723879800-1723899600@www.beloitrifleclub.org
SUMMARY:Cowboy - Rock River Regulators
DESCRIPTION:Cowboy Action Shoots Back Range 1st and 3rd Saturdays April through October. \nRegistration Starts @ 7:30 AM. Safety Meeting @ 8:45 AM Start Shooting @ 9:00 AM \n\nMatch Dates Download
URL:https://www.beloitrifleclub.org/event/cowboy-match-3/2024-08-17/
LOCATION:Beloit Rifle Club\, 851 E Philhower Road\, Beloit\, WI\, 53511\, United States
END:VEVENT
BEGIN:VEVENT
DTSTART;TZID=America/Chicago:20240803T073000
DTEND;TZID=America/Chicago:20240803T130000
DTSTAMP:20260423T084025
CREATED:20231218T035118Z
LAST-MODIFIED:20240323T145525Z
UID:10011172-1722670200-1722690000@www.beloitrifleclub.org
SUMMARY:Cowboy - Rock River Regulators
DESCRIPTION:Cowboy Action Shoots Back Range 1st and 3rd Saturdays April through October. \nRegistration Starts @ 7:30 AM. Safety Meeting @ 8:45 AM Start Shooting @ 9:00 AM \n\nMatch Dates Download
URL:https://www.beloitrifleclub.org/event/cowboy-match-3/2024-08-03/
LOCATION:Beloit Rifle Club\, 851 E Philhower Road\, Beloit\, WI\, 53511\, United States
END:VEVENT
BEGIN:VEVENT
DTSTART;TZID=America/Chicago:20240720T073000
DTEND;TZID=America/Chicago:20240720T130000
DTSTAMP:20260423T084025
CREATED:20231218T035118Z
LAST-MODIFIED:20240323T145525Z
UID:10011691-1721460600-1721480400@www.beloitrifleclub.org
SUMMARY:Cowboy - Rock River Regulators
DESCRIPTION:Cowboy Action Shoots Back Range 1st and 3rd Saturdays April through October. \nRegistration Starts @ 7:30 AM. Safety Meeting @ 8:45 AM Start Shooting @ 9:00 AM \n\nMatch Dates Download
URL:https://www.beloitrifleclub.org/event/cowboy-match-3/2024-07-20/
LOCATION:Beloit Rifle Club\, 851 E Philhower Road\, Beloit\, WI\, 53511\, United States
END:VEVENT
BEGIN:VEVENT
DTSTART;TZID=America/Chicago:20240706T073000
DTEND;TZID=America/Chicago:20240706T130000
DTSTAMP:20260423T084025
CREATED:20231218T035118Z
LAST-MODIFIED:20240323T145525Z
UID:10011171-1720251000-1720270800@www.beloitrifleclub.org
SUMMARY:Cowboy - Rock River Regulators
DESCRIPTION:Cowboy Action Shoots Back Range 1st and 3rd Saturdays April through October. \nRegistration Starts @ 7:30 AM. Safety Meeting @ 8:45 AM Start Shooting @ 9:00 AM \n\nMatch Dates Download
URL:https://www.beloitrifleclub.org/event/cowboy-match-3/2024-07-06/
LOCATION:Beloit Rifle Club\, 851 E Philhower Road\, Beloit\, WI\, 53511\, United States
END:VEVENT
BEGIN:VEVENT
DTSTART;TZID=America/Chicago:20240629T073000
DTEND;TZID=America/Chicago:20240629T130000
DTSTAMP:20260423T084025
CREATED:20231218T035118Z
LAST-MODIFIED:20240323T145525Z
UID:10011700-1719646200-1719666000@www.beloitrifleclub.org
SUMMARY:Cowboy - Rock River Regulators
DESCRIPTION:Cowboy Action Shoots Back Range 1st and 3rd Saturdays April through October. \nRegistration Starts @ 7:30 AM. Safety Meeting @ 8:45 AM Start Shooting @ 9:00 AM \n\nMatch Dates Download
URL:https://www.beloitrifleclub.org/event/cowboy-match-3/2024-06-29/
LOCATION:Beloit Rifle Club\, 851 E Philhower Road\, Beloit\, WI\, 53511\, United States
END:VEVENT
BEGIN:VEVENT
DTSTART;TZID=America/Chicago:20240615T073000
DTEND;TZID=America/Chicago:20240615T130000
DTSTAMP:20260423T084025
CREATED:20231218T035118Z
LAST-MODIFIED:20240323T145525Z
UID:10011690-1718436600-1718456400@www.beloitrifleclub.org
SUMMARY:Cowboy - Rock River Regulators
DESCRIPTION:Cowboy Action Shoots Back Range 1st and 3rd Saturdays April through October. \nRegistration Starts @ 7:30 AM. Safety Meeting @ 8:45 AM Start Shooting @ 9:00 AM \n\nMatch Dates Download
URL:https://www.beloitrifleclub.org/event/cowboy-match-3/2024-06-15/
LOCATION:Beloit Rifle Club\, 851 E Philhower Road\, Beloit\, WI\, 53511\, United States
END:VEVENT
BEGIN:VEVENT
DTSTART;TZID=America/Chicago:20240602T073000
DTEND;TZID=America/Chicago:20240602T130000
DTSTAMP:20260423T084025
CREATED:20230219T162933Z
LAST-MODIFIED:20231218T041932Z
UID:10011699-1717313400-1717333200@www.beloitrifleclub.org
SUMMARY:Cowboy Action Shoot - Reckoning on the Rock
DESCRIPTION:Reckoning on the Rock is the annual 3 day Cowboy shoot where we shoot side matches and 10 cowboy stages over the 3 days. \nDay 1 is side match day\nDay 2 we shoot 6 stages\nDay 3 is the last 4 stages and awards \nRegistration Starts @ 7:30 AM Safety Meeting @ 8:45 AM Start Shooting @ 9:00 AM \nDetails\n  \nQuestions / Comments
URL:https://www.beloitrifleclub.org/event/cowboy-action-shoot-2022-06-04-2/2024-06-02/
LOCATION:BRC Cowboy Range\, 951 E Philhower Road\, Beloit\, WI\, 53511\, United States
END:VEVENT
BEGIN:VEVENT
DTSTART;TZID=America/Chicago:20240601T073000
DTEND;TZID=America/Chicago:20240601T130000
DTSTAMP:20260423T084025
CREATED:20230219T162933Z
LAST-MODIFIED:20231218T041932Z
UID:10011698-1717227000-1717246800@www.beloitrifleclub.org
SUMMARY:Cowboy Action Shoot - Reckoning on the Rock
DESCRIPTION:Reckoning on the Rock is the annual 3 day Cowboy shoot where we shoot side matches and 10 cowboy stages over the 3 days. \nDay 1 is side match day\nDay 2 we shoot 6 stages\nDay 3 is the last 4 stages and awards \nRegistration Starts @ 7:30 AM Safety Meeting @ 8:45 AM Start Shooting @ 9:00 AM \nDetails\n  \nQuestions / Comments
URL:https://www.beloitrifleclub.org/event/cowboy-action-shoot-2022-06-04-2/2024-06-01/
LOCATION:BRC Cowboy Range\, 951 E Philhower Road\, Beloit\, WI\, 53511\, United States
END:VEVENT
BEGIN:VEVENT
DTSTART;TZID=America/Chicago:20240531T070000
DTEND;TZID=America/Chicago:20240531T130000
DTSTAMP:20260423T084025
CREATED:20230219T162933Z
LAST-MODIFIED:20231218T041932Z
UID:10011695-1717138800-1717160400@www.beloitrifleclub.org
SUMMARY:Cowboy Action Shoot - Reckoning on the Rock
DESCRIPTION:Reckoning on the Rock is the annual 3 day Cowboy shoot where we shoot side matches and 10 cowboy stages over the 3 days. \nDay 1 is side match day\nDay 2 we shoot 6 stages\nDay 3 is the last 4 stages and awards \nRegistration Starts @ 7:30 AM Safety Meeting @ 8:45 AM Start Shooting @ 9:00 AM \nDetails\n  \nQuestions / Comments
URL:https://www.beloitrifleclub.org/event/cowboy-action-shoot-2022-06-04-2/2024-05-31/
LOCATION:BRC Cowboy Range\, 951 E Philhower Road\, Beloit\, WI\, 53511\, United States
END:VEVENT
BEGIN:VEVENT
DTSTART;TZID=America/Chicago:20240518T073000
DTEND;TZID=America/Chicago:20240518T130000
DTSTAMP:20260423T084025
CREATED:20231218T035118Z
LAST-MODIFIED:20240323T145525Z
UID:10011689-1716017400-1716037200@www.beloitrifleclub.org
SUMMARY:Cowboy - Rock River Regulators
DESCRIPTION:Cowboy Action Shoots Back Range 1st and 3rd Saturdays April through October. \nRegistration Starts @ 7:30 AM. Safety Meeting @ 8:45 AM Start Shooting @ 9:00 AM \n\nMatch Dates Download
URL:https://www.beloitrifleclub.org/event/cowboy-match-3/2024-05-18/
LOCATION:Beloit Rifle Club\, 851 E Philhower Road\, Beloit\, WI\, 53511\, United States
END:VEVENT
BEGIN:VEVENT
DTSTART;TZID=America/Chicago:20240504T073000
DTEND;TZID=America/Chicago:20240504T130000
DTSTAMP:20260423T084025
CREATED:20231218T035118Z
LAST-MODIFIED:20240323T145525Z
UID:10011169-1714807800-1714827600@www.beloitrifleclub.org
SUMMARY:Cowboy - Rock River Regulators
DESCRIPTION:Cowboy Action Shoots Back Range 1st and 3rd Saturdays April through October. \nRegistration Starts @ 7:30 AM. Safety Meeting @ 8:45 AM Start Shooting @ 9:00 AM \n\nMatch Dates Download
URL:https://www.beloitrifleclub.org/event/cowboy-match-3/2024-05-04/
LOCATION:Beloit Rifle Club\, 851 E Philhower Road\, Beloit\, WI\, 53511\, United States
END:VEVENT
END:VCALENDAR