BEGIN:VCALENDAR
VERSION:2.0
PRODID:-//Beloit Rifle Club - ECPv6.15.17.1//NONSGML v1.0//EN
CALSCALE:GREGORIAN
METHOD:PUBLISH
X-WR-CALNAME:Beloit Rifle Club
X-ORIGINAL-URL:https://www.beloitrifleclub.org
X-WR-CALDESC:Events for Beloit Rifle Club
REFRESH-INTERVAL;VALUE=DURATION:PT1H
X-Robots-Tag:noindex
X-PUBLISHED-TTL:PT1H
BEGIN:VTIMEZONE
TZID:America/Chicago
BEGIN:DAYLIGHT
TZOFFSETFROM:-0600
TZOFFSETTO:-0500
TZNAME:CDT
DTSTART:20230312T080000
END:DAYLIGHT
BEGIN:STANDARD
TZOFFSETFROM:-0500
TZOFFSETTO:-0600
TZNAME:CST
DTSTART:20231105T070000
END:STANDARD
BEGIN:DAYLIGHT
TZOFFSETFROM:-0600
TZOFFSETTO:-0500
TZNAME:CDT
DTSTART:20240310T080000
END:DAYLIGHT
BEGIN:STANDARD
TZOFFSETFROM:-0500
TZOFFSETTO:-0600
TZNAME:CST
DTSTART:20241103T070000
END:STANDARD
BEGIN:DAYLIGHT
TZOFFSETFROM:-0600
TZOFFSETTO:-0500
TZNAME:CDT
DTSTART:20250309T080000
END:DAYLIGHT
BEGIN:STANDARD
TZOFFSETFROM:-0500
TZOFFSETTO:-0600
TZNAME:CST
DTSTART:20251102T070000
END:STANDARD
END:VTIMEZONE
BEGIN:VEVENT
DTSTART;TZID=America/Chicago:20240613T163000
DTEND;TZID=America/Chicago:20240613T200000
DTSTAMP:20260423T034154
CREATED:20240603T021048Z
LAST-MODIFIED:20240908T205631Z
UID:10012041-1718296200-1718308800@www.beloitrifleclub.org
SUMMARY:NRL 22 - Practice
DESCRIPTION:Practice for NRL22 matches
URL:https://www.beloitrifleclub.org/event/nrl-22-practice-2/2024-06-13/
LOCATION:BRC 500 Meter Range\, 851 PhilhowerRoad\, Beloit\, WI\, 53511\, United States
ORGANIZER;CN="Tim Kienbaum":MAILTO:Twkienbaum@gmail.com
END:VEVENT
END:VCALENDAR