BEGIN:VCALENDAR
VERSION:2.0
PRODID:-//Beloit Rifle Club - ECPv6.15.17.1//NONSGML v1.0//EN
CALSCALE:GREGORIAN
METHOD:PUBLISH
X-ORIGINAL-URL:https://www.beloitrifleclub.org
X-WR-CALDESC:Events for Beloit Rifle Club
REFRESH-INTERVAL;VALUE=DURATION:PT1H
X-Robots-Tag:noindex
X-PUBLISHED-TTL:PT1H
BEGIN:VTIMEZONE
TZID:America/Chicago
BEGIN:DAYLIGHT
TZOFFSETFROM:-0600
TZOFFSETTO:-0500
TZNAME:CDT
DTSTART:20250309T080000
END:DAYLIGHT
BEGIN:STANDARD
TZOFFSETFROM:-0500
TZOFFSETTO:-0600
TZNAME:CST
DTSTART:20251102T070000
END:STANDARD
BEGIN:DAYLIGHT
TZOFFSETFROM:-0600
TZOFFSETTO:-0500
TZNAME:CDT
DTSTART:20260308T080000
END:DAYLIGHT
BEGIN:STANDARD
TZOFFSETFROM:-0500
TZOFFSETTO:-0600
TZNAME:CST
DTSTART:20261101T070000
END:STANDARD
BEGIN:DAYLIGHT
TZOFFSETFROM:-0600
TZOFFSETTO:-0500
TZNAME:CDT
DTSTART:20270314T080000
END:DAYLIGHT
BEGIN:STANDARD
TZOFFSETFROM:-0500
TZOFFSETTO:-0600
TZNAME:CST
DTSTART:20271107T070000
END:STANDARD
BEGIN:DAYLIGHT
TZOFFSETFROM:-0600
TZOFFSETTO:-0500
TZNAME:CDT
DTSTART:20280312T080000
END:DAYLIGHT
BEGIN:STANDARD
TZOFFSETFROM:-0500
TZOFFSETTO:-0600
TZNAME:CST
DTSTART:20281105T070000
END:STANDARD
BEGIN:DAYLIGHT
TZOFFSETFROM:-0600
TZOFFSETTO:-0500
TZNAME:CDT
DTSTART:20290311T080000
END:DAYLIGHT
BEGIN:STANDARD
TZOFFSETFROM:-0500
TZOFFSETTO:-0600
TZNAME:CST
DTSTART:20291104T070000
END:STANDARD
END:VTIMEZONE
BEGIN:VEVENT
DTSTART;TZID=America/Chicago:20260527T183000
DTEND;TZID=America/Chicago:20260527T200000
DTSTAMP:20260424T061317
CREATED:20251230T231236Z
LAST-MODIFIED:20251230T231236Z
UID:10013124-1779906600-1779912000@www.beloitrifleclub.org
SUMMARY:Practical Pistol
DESCRIPTION:Based on USPSA style matches this is an excellent experience for defensive firearm use. This event will be held on the 2nd and 4th Wednesday of each month. Set up time is 6:30pm. Shooting of the first of three stages starts around 7:00pm. 150 rounds of ammo and multiple magazines are suggested. Holsters not required. PCC are welcome. Non members are welcome to attend. $10 for non members of BRC and $5 for members.
URL:https://www.beloitrifleclub.org/event/practical-pistol-2/2026-05-27/
LOCATION:BRC 25 yard indoor range\, 851 Philhower Rd\, Beloit\, WI\, 53511
END:VEVENT
BEGIN:VEVENT
DTSTART;TZID=America/Chicago:20260624T183000
DTEND;TZID=America/Chicago:20260624T200000
DTSTAMP:20260424T061317
CREATED:20251230T231236Z
LAST-MODIFIED:20251230T231236Z
UID:10013125-1782325800-1782331200@www.beloitrifleclub.org
SUMMARY:Practical Pistol
DESCRIPTION:Based on USPSA style matches this is an excellent experience for defensive firearm use. This event will be held on the 2nd and 4th Wednesday of each month. Set up time is 6:30pm. Shooting of the first of three stages starts around 7:00pm. 150 rounds of ammo and multiple magazines are suggested. Holsters not required. PCC are welcome. Non members are welcome to attend. $10 for non members of BRC and $5 for members.
URL:https://www.beloitrifleclub.org/event/practical-pistol-2/2026-06-24/
LOCATION:BRC 25 yard indoor range\, 851 Philhower Rd\, Beloit\, WI\, 53511
END:VEVENT
BEGIN:VEVENT
DTSTART;TZID=America/Chicago:20260722T183000
DTEND;TZID=America/Chicago:20260722T200000
DTSTAMP:20260424T061317
CREATED:20251230T231236Z
LAST-MODIFIED:20251230T231236Z
UID:10013126-1784745000-1784750400@www.beloitrifleclub.org
SUMMARY:Practical Pistol
DESCRIPTION:Based on USPSA style matches this is an excellent experience for defensive firearm use. This event will be held on the 2nd and 4th Wednesday of each month. Set up time is 6:30pm. Shooting of the first of three stages starts around 7:00pm. 150 rounds of ammo and multiple magazines are suggested. Holsters not required. PCC are welcome. Non members are welcome to attend. $10 for non members of BRC and $5 for members.
URL:https://www.beloitrifleclub.org/event/practical-pistol-2/2026-07-22/
LOCATION:BRC 25 yard indoor range\, 851 Philhower Rd\, Beloit\, WI\, 53511
END:VEVENT
BEGIN:VEVENT
DTSTART;TZID=America/Chicago:20260826T183000
DTEND;TZID=America/Chicago:20260826T200000
DTSTAMP:20260424T061317
CREATED:20251230T231236Z
LAST-MODIFIED:20251230T231236Z
UID:10013127-1787769000-1787774400@www.beloitrifleclub.org
SUMMARY:Practical Pistol
DESCRIPTION:Based on USPSA style matches this is an excellent experience for defensive firearm use. This event will be held on the 2nd and 4th Wednesday of each month. Set up time is 6:30pm. Shooting of the first of three stages starts around 7:00pm. 150 rounds of ammo and multiple magazines are suggested. Holsters not required. PCC are welcome. Non members are welcome to attend. $10 for non members of BRC and $5 for members.
URL:https://www.beloitrifleclub.org/event/practical-pistol-2/2026-08-26/
LOCATION:BRC 25 yard indoor range\, 851 Philhower Rd\, Beloit\, WI\, 53511
END:VEVENT
BEGIN:VEVENT
DTSTART;TZID=America/Chicago:20260923T183000
DTEND;TZID=America/Chicago:20260923T200000
DTSTAMP:20260424T061317
CREATED:20251230T231236Z
LAST-MODIFIED:20251230T231236Z
UID:10013128-1790188200-1790193600@www.beloitrifleclub.org
SUMMARY:Practical Pistol
DESCRIPTION:Based on USPSA style matches this is an excellent experience for defensive firearm use. This event will be held on the 2nd and 4th Wednesday of each month. Set up time is 6:30pm. Shooting of the first of three stages starts around 7:00pm. 150 rounds of ammo and multiple magazines are suggested. Holsters not required. PCC are welcome. Non members are welcome to attend. $10 for non members of BRC and $5 for members.
URL:https://www.beloitrifleclub.org/event/practical-pistol-2/2026-09-23/
LOCATION:BRC 25 yard indoor range\, 851 Philhower Rd\, Beloit\, WI\, 53511
END:VEVENT
BEGIN:VEVENT
DTSTART;TZID=America/Chicago:20261028T183000
DTEND;TZID=America/Chicago:20261028T200000
DTSTAMP:20260424T061317
CREATED:20251230T231236Z
LAST-MODIFIED:20251230T231236Z
UID:10013129-1793212200-1793217600@www.beloitrifleclub.org
SUMMARY:Practical Pistol
DESCRIPTION:Based on USPSA style matches this is an excellent experience for defensive firearm use. This event will be held on the 2nd and 4th Wednesday of each month. Set up time is 6:30pm. Shooting of the first of three stages starts around 7:00pm. 150 rounds of ammo and multiple magazines are suggested. Holsters not required. PCC are welcome. Non members are welcome to attend. $10 for non members of BRC and $5 for members.
URL:https://www.beloitrifleclub.org/event/practical-pistol-2/2026-10-28/
LOCATION:BRC 25 yard indoor range\, 851 Philhower Rd\, Beloit\, WI\, 53511
END:VEVENT
BEGIN:VEVENT
DTSTART;TZID=America/Chicago:20261125T183000
DTEND;TZID=America/Chicago:20261125T200000
DTSTAMP:20260424T061317
CREATED:20251230T231236Z
LAST-MODIFIED:20251230T231236Z
UID:10013130-1795631400-1795636800@www.beloitrifleclub.org
SUMMARY:Practical Pistol
DESCRIPTION:Based on USPSA style matches this is an excellent experience for defensive firearm use. This event will be held on the 2nd and 4th Wednesday of each month. Set up time is 6:30pm. Shooting of the first of three stages starts around 7:00pm. 150 rounds of ammo and multiple magazines are suggested. Holsters not required. PCC are welcome. Non members are welcome to attend. $10 for non members of BRC and $5 for members.
URL:https://www.beloitrifleclub.org/event/practical-pistol-2/2026-11-25/
LOCATION:BRC 25 yard indoor range\, 851 Philhower Rd\, Beloit\, WI\, 53511
END:VEVENT
BEGIN:VEVENT
DTSTART;TZID=America/Chicago:20261223T183000
DTEND;TZID=America/Chicago:20261223T200000
DTSTAMP:20260424T061317
CREATED:20251230T231236Z
LAST-MODIFIED:20251230T231236Z
UID:10013131-1798050600-1798056000@www.beloitrifleclub.org
SUMMARY:Practical Pistol
DESCRIPTION:Based on USPSA style matches this is an excellent experience for defensive firearm use. This event will be held on the 2nd and 4th Wednesday of each month. Set up time is 6:30pm. Shooting of the first of three stages starts around 7:00pm. 150 rounds of ammo and multiple magazines are suggested. Holsters not required. PCC are welcome. Non members are welcome to attend. $10 for non members of BRC and $5 for members.
URL:https://www.beloitrifleclub.org/event/practical-pistol-2/2026-12-23/
LOCATION:BRC 25 yard indoor range\, 851 Philhower Rd\, Beloit\, WI\, 53511
END:VEVENT
BEGIN:VEVENT
DTSTART;TZID=America/Chicago:20270127T183000
DTEND;TZID=America/Chicago:20270127T200000
DTSTAMP:20260424T061317
CREATED:20251230T231236Z
LAST-MODIFIED:20251230T231236Z
UID:10013132-1801074600-1801080000@www.beloitrifleclub.org
SUMMARY:Practical Pistol
DESCRIPTION:Based on USPSA style matches this is an excellent experience for defensive firearm use. This event will be held on the 2nd and 4th Wednesday of each month. Set up time is 6:30pm. Shooting of the first of three stages starts around 7:00pm. 150 rounds of ammo and multiple magazines are suggested. Holsters not required. PCC are welcome. Non members are welcome to attend. $10 for non members of BRC and $5 for members.
URL:https://www.beloitrifleclub.org/event/practical-pistol-2/2027-01-27/
LOCATION:BRC 25 yard indoor range\, 851 Philhower Rd\, Beloit\, WI\, 53511
END:VEVENT
BEGIN:VEVENT
DTSTART;TZID=America/Chicago:20270224T183000
DTEND;TZID=America/Chicago:20270224T200000
DTSTAMP:20260424T061317
CREATED:20251230T231236Z
LAST-MODIFIED:20251230T231236Z
UID:10013133-1803493800-1803499200@www.beloitrifleclub.org
SUMMARY:Practical Pistol
DESCRIPTION:Based on USPSA style matches this is an excellent experience for defensive firearm use. This event will be held on the 2nd and 4th Wednesday of each month. Set up time is 6:30pm. Shooting of the first of three stages starts around 7:00pm. 150 rounds of ammo and multiple magazines are suggested. Holsters not required. PCC are welcome. Non members are welcome to attend. $10 for non members of BRC and $5 for members.
URL:https://www.beloitrifleclub.org/event/practical-pistol-2/2027-02-24/
LOCATION:BRC 25 yard indoor range\, 851 Philhower Rd\, Beloit\, WI\, 53511
END:VEVENT
BEGIN:VEVENT
DTSTART;TZID=America/Chicago:20270324T183000
DTEND;TZID=America/Chicago:20270324T200000
DTSTAMP:20260424T061317
CREATED:20251230T231236Z
LAST-MODIFIED:20251230T231236Z
UID:10013134-1805913000-1805918400@www.beloitrifleclub.org
SUMMARY:Practical Pistol
DESCRIPTION:Based on USPSA style matches this is an excellent experience for defensive firearm use. This event will be held on the 2nd and 4th Wednesday of each month. Set up time is 6:30pm. Shooting of the first of three stages starts around 7:00pm. 150 rounds of ammo and multiple magazines are suggested. Holsters not required. PCC are welcome. Non members are welcome to attend. $10 for non members of BRC and $5 for members.
URL:https://www.beloitrifleclub.org/event/practical-pistol-2/2027-03-24/
LOCATION:BRC 25 yard indoor range\, 851 Philhower Rd\, Beloit\, WI\, 53511
END:VEVENT
BEGIN:VEVENT
DTSTART;TZID=America/Chicago:20270428T183000
DTEND;TZID=America/Chicago:20270428T200000
DTSTAMP:20260424T061317
CREATED:20251230T231236Z
LAST-MODIFIED:20251230T231236Z
UID:10013135-1808937000-1808942400@www.beloitrifleclub.org
SUMMARY:Practical Pistol
DESCRIPTION:Based on USPSA style matches this is an excellent experience for defensive firearm use. This event will be held on the 2nd and 4th Wednesday of each month. Set up time is 6:30pm. Shooting of the first of three stages starts around 7:00pm. 150 rounds of ammo and multiple magazines are suggested. Holsters not required. PCC are welcome. Non members are welcome to attend. $10 for non members of BRC and $5 for members.
URL:https://www.beloitrifleclub.org/event/practical-pistol-2/2027-04-28/
LOCATION:BRC 25 yard indoor range\, 851 Philhower Rd\, Beloit\, WI\, 53511
END:VEVENT
BEGIN:VEVENT
DTSTART;TZID=America/Chicago:20270526T183000
DTEND;TZID=America/Chicago:20270526T200000
DTSTAMP:20260424T061317
CREATED:20251230T231236Z
LAST-MODIFIED:20251230T231236Z
UID:10013136-1811356200-1811361600@www.beloitrifleclub.org
SUMMARY:Practical Pistol
DESCRIPTION:Based on USPSA style matches this is an excellent experience for defensive firearm use. This event will be held on the 2nd and 4th Wednesday of each month. Set up time is 6:30pm. Shooting of the first of three stages starts around 7:00pm. 150 rounds of ammo and multiple magazines are suggested. Holsters not required. PCC are welcome. Non members are welcome to attend. $10 for non members of BRC and $5 for members.
URL:https://www.beloitrifleclub.org/event/practical-pistol-2/2027-05-26/
LOCATION:BRC 25 yard indoor range\, 851 Philhower Rd\, Beloit\, WI\, 53511
END:VEVENT
BEGIN:VEVENT
DTSTART;TZID=America/Chicago:20270623T183000
DTEND;TZID=America/Chicago:20270623T200000
DTSTAMP:20260424T061317
CREATED:20251230T231236Z
LAST-MODIFIED:20251230T231236Z
UID:10013137-1813775400-1813780800@www.beloitrifleclub.org
SUMMARY:Practical Pistol
DESCRIPTION:Based on USPSA style matches this is an excellent experience for defensive firearm use. This event will be held on the 2nd and 4th Wednesday of each month. Set up time is 6:30pm. Shooting of the first of three stages starts around 7:00pm. 150 rounds of ammo and multiple magazines are suggested. Holsters not required. PCC are welcome. Non members are welcome to attend. $10 for non members of BRC and $5 for members.
URL:https://www.beloitrifleclub.org/event/practical-pistol-2/2027-06-23/
LOCATION:BRC 25 yard indoor range\, 851 Philhower Rd\, Beloit\, WI\, 53511
END:VEVENT
BEGIN:VEVENT
DTSTART;TZID=America/Chicago:20270728T183000
DTEND;TZID=America/Chicago:20270728T200000
DTSTAMP:20260424T061317
CREATED:20251230T231236Z
LAST-MODIFIED:20251230T231236Z
UID:10013138-1816799400-1816804800@www.beloitrifleclub.org
SUMMARY:Practical Pistol
DESCRIPTION:Based on USPSA style matches this is an excellent experience for defensive firearm use. This event will be held on the 2nd and 4th Wednesday of each month. Set up time is 6:30pm. Shooting of the first of three stages starts around 7:00pm. 150 rounds of ammo and multiple magazines are suggested. Holsters not required. PCC are welcome. Non members are welcome to attend. $10 for non members of BRC and $5 for members.
URL:https://www.beloitrifleclub.org/event/practical-pistol-2/2027-07-28/
LOCATION:BRC 25 yard indoor range\, 851 Philhower Rd\, Beloit\, WI\, 53511
END:VEVENT
BEGIN:VEVENT
DTSTART;TZID=America/Chicago:20270825T183000
DTEND;TZID=America/Chicago:20270825T200000
DTSTAMP:20260424T061317
CREATED:20251230T231236Z
LAST-MODIFIED:20251230T231236Z
UID:10013139-1819218600-1819224000@www.beloitrifleclub.org
SUMMARY:Practical Pistol
DESCRIPTION:Based on USPSA style matches this is an excellent experience for defensive firearm use. This event will be held on the 2nd and 4th Wednesday of each month. Set up time is 6:30pm. Shooting of the first of three stages starts around 7:00pm. 150 rounds of ammo and multiple magazines are suggested. Holsters not required. PCC are welcome. Non members are welcome to attend. $10 for non members of BRC and $5 for members.
URL:https://www.beloitrifleclub.org/event/practical-pistol-2/2027-08-25/
LOCATION:BRC 25 yard indoor range\, 851 Philhower Rd\, Beloit\, WI\, 53511
END:VEVENT
BEGIN:VEVENT
DTSTART;TZID=America/Chicago:20270922T183000
DTEND;TZID=America/Chicago:20270922T200000
DTSTAMP:20260424T061317
CREATED:20251230T231236Z
LAST-MODIFIED:20251230T231236Z
UID:10013140-1821637800-1821643200@www.beloitrifleclub.org
SUMMARY:Practical Pistol
DESCRIPTION:Based on USPSA style matches this is an excellent experience for defensive firearm use. This event will be held on the 2nd and 4th Wednesday of each month. Set up time is 6:30pm. Shooting of the first of three stages starts around 7:00pm. 150 rounds of ammo and multiple magazines are suggested. Holsters not required. PCC are welcome. Non members are welcome to attend. $10 for non members of BRC and $5 for members.
URL:https://www.beloitrifleclub.org/event/practical-pistol-2/2027-09-22/
LOCATION:BRC 25 yard indoor range\, 851 Philhower Rd\, Beloit\, WI\, 53511
END:VEVENT
BEGIN:VEVENT
DTSTART;TZID=America/Chicago:20271027T183000
DTEND;TZID=America/Chicago:20271027T200000
DTSTAMP:20260424T061317
CREATED:20251230T231236Z
LAST-MODIFIED:20251230T231236Z
UID:10013141-1824661800-1824667200@www.beloitrifleclub.org
SUMMARY:Practical Pistol
DESCRIPTION:Based on USPSA style matches this is an excellent experience for defensive firearm use. This event will be held on the 2nd and 4th Wednesday of each month. Set up time is 6:30pm. Shooting of the first of three stages starts around 7:00pm. 150 rounds of ammo and multiple magazines are suggested. Holsters not required. PCC are welcome. Non members are welcome to attend. $10 for non members of BRC and $5 for members.
URL:https://www.beloitrifleclub.org/event/practical-pistol-2/2027-10-27/
LOCATION:BRC 25 yard indoor range\, 851 Philhower Rd\, Beloit\, WI\, 53511
END:VEVENT
BEGIN:VEVENT
DTSTART;TZID=America/Chicago:20271124T183000
DTEND;TZID=America/Chicago:20271124T200000
DTSTAMP:20260424T061317
CREATED:20251230T231236Z
LAST-MODIFIED:20251230T231236Z
UID:10013142-1827081000-1827086400@www.beloitrifleclub.org
SUMMARY:Practical Pistol
DESCRIPTION:Based on USPSA style matches this is an excellent experience for defensive firearm use. This event will be held on the 2nd and 4th Wednesday of each month. Set up time is 6:30pm. Shooting of the first of three stages starts around 7:00pm. 150 rounds of ammo and multiple magazines are suggested. Holsters not required. PCC are welcome. Non members are welcome to attend. $10 for non members of BRC and $5 for members.
URL:https://www.beloitrifleclub.org/event/practical-pistol-2/2027-11-24/
LOCATION:BRC 25 yard indoor range\, 851 Philhower Rd\, Beloit\, WI\, 53511
END:VEVENT
BEGIN:VEVENT
DTSTART;TZID=America/Chicago:20271222T183000
DTEND;TZID=America/Chicago:20271222T200000
DTSTAMP:20260424T061317
CREATED:20251230T231236Z
LAST-MODIFIED:20251230T231236Z
UID:10013143-1829500200-1829505600@www.beloitrifleclub.org
SUMMARY:Practical Pistol
DESCRIPTION:Based on USPSA style matches this is an excellent experience for defensive firearm use. This event will be held on the 2nd and 4th Wednesday of each month. Set up time is 6:30pm. Shooting of the first of three stages starts around 7:00pm. 150 rounds of ammo and multiple magazines are suggested. Holsters not required. PCC are welcome. Non members are welcome to attend. $10 for non members of BRC and $5 for members.
URL:https://www.beloitrifleclub.org/event/practical-pistol-2/2027-12-22/
LOCATION:BRC 25 yard indoor range\, 851 Philhower Rd\, Beloit\, WI\, 53511
END:VEVENT
BEGIN:VEVENT
DTSTART;TZID=America/Chicago:20280126T183000
DTEND;TZID=America/Chicago:20280126T200000
DTSTAMP:20260424T061317
CREATED:20251230T231236Z
LAST-MODIFIED:20251230T231236Z
UID:10013144-1832524200-1832529600@www.beloitrifleclub.org
SUMMARY:Practical Pistol
DESCRIPTION:Based on USPSA style matches this is an excellent experience for defensive firearm use. This event will be held on the 2nd and 4th Wednesday of each month. Set up time is 6:30pm. Shooting of the first of three stages starts around 7:00pm. 150 rounds of ammo and multiple magazines are suggested. Holsters not required. PCC are welcome. Non members are welcome to attend. $10 for non members of BRC and $5 for members.
URL:https://www.beloitrifleclub.org/event/practical-pistol-2/2028-01-26/
LOCATION:BRC 25 yard indoor range\, 851 Philhower Rd\, Beloit\, WI\, 53511
END:VEVENT
BEGIN:VEVENT
DTSTART;TZID=America/Chicago:20280223T183000
DTEND;TZID=America/Chicago:20280223T200000
DTSTAMP:20260424T061317
CREATED:20251230T231236Z
LAST-MODIFIED:20251230T231236Z
UID:10013145-1834943400-1834948800@www.beloitrifleclub.org
SUMMARY:Practical Pistol
DESCRIPTION:Based on USPSA style matches this is an excellent experience for defensive firearm use. This event will be held on the 2nd and 4th Wednesday of each month. Set up time is 6:30pm. Shooting of the first of three stages starts around 7:00pm. 150 rounds of ammo and multiple magazines are suggested. Holsters not required. PCC are welcome. Non members are welcome to attend. $10 for non members of BRC and $5 for members.
URL:https://www.beloitrifleclub.org/event/practical-pistol-2/2028-02-23/
LOCATION:BRC 25 yard indoor range\, 851 Philhower Rd\, Beloit\, WI\, 53511
END:VEVENT
BEGIN:VEVENT
DTSTART;TZID=America/Chicago:20280322T183000
DTEND;TZID=America/Chicago:20280322T200000
DTSTAMP:20260424T061317
CREATED:20251230T231236Z
LAST-MODIFIED:20251230T231236Z
UID:10013146-1837362600-1837368000@www.beloitrifleclub.org
SUMMARY:Practical Pistol
DESCRIPTION:Based on USPSA style matches this is an excellent experience for defensive firearm use. This event will be held on the 2nd and 4th Wednesday of each month. Set up time is 6:30pm. Shooting of the first of three stages starts around 7:00pm. 150 rounds of ammo and multiple magazines are suggested. Holsters not required. PCC are welcome. Non members are welcome to attend. $10 for non members of BRC and $5 for members.
URL:https://www.beloitrifleclub.org/event/practical-pistol-2/2028-03-22/
LOCATION:BRC 25 yard indoor range\, 851 Philhower Rd\, Beloit\, WI\, 53511
END:VEVENT
BEGIN:VEVENT
DTSTART;TZID=America/Chicago:20280426T183000
DTEND;TZID=America/Chicago:20280426T200000
DTSTAMP:20260424T061317
CREATED:20251230T231236Z
LAST-MODIFIED:20251230T231236Z
UID:10013147-1840386600-1840392000@www.beloitrifleclub.org
SUMMARY:Practical Pistol
DESCRIPTION:Based on USPSA style matches this is an excellent experience for defensive firearm use. This event will be held on the 2nd and 4th Wednesday of each month. Set up time is 6:30pm. Shooting of the first of three stages starts around 7:00pm. 150 rounds of ammo and multiple magazines are suggested. Holsters not required. PCC are welcome. Non members are welcome to attend. $10 for non members of BRC and $5 for members.
URL:https://www.beloitrifleclub.org/event/practical-pistol-2/2028-04-26/
LOCATION:BRC 25 yard indoor range\, 851 Philhower Rd\, Beloit\, WI\, 53511
END:VEVENT
BEGIN:VEVENT
DTSTART;TZID=America/Chicago:20280524T183000
DTEND;TZID=America/Chicago:20280524T200000
DTSTAMP:20260424T061317
CREATED:20251230T231236Z
LAST-MODIFIED:20251230T231236Z
UID:10013148-1842805800-1842811200@www.beloitrifleclub.org
SUMMARY:Practical Pistol
DESCRIPTION:Based on USPSA style matches this is an excellent experience for defensive firearm use. This event will be held on the 2nd and 4th Wednesday of each month. Set up time is 6:30pm. Shooting of the first of three stages starts around 7:00pm. 150 rounds of ammo and multiple magazines are suggested. Holsters not required. PCC are welcome. Non members are welcome to attend. $10 for non members of BRC and $5 for members.
URL:https://www.beloitrifleclub.org/event/practical-pistol-2/2028-05-24/
LOCATION:BRC 25 yard indoor range\, 851 Philhower Rd\, Beloit\, WI\, 53511
END:VEVENT
BEGIN:VEVENT
DTSTART;TZID=America/Chicago:20280628T183000
DTEND;TZID=America/Chicago:20280628T200000
DTSTAMP:20260424T061317
CREATED:20251230T231236Z
LAST-MODIFIED:20251230T231236Z
UID:10013149-1845829800-1845835200@www.beloitrifleclub.org
SUMMARY:Practical Pistol
DESCRIPTION:Based on USPSA style matches this is an excellent experience for defensive firearm use. This event will be held on the 2nd and 4th Wednesday of each month. Set up time is 6:30pm. Shooting of the first of three stages starts around 7:00pm. 150 rounds of ammo and multiple magazines are suggested. Holsters not required. PCC are welcome. Non members are welcome to attend. $10 for non members of BRC and $5 for members.
URL:https://www.beloitrifleclub.org/event/practical-pistol-2/2028-06-28/
LOCATION:BRC 25 yard indoor range\, 851 Philhower Rd\, Beloit\, WI\, 53511
END:VEVENT
BEGIN:VEVENT
DTSTART;TZID=America/Chicago:20280726T183000
DTEND;TZID=America/Chicago:20280726T200000
DTSTAMP:20260424T061317
CREATED:20251230T231236Z
LAST-MODIFIED:20251230T231236Z
UID:10013150-1848249000-1848254400@www.beloitrifleclub.org
SUMMARY:Practical Pistol
DESCRIPTION:Based on USPSA style matches this is an excellent experience for defensive firearm use. This event will be held on the 2nd and 4th Wednesday of each month. Set up time is 6:30pm. Shooting of the first of three stages starts around 7:00pm. 150 rounds of ammo and multiple magazines are suggested. Holsters not required. PCC are welcome. Non members are welcome to attend. $10 for non members of BRC and $5 for members.
URL:https://www.beloitrifleclub.org/event/practical-pistol-2/2028-07-26/
LOCATION:BRC 25 yard indoor range\, 851 Philhower Rd\, Beloit\, WI\, 53511
END:VEVENT
BEGIN:VEVENT
DTSTART;TZID=America/Chicago:20280823T183000
DTEND;TZID=America/Chicago:20280823T200000
DTSTAMP:20260424T061317
CREATED:20251230T231236Z
LAST-MODIFIED:20251230T231236Z
UID:10013151-1850668200-1850673600@www.beloitrifleclub.org
SUMMARY:Practical Pistol
DESCRIPTION:Based on USPSA style matches this is an excellent experience for defensive firearm use. This event will be held on the 2nd and 4th Wednesday of each month. Set up time is 6:30pm. Shooting of the first of three stages starts around 7:00pm. 150 rounds of ammo and multiple magazines are suggested. Holsters not required. PCC are welcome. Non members are welcome to attend. $10 for non members of BRC and $5 for members.
URL:https://www.beloitrifleclub.org/event/practical-pistol-2/2028-08-23/
LOCATION:BRC 25 yard indoor range\, 851 Philhower Rd\, Beloit\, WI\, 53511
END:VEVENT
BEGIN:VEVENT
DTSTART;TZID=America/Chicago:20280927T183000
DTEND;TZID=America/Chicago:20280927T200000
DTSTAMP:20260424T061317
CREATED:20251230T231236Z
LAST-MODIFIED:20251230T231236Z
UID:10013152-1853692200-1853697600@www.beloitrifleclub.org
SUMMARY:Practical Pistol
DESCRIPTION:Based on USPSA style matches this is an excellent experience for defensive firearm use. This event will be held on the 2nd and 4th Wednesday of each month. Set up time is 6:30pm. Shooting of the first of three stages starts around 7:00pm. 150 rounds of ammo and multiple magazines are suggested. Holsters not required. PCC are welcome. Non members are welcome to attend. $10 for non members of BRC and $5 for members.
URL:https://www.beloitrifleclub.org/event/practical-pistol-2/2028-09-27/
LOCATION:BRC 25 yard indoor range\, 851 Philhower Rd\, Beloit\, WI\, 53511
END:VEVENT
BEGIN:VEVENT
DTSTART;TZID=America/Chicago:20281025T183000
DTEND;TZID=America/Chicago:20281025T200000
DTSTAMP:20260424T061317
CREATED:20251230T231236Z
LAST-MODIFIED:20251230T231236Z
UID:10013153-1856111400-1856116800@www.beloitrifleclub.org
SUMMARY:Practical Pistol
DESCRIPTION:Based on USPSA style matches this is an excellent experience for defensive firearm use. This event will be held on the 2nd and 4th Wednesday of each month. Set up time is 6:30pm. Shooting of the first of three stages starts around 7:00pm. 150 rounds of ammo and multiple magazines are suggested. Holsters not required. PCC are welcome. Non members are welcome to attend. $10 for non members of BRC and $5 for members.
URL:https://www.beloitrifleclub.org/event/practical-pistol-2/2028-10-25/
LOCATION:BRC 25 yard indoor range\, 851 Philhower Rd\, Beloit\, WI\, 53511
END:VEVENT
END:VCALENDAR