BEGIN:VCALENDAR
VERSION:2.0
PRODID:-//Beloit Rifle Club - ECPv6.15.17.1//NONSGML v1.0//EN
CALSCALE:GREGORIAN
METHOD:PUBLISH
X-ORIGINAL-URL:https://www.beloitrifleclub.org
X-WR-CALDESC:Events for Beloit Rifle Club
REFRESH-INTERVAL;VALUE=DURATION:PT1H
X-Robots-Tag:noindex
X-PUBLISHED-TTL:PT1H
BEGIN:VTIMEZONE
TZID:America/Chicago
BEGIN:DAYLIGHT
TZOFFSETFROM:-0600
TZOFFSETTO:-0500
TZNAME:CDT
DTSTART:20250309T080000
END:DAYLIGHT
BEGIN:STANDARD
TZOFFSETFROM:-0500
TZOFFSETTO:-0600
TZNAME:CST
DTSTART:20251102T070000
END:STANDARD
BEGIN:DAYLIGHT
TZOFFSETFROM:-0600
TZOFFSETTO:-0500
TZNAME:CDT
DTSTART:20260308T080000
END:DAYLIGHT
BEGIN:STANDARD
TZOFFSETFROM:-0500
TZOFFSETTO:-0600
TZNAME:CST
DTSTART:20261101T070000
END:STANDARD
BEGIN:DAYLIGHT
TZOFFSETFROM:-0600
TZOFFSETTO:-0500
TZNAME:CDT
DTSTART:20270314T080000
END:DAYLIGHT
BEGIN:STANDARD
TZOFFSETFROM:-0500
TZOFFSETTO:-0600
TZNAME:CST
DTSTART:20271107T070000
END:STANDARD
BEGIN:DAYLIGHT
TZOFFSETFROM:-0600
TZOFFSETTO:-0500
TZNAME:CDT
DTSTART:20280312T080000
END:DAYLIGHT
BEGIN:STANDARD
TZOFFSETFROM:-0500
TZOFFSETTO:-0600
TZNAME:CST
DTSTART:20281105T070000
END:STANDARD
BEGIN:DAYLIGHT
TZOFFSETFROM:-0600
TZOFFSETTO:-0500
TZNAME:CDT
DTSTART:20290311T080000
END:DAYLIGHT
BEGIN:STANDARD
TZOFFSETFROM:-0500
TZOFFSETTO:-0600
TZNAME:CST
DTSTART:20291104T070000
END:STANDARD
BEGIN:DAYLIGHT
TZOFFSETFROM:-0600
TZOFFSETTO:-0500
TZNAME:CDT
DTSTART:20300310T080000
END:DAYLIGHT
BEGIN:STANDARD
TZOFFSETFROM:-0500
TZOFFSETTO:-0600
TZNAME:CST
DTSTART:20301103T070000
END:STANDARD
BEGIN:DAYLIGHT
TZOFFSETFROM:-0600
TZOFFSETTO:-0500
TZNAME:CDT
DTSTART:20310309T080000
END:DAYLIGHT
BEGIN:STANDARD
TZOFFSETFROM:-0500
TZOFFSETTO:-0600
TZNAME:CST
DTSTART:20311102T070000
END:STANDARD
BEGIN:DAYLIGHT
TZOFFSETFROM:-0600
TZOFFSETTO:-0500
TZNAME:CDT
DTSTART:20320314T080000
END:DAYLIGHT
BEGIN:STANDARD
TZOFFSETFROM:-0500
TZOFFSETTO:-0600
TZNAME:CST
DTSTART:20321107T070000
END:STANDARD
BEGIN:DAYLIGHT
TZOFFSETFROM:-0600
TZOFFSETTO:-0500
TZNAME:CDT
DTSTART:20330313T080000
END:DAYLIGHT
BEGIN:STANDARD
TZOFFSETFROM:-0500
TZOFFSETTO:-0600
TZNAME:CST
DTSTART:20331106T070000
END:STANDARD
BEGIN:DAYLIGHT
TZOFFSETFROM:-0600
TZOFFSETTO:-0500
TZNAME:CDT
DTSTART:20340312T080000
END:DAYLIGHT
BEGIN:STANDARD
TZOFFSETFROM:-0500
TZOFFSETTO:-0600
TZNAME:CST
DTSTART:20341105T070000
END:STANDARD
BEGIN:DAYLIGHT
TZOFFSETFROM:-0600
TZOFFSETTO:-0500
TZNAME:CDT
DTSTART:20350311T080000
END:DAYLIGHT
BEGIN:STANDARD
TZOFFSETFROM:-0500
TZOFFSETTO:-0600
TZNAME:CST
DTSTART:20351104T070000
END:STANDARD
BEGIN:DAYLIGHT
TZOFFSETFROM:-0600
TZOFFSETTO:-0500
TZNAME:CDT
DTSTART:20360309T080000
END:DAYLIGHT
BEGIN:STANDARD
TZOFFSETFROM:-0500
TZOFFSETTO:-0600
TZNAME:CST
DTSTART:20361102T070000
END:STANDARD
BEGIN:DAYLIGHT
TZOFFSETFROM:-0600
TZOFFSETTO:-0500
TZNAME:CDT
DTSTART:20370308T080000
END:DAYLIGHT
BEGIN:STANDARD
TZOFFSETFROM:-0500
TZOFFSETTO:-0600
TZNAME:CST
DTSTART:20371101T070000
END:STANDARD
BEGIN:DAYLIGHT
TZOFFSETFROM:-0600
TZOFFSETTO:-0500
TZNAME:CDT
DTSTART:20380314T080000
END:DAYLIGHT
BEGIN:STANDARD
TZOFFSETFROM:-0500
TZOFFSETTO:-0600
TZNAME:CST
DTSTART:20381107T070000
END:STANDARD
BEGIN:DAYLIGHT
TZOFFSETFROM:-0600
TZOFFSETTO:-0500
TZNAME:CDT
DTSTART:20390313T080000
END:DAYLIGHT
BEGIN:STANDARD
TZOFFSETFROM:-0500
TZOFFSETTO:-0600
TZNAME:CST
DTSTART:20391106T070000
END:STANDARD
BEGIN:DAYLIGHT
TZOFFSETFROM:-0600
TZOFFSETTO:-0500
TZNAME:CDT
DTSTART:20400311T080000
END:DAYLIGHT
BEGIN:STANDARD
TZOFFSETFROM:-0500
TZOFFSETTO:-0600
TZNAME:CST
DTSTART:20401104T070000
END:STANDARD
BEGIN:DAYLIGHT
TZOFFSETFROM:-0600
TZOFFSETTO:-0500
TZNAME:CDT
DTSTART:20410310T080000
END:DAYLIGHT
BEGIN:STANDARD
TZOFFSETFROM:-0500
TZOFFSETTO:-0600
TZNAME:CST
DTSTART:20411103T070000
END:STANDARD
BEGIN:DAYLIGHT
TZOFFSETFROM:-0600
TZOFFSETTO:-0500
TZNAME:CDT
DTSTART:20420309T080000
END:DAYLIGHT
BEGIN:STANDARD
TZOFFSETFROM:-0500
TZOFFSETTO:-0600
TZNAME:CST
DTSTART:20421102T070000
END:STANDARD
BEGIN:DAYLIGHT
TZOFFSETFROM:-0600
TZOFFSETTO:-0500
TZNAME:CDT
DTSTART:20430308T080000
END:DAYLIGHT
BEGIN:STANDARD
TZOFFSETFROM:-0500
TZOFFSETTO:-0600
TZNAME:CST
DTSTART:20431101T070000
END:STANDARD
BEGIN:DAYLIGHT
TZOFFSETFROM:-0600
TZOFFSETTO:-0500
TZNAME:CDT
DTSTART:20440313T080000
END:DAYLIGHT
BEGIN:STANDARD
TZOFFSETFROM:-0500
TZOFFSETTO:-0600
TZNAME:CST
DTSTART:20441106T070000
END:STANDARD
BEGIN:DAYLIGHT
TZOFFSETFROM:-0600
TZOFFSETTO:-0500
TZNAME:CDT
DTSTART:20450312T080000
END:DAYLIGHT
BEGIN:STANDARD
TZOFFSETFROM:-0500
TZOFFSETTO:-0600
TZNAME:CST
DTSTART:20451105T070000
END:STANDARD
BEGIN:DAYLIGHT
TZOFFSETFROM:-0600
TZOFFSETTO:-0500
TZNAME:CDT
DTSTART:20460311T080000
END:DAYLIGHT
BEGIN:STANDARD
TZOFFSETFROM:-0500
TZOFFSETTO:-0600
TZNAME:CST
DTSTART:20461104T070000
END:STANDARD
BEGIN:DAYLIGHT
TZOFFSETFROM:-0600
TZOFFSETTO:-0500
TZNAME:CDT
DTSTART:20470310T080000
END:DAYLIGHT
BEGIN:STANDARD
TZOFFSETFROM:-0500
TZOFFSETTO:-0600
TZNAME:CST
DTSTART:20471103T070000
END:STANDARD
BEGIN:DAYLIGHT
TZOFFSETFROM:-0600
TZOFFSETTO:-0500
TZNAME:CDT
DTSTART:20480308T080000
END:DAYLIGHT
BEGIN:STANDARD
TZOFFSETFROM:-0500
TZOFFSETTO:-0600
TZNAME:CST
DTSTART:20481101T070000
END:STANDARD
BEGIN:DAYLIGHT
TZOFFSETFROM:-0600
TZOFFSETTO:-0500
TZNAME:CDT
DTSTART:20490314T080000
END:DAYLIGHT
BEGIN:STANDARD
TZOFFSETFROM:-0500
TZOFFSETTO:-0600
TZNAME:CST
DTSTART:20491107T070000
END:STANDARD
BEGIN:DAYLIGHT
TZOFFSETFROM:-0600
TZOFFSETTO:-0500
TZNAME:CDT
DTSTART:20500313T080000
END:DAYLIGHT
BEGIN:STANDARD
TZOFFSETFROM:-0500
TZOFFSETTO:-0600
TZNAME:CST
DTSTART:20501106T070000
END:STANDARD
BEGIN:DAYLIGHT
TZOFFSETFROM:-0600
TZOFFSETTO:-0500
TZNAME:CDT
DTSTART:20510312T080000
END:DAYLIGHT
BEGIN:STANDARD
TZOFFSETFROM:-0500
TZOFFSETTO:-0600
TZNAME:CST
DTSTART:20511105T070000
END:STANDARD
BEGIN:DAYLIGHT
TZOFFSETFROM:-0600
TZOFFSETTO:-0500
TZNAME:CDT
DTSTART:20520310T080000
END:DAYLIGHT
BEGIN:STANDARD
TZOFFSETFROM:-0500
TZOFFSETTO:-0600
TZNAME:CST
DTSTART:20521103T070000
END:STANDARD
BEGIN:DAYLIGHT
TZOFFSETFROM:-0600
TZOFFSETTO:-0500
TZNAME:CDT
DTSTART:20530309T080000
END:DAYLIGHT
BEGIN:STANDARD
TZOFFSETFROM:-0500
TZOFFSETTO:-0600
TZNAME:CST
DTSTART:20531102T070000
END:STANDARD
BEGIN:DAYLIGHT
TZOFFSETFROM:-0600
TZOFFSETTO:-0500
TZNAME:CDT
DTSTART:20540308T080000
END:DAYLIGHT
BEGIN:STANDARD
TZOFFSETFROM:-0500
TZOFFSETTO:-0600
TZNAME:CST
DTSTART:20541101T070000
END:STANDARD
BEGIN:DAYLIGHT
TZOFFSETFROM:-0600
TZOFFSETTO:-0500
TZNAME:CDT
DTSTART:20550314T080000
END:DAYLIGHT
BEGIN:STANDARD
TZOFFSETFROM:-0500
TZOFFSETTO:-0600
TZNAME:CST
DTSTART:20551107T070000
END:STANDARD
END:VTIMEZONE
BEGIN:VEVENT
DTSTART;TZID=America/Chicago:20260505T180000
DTEND;TZID=America/Chicago:20260505T193000
DTSTAMP:20260422T065150
CREATED:20241102T135834Z
LAST-MODIFIED:20250816T205926Z
UID:10012856-1778004000-1778009400@www.beloitrifleclub.org
SUMMARY:Ladies in Arms - Group 1 - Shooting Classes
DESCRIPTION:  \n\n\n\nTime: 6:00 PM to 7:30 PM\n\n\nMonth\nDay\nAdditional info\n\n\n\n\nSeptember\n26\n \n\n\nOctober\n10\n \n\n\nNovember\n4\n \n\n\nDecember\n2\n \n\n\nJanuary\n13\n \n\n\nFebruary\n10\n \n\n\nMarch\n10\n \n\n\nApril\n7\n \n\n\nMay\n5\n \n\n\n\n 
URL:https://www.beloitrifleclub.org/event/ladies-in-arms-classes/2026-05-05/
LOCATION:Clubhouse Indoor Range\, 851 E Philhower Road\, Beloit\, WI\, 53511\, United States
END:VEVENT
BEGIN:VEVENT
DTSTART;TZID=America/Chicago:20260512T060000
DTEND;TZID=America/Chicago:20260512T073000
DTSTAMP:20260422T065150
CREATED:20250816T204552Z
LAST-MODIFIED:20250816T205644Z
UID:10012913-1778565600-1778571000@www.beloitrifleclub.org
SUMMARY:Ladies in Arms - Group 2 - Shooting Classes
DESCRIPTION:  \n\n\n\nTime: 6:00 PM to 7:30 PM\n\n\nMonth\nDay\nAdditional info\n\n\n\n\nSeptember\n16\n \n\n\nOctober\n14\n \n\n\nNovember\n11\n \n\n\nDecember\n9\n \n\n\nJanuary\n20\n \n\n\nFebruary\n17\n \n\n\nMarch\n17\n \n\n\nApril\n14\n \n\n\nMay\n12\n \n\n\n\n 
URL:https://www.beloitrifleclub.org/event/ladies-in-arms-group-2-shooting-classes/2026-05-12/
LOCATION:Clubhouse Indoor Range\, 851 E Philhower Road\, Beloit\, WI\, 53511\, United States
END:VEVENT
BEGIN:VEVENT
DTSTART;TZID=America/Chicago:20260519T060000
DTEND;TZID=America/Chicago:20260519T073000
DTSTAMP:20260422T065150
CREATED:20250816T205428Z
LAST-MODIFIED:20250816T205607Z
UID:10012903-1779170400-1779175800@www.beloitrifleclub.org
SUMMARY:Ladies in Arms - Group 3 - Shooting Classes
DESCRIPTION:  \n\n\n\nTime: 6:00 PM to 7:30 PM\n\n\nMonth\nDay\nAdditional info\n\n\n\n\nSeptember\n30\n \n\n\nOctober\n21\n \n\n\nNovember\n18\n \n\n\nDecember\n16\n \n\n\nJanuary\n20\n \n\n\nFebruary\n24\n \n\n\nMarch\n24\n \n\n\nApril\n21\n \n\n\nMay\n19\n \n\n\n\n 
URL:https://www.beloitrifleclub.org/event/ladies-in-arms-group-3-shooting-classes/2026-05-19/
LOCATION:Clubhouse Indoor Range\, 851 E Philhower Road\, Beloit\, WI\, 53511\, United States
END:VEVENT
BEGIN:VEVENT
DTSTART;TZID=America/Chicago:20260519T180000
DTEND;TZID=America/Chicago:20260519T193000
DTSTAMP:20260422T065150
CREATED:20260201T170919Z
LAST-MODIFIED:20260204T225645Z
UID:10013319-1779213600-1779219000@www.beloitrifleclub.org
SUMMARY:Ladies in Arms Shooting
DESCRIPTION:  \n\n\n\nTime: 6:00 PM to 7:30 PM\n\n\nMonth\nDay\nAdditional info\n\n\n\n\nDecember (2025)\n16\n \n\n\nJanuary\n27\n \n\n\nFebruary\n24\n \n\n\nMarch\n24\n \n\n\nApril\n21\n \n\n\nMay\n19\n \n\n\n\nLocation:  New Indoor Range \n  \nSign Up\n   \nContact Us\n 
URL:https://www.beloitrifleclub.org/event/ladies-in-arms-shooting/2026-05-19/
LOCATION:New Indoor Range
ATTACH;FMTTYPE=image/jpeg:https://www.beloitrifleclub.org/wp-content/uploads/2020/09/women.shooters.jpg
END:VEVENT
BEGIN:VEVENT
DTSTART;TZID=America/Chicago:20271103T150000
DTEND;TZID=America/Chicago:20271103T163000
DTSTAMP:20260422T065150
CREATED:20241102T135834Z
LAST-MODIFIED:20250816T205926Z
UID:10012915-1825254000-1825259400@www.beloitrifleclub.org
SUMMARY:Ladies in Arms - Group 1 - Shooting Classes
DESCRIPTION:  \n\n\n\nTime: 6:00 PM to 7:30 PM\n\n\nMonth\nDay\nAdditional info\n\n\n\n\nSeptember\n26\n \n\n\nOctober\n10\n \n\n\nNovember\n4\n \n\n\nDecember\n2\n \n\n\nJanuary\n13\n \n\n\nFebruary\n10\n \n\n\nMarch\n10\n \n\n\nApril\n7\n \n\n\nMay\n5\n \n\n\n\n 
URL:https://www.beloitrifleclub.org/event/ladies-in-arms-classes/2027-11-03/
LOCATION:Clubhouse Indoor Range\, 851 E Philhower Road\, Beloit\, WI\, 53511\, United States
END:VEVENT
BEGIN:VEVENT
DTSTART;TZID=America/Chicago:20311222T060000
DTEND;TZID=America/Chicago:20311222T073000
DTSTAMP:20260422T065150
CREATED:20250816T204552Z
LAST-MODIFIED:20250816T205644Z
UID:10012914-1955685600-1955691000@www.beloitrifleclub.org
SUMMARY:Ladies in Arms - Group 2 - Shooting Classes
DESCRIPTION:  \n\n\n\nTime: 6:00 PM to 7:30 PM\n\n\nMonth\nDay\nAdditional info\n\n\n\n\nSeptember\n16\n \n\n\nOctober\n14\n \n\n\nNovember\n11\n \n\n\nDecember\n9\n \n\n\nJanuary\n20\n \n\n\nFebruary\n17\n \n\n\nMarch\n17\n \n\n\nApril\n14\n \n\n\nMay\n12\n \n\n\n\n 
URL:https://www.beloitrifleclub.org/event/ladies-in-arms-group-2-shooting-classes/2031-12-22/
LOCATION:Clubhouse Indoor Range\, 851 E Philhower Road\, Beloit\, WI\, 53511\, United States
END:VEVENT
BEGIN:VEVENT
DTSTART;TZID=America/Chicago:20540210T060000
DTEND;TZID=America/Chicago:20540210T073000
DTSTAMP:20260422T065150
CREATED:20250816T205428Z
LAST-MODIFIED:20250816T205607Z
UID:10012905-2654316000-2654321400@www.beloitrifleclub.org
SUMMARY:Ladies in Arms - Group 3 - Shooting Classes
DESCRIPTION:  \n\n\n\nTime: 6:00 PM to 7:30 PM\n\n\nMonth\nDay\nAdditional info\n\n\n\n\nSeptember\n30\n \n\n\nOctober\n21\n \n\n\nNovember\n18\n \n\n\nDecember\n16\n \n\n\nJanuary\n20\n \n\n\nFebruary\n24\n \n\n\nMarch\n24\n \n\n\nApril\n21\n \n\n\nMay\n19\n \n\n\n\n 
URL:https://www.beloitrifleclub.org/event/ladies-in-arms-group-3-shooting-classes/2054-02-10/
LOCATION:Clubhouse Indoor Range\, 851 E Philhower Road\, Beloit\, WI\, 53511\, United States
END:VEVENT
BEGIN:VEVENT
DTSTART;TZID=America/Chicago:20541118T180000
DTEND;TZID=America/Chicago:20541118T193000
DTSTAMP:20260422T065150
CREATED:20260201T170919Z
LAST-MODIFIED:20260204T225645Z
UID:10013320-2678637600-2678643000@www.beloitrifleclub.org
SUMMARY:Ladies in Arms Shooting
DESCRIPTION:  \n\n\n\nTime: 6:00 PM to 7:30 PM\n\n\nMonth\nDay\nAdditional info\n\n\n\n\nDecember (2025)\n16\n \n\n\nJanuary\n27\n \n\n\nFebruary\n24\n \n\n\nMarch\n24\n \n\n\nApril\n21\n \n\n\nMay\n19\n \n\n\n\nLocation:  New Indoor Range \n  \nSign Up\n   \nContact Us\n 
URL:https://www.beloitrifleclub.org/event/ladies-in-arms-shooting/2054-11-18/
LOCATION:New Indoor Range
ATTACH;FMTTYPE=image/jpeg:https://www.beloitrifleclub.org/wp-content/uploads/2020/09/women.shooters.jpg
END:VEVENT
END:VCALENDAR