BEGIN:VCALENDAR
VERSION:2.0
PRODID:-//Beloit Rifle Club - ECPv6.15.17.1//NONSGML v1.0//EN
CALSCALE:GREGORIAN
METHOD:PUBLISH
X-WR-CALNAME:Beloit Rifle Club
X-ORIGINAL-URL:https://www.beloitrifleclub.org
X-WR-CALDESC:Events for Beloit Rifle Club
REFRESH-INTERVAL;VALUE=DURATION:PT1H
X-Robots-Tag:noindex
X-PUBLISHED-TTL:PT1H
BEGIN:VTIMEZONE
TZID:America/Chicago
BEGIN:DAYLIGHT
TZOFFSETFROM:-0600
TZOFFSETTO:-0500
TZNAME:CDT
DTSTART:20230312T080000
END:DAYLIGHT
BEGIN:STANDARD
TZOFFSETFROM:-0500
TZOFFSETTO:-0600
TZNAME:CST
DTSTART:20231105T070000
END:STANDARD
BEGIN:DAYLIGHT
TZOFFSETFROM:-0600
TZOFFSETTO:-0500
TZNAME:CDT
DTSTART:20240310T080000
END:DAYLIGHT
BEGIN:STANDARD
TZOFFSETFROM:-0500
TZOFFSETTO:-0600
TZNAME:CST
DTSTART:20241103T070000
END:STANDARD
BEGIN:DAYLIGHT
TZOFFSETFROM:-0600
TZOFFSETTO:-0500
TZNAME:CDT
DTSTART:20250309T080000
END:DAYLIGHT
BEGIN:STANDARD
TZOFFSETFROM:-0500
TZOFFSETTO:-0600
TZNAME:CST
DTSTART:20251102T070000
END:STANDARD
BEGIN:DAYLIGHT
TZOFFSETFROM:-0600
TZOFFSETTO:-0500
TZNAME:CDT
DTSTART:20260308T080000
END:DAYLIGHT
BEGIN:STANDARD
TZOFFSETFROM:-0500
TZOFFSETTO:-0600
TZNAME:CST
DTSTART:20261101T070000
END:STANDARD
BEGIN:DAYLIGHT
TZOFFSETFROM:-0600
TZOFFSETTO:-0500
TZNAME:CDT
DTSTART:20270314T080000
END:DAYLIGHT
BEGIN:STANDARD
TZOFFSETFROM:-0500
TZOFFSETTO:-0600
TZNAME:CST
DTSTART:20271107T070000
END:STANDARD
END:VTIMEZONE
BEGIN:VEVENT
DTSTART;TZID=America/Chicago:20260421T180000
DTEND;TZID=America/Chicago:20260421T193000
DTSTAMP:20260424T033537
CREATED:20260201T170919Z
LAST-MODIFIED:20260204T225645Z
UID:10013318-1776794400-1776799800@www.beloitrifleclub.org
SUMMARY:Ladies in Arms Shooting
DESCRIPTION:  \n\n\n\nTime: 6:00 PM to 7:30 PM\n\n\nMonth\nDay\nAdditional info\n\n\n\n\nDecember (2025)\n16\n \n\n\nJanuary\n27\n \n\n\nFebruary\n24\n \n\n\nMarch\n24\n \n\n\nApril\n21\n \n\n\nMay\n19\n \n\n\n\nLocation:  New Indoor Range \n  \nSign Up\n   \nContact Us\n 
URL:https://www.beloitrifleclub.org/event/ladies-in-arms-shooting/2026-04-21/
LOCATION:New Indoor Range
ATTACH;FMTTYPE=image/jpeg:https://www.beloitrifleclub.org/wp-content/uploads/2020/09/women.shooters.jpg
END:VEVENT
BEGIN:VEVENT
DTSTART;TZID=America/Chicago:20260421T060000
DTEND;TZID=America/Chicago:20260421T073000
DTSTAMP:20260424T033537
CREATED:20250816T205428Z
LAST-MODIFIED:20250816T205607Z
UID:10012902-1776751200-1776756600@www.beloitrifleclub.org
SUMMARY:Ladies in Arms - Group 3 - Shooting Classes
DESCRIPTION:  \n\n\n\nTime: 6:00 PM to 7:30 PM\n\n\nMonth\nDay\nAdditional info\n\n\n\n\nSeptember\n30\n \n\n\nOctober\n21\n \n\n\nNovember\n18\n \n\n\nDecember\n16\n \n\n\nJanuary\n20\n \n\n\nFebruary\n24\n \n\n\nMarch\n24\n \n\n\nApril\n21\n \n\n\nMay\n19\n \n\n\n\n 
URL:https://www.beloitrifleclub.org/event/ladies-in-arms-group-3-shooting-classes/2026-04-21/
LOCATION:Clubhouse Indoor Range\, 851 E Philhower Road\, Beloit\, WI\, 53511\, United States
END:VEVENT
BEGIN:VEVENT
DTSTART;TZID=America/Chicago:20260414T060000
DTEND;TZID=America/Chicago:20260414T073000
DTSTAMP:20260424T033537
CREATED:20250816T204552Z
LAST-MODIFIED:20250816T205644Z
UID:10012912-1776146400-1776151800@www.beloitrifleclub.org
SUMMARY:Ladies in Arms - Group 2 - Shooting Classes
DESCRIPTION:  \n\n\n\nTime: 6:00 PM to 7:30 PM\n\n\nMonth\nDay\nAdditional info\n\n\n\n\nSeptember\n16\n \n\n\nOctober\n14\n \n\n\nNovember\n11\n \n\n\nDecember\n9\n \n\n\nJanuary\n20\n \n\n\nFebruary\n17\n \n\n\nMarch\n17\n \n\n\nApril\n14\n \n\n\nMay\n12\n \n\n\n\n 
URL:https://www.beloitrifleclub.org/event/ladies-in-arms-group-2-shooting-classes/2026-04-14/
LOCATION:Clubhouse Indoor Range\, 851 E Philhower Road\, Beloit\, WI\, 53511\, United States
END:VEVENT
BEGIN:VEVENT
DTSTART;TZID=America/Chicago:20260407T180000
DTEND;TZID=America/Chicago:20260407T193000
DTSTAMP:20260424T033537
CREATED:20241102T135834Z
LAST-MODIFIED:20250816T205926Z
UID:10012855-1775584800-1775590200@www.beloitrifleclub.org
SUMMARY:Ladies in Arms - Group 1 - Shooting Classes
DESCRIPTION:  \n\n\n\nTime: 6:00 PM to 7:30 PM\n\n\nMonth\nDay\nAdditional info\n\n\n\n\nSeptember\n26\n \n\n\nOctober\n10\n \n\n\nNovember\n4\n \n\n\nDecember\n2\n \n\n\nJanuary\n13\n \n\n\nFebruary\n10\n \n\n\nMarch\n10\n \n\n\nApril\n7\n \n\n\nMay\n5\n \n\n\n\n 
URL:https://www.beloitrifleclub.org/event/ladies-in-arms-classes/2026-04-07/
LOCATION:Clubhouse Indoor Range\, 851 E Philhower Road\, Beloit\, WI\, 53511\, United States
END:VEVENT
BEGIN:VEVENT
DTSTART;TZID=America/Chicago:20260324T180000
DTEND;TZID=America/Chicago:20260324T193000
DTSTAMP:20260424T033537
CREATED:20260201T170919Z
LAST-MODIFIED:20260204T225645Z
UID:10013317-1774375200-1774380600@www.beloitrifleclub.org
SUMMARY:Ladies in Arms Shooting
DESCRIPTION:  \n\n\n\nTime: 6:00 PM to 7:30 PM\n\n\nMonth\nDay\nAdditional info\n\n\n\n\nDecember (2025)\n16\n \n\n\nJanuary\n27\n \n\n\nFebruary\n24\n \n\n\nMarch\n24\n \n\n\nApril\n21\n \n\n\nMay\n19\n \n\n\n\nLocation:  New Indoor Range \n  \nSign Up\n   \nContact Us\n 
URL:https://www.beloitrifleclub.org/event/ladies-in-arms-shooting/2026-03-24/
LOCATION:New Indoor Range
ATTACH;FMTTYPE=image/jpeg:https://www.beloitrifleclub.org/wp-content/uploads/2020/09/women.shooters.jpg
END:VEVENT
BEGIN:VEVENT
DTSTART;TZID=America/Chicago:20260224T180000
DTEND;TZID=America/Chicago:20260224T193000
DTSTAMP:20260424T033537
CREATED:20260201T170919Z
LAST-MODIFIED:20260204T225645Z
UID:10013316-1771956000-1771961400@www.beloitrifleclub.org
SUMMARY:Ladies in Arms Shooting
DESCRIPTION:  \n\n\n\nTime: 6:00 PM to 7:30 PM\n\n\nMonth\nDay\nAdditional info\n\n\n\n\nDecember (2025)\n16\n \n\n\nJanuary\n27\n \n\n\nFebruary\n24\n \n\n\nMarch\n24\n \n\n\nApril\n21\n \n\n\nMay\n19\n \n\n\n\nLocation:  New Indoor Range \n  \nSign Up\n   \nContact Us\n 
URL:https://www.beloitrifleclub.org/event/ladies-in-arms-shooting/2026-02-24/
LOCATION:New Indoor Range
ATTACH;FMTTYPE=image/jpeg:https://www.beloitrifleclub.org/wp-content/uploads/2020/09/women.shooters.jpg
END:VEVENT
BEGIN:VEVENT
DTSTART;TZID=America/Chicago:20260127T180000
DTEND;TZID=America/Chicago:20260127T193000
DTSTAMP:20260424T033537
CREATED:20260201T170919Z
LAST-MODIFIED:20260204T225645Z
UID:10013315-1769536800-1769542200@www.beloitrifleclub.org
SUMMARY:Ladies in Arms Shooting
DESCRIPTION:  \n\n\n\nTime: 6:00 PM to 7:30 PM\n\n\nMonth\nDay\nAdditional info\n\n\n\n\nDecember (2025)\n16\n \n\n\nJanuary\n27\n \n\n\nFebruary\n24\n \n\n\nMarch\n24\n \n\n\nApril\n21\n \n\n\nMay\n19\n \n\n\n\nLocation:  New Indoor Range \n  \nSign Up\n   \nContact Us\n 
URL:https://www.beloitrifleclub.org/event/ladies-in-arms-shooting/2026-01-27/
LOCATION:New Indoor Range
ATTACH;FMTTYPE=image/jpeg:https://www.beloitrifleclub.org/wp-content/uploads/2020/09/women.shooters.jpg
END:VEVENT
BEGIN:VEVENT
DTSTART;TZID=America/Chicago:20251216T060000
DTEND;TZID=America/Chicago:20251216T073000
DTSTAMP:20260424T033537
CREATED:20251216T140130Z
LAST-MODIFIED:20251216T140136Z
UID:10012901-1765864800-1765870200@www.beloitrifleclub.org
SUMMARY:Ladies in Arms - Group 3 - Shooting Classes
DESCRIPTION:  \n\n\n\nTime: 6:00 PM to 7:30 PM\n\n\nMonth\nDay\nAdditional info\n\n\n\n\nSeptember\n30\n\n\n\nOctober\n21\n\n\n\nNovember\n18\n\n\n\nDecember\n16\n\n\n\nJanuary\n20\n\n\n\nFebruary\n24\n\n\n\nMarch\n24\n\n\n\nApril\n21\n\n\n\nMay\n19\n\n\n\n\n 
URL:https://www.beloitrifleclub.org/event/ladies-in-arms-group-3-shooting-classes-2/
LOCATION:New Indoor Range
END:VEVENT
BEGIN:VEVENT
DTSTART;TZID=America/Chicago:20251209T060000
DTEND;TZID=America/Chicago:20251209T073000
DTSTAMP:20260424T033537
CREATED:20250816T204552Z
LAST-MODIFIED:20250816T205644Z
UID:10012911-1765260000-1765265400@www.beloitrifleclub.org
SUMMARY:Ladies in Arms - Group 2 - Shooting Classes
DESCRIPTION:  \n\n\n\nTime: 6:00 PM to 7:30 PM\n\n\nMonth\nDay\nAdditional info\n\n\n\n\nSeptember\n16\n \n\n\nOctober\n14\n \n\n\nNovember\n11\n \n\n\nDecember\n9\n \n\n\nJanuary\n20\n \n\n\nFebruary\n17\n \n\n\nMarch\n17\n \n\n\nApril\n14\n \n\n\nMay\n12\n \n\n\n\n 
URL:https://www.beloitrifleclub.org/event/ladies-in-arms-group-2-shooting-classes/2025-12-09/
LOCATION:Clubhouse Indoor Range\, 851 E Philhower Road\, Beloit\, WI\, 53511\, United States
END:VEVENT
BEGIN:VEVENT
DTSTART;TZID=America/Chicago:20251202T180000
DTEND;TZID=America/Chicago:20251202T193000
DTSTAMP:20260424T033537
CREATED:20241102T135834Z
LAST-MODIFIED:20250816T205926Z
UID:10012854-1764698400-1764703800@www.beloitrifleclub.org
SUMMARY:Ladies in Arms - Group 1 - Shooting Classes
DESCRIPTION:  \n\n\n\nTime: 6:00 PM to 7:30 PM\n\n\nMonth\nDay\nAdditional info\n\n\n\n\nSeptember\n26\n \n\n\nOctober\n10\n \n\n\nNovember\n4\n \n\n\nDecember\n2\n \n\n\nJanuary\n13\n \n\n\nFebruary\n10\n \n\n\nMarch\n10\n \n\n\nApril\n7\n \n\n\nMay\n5\n \n\n\n\n 
URL:https://www.beloitrifleclub.org/event/ladies-in-arms-classes/2025-12-02/
LOCATION:Clubhouse Indoor Range\, 851 E Philhower Road\, Beloit\, WI\, 53511\, United States
END:VEVENT
BEGIN:VEVENT
DTSTART;TZID=America/Chicago:20251118T060000
DTEND;TZID=America/Chicago:20251118T073000
DTSTAMP:20260424T033537
CREATED:20250816T205428Z
LAST-MODIFIED:20250816T205607Z
UID:10012900-1763445600-1763451000@www.beloitrifleclub.org
SUMMARY:Ladies in Arms - Group 3 - Shooting Classes
DESCRIPTION:  \n\n\n\nTime: 6:00 PM to 7:30 PM\n\n\nMonth\nDay\nAdditional info\n\n\n\n\nSeptember\n30\n \n\n\nOctober\n21\n \n\n\nNovember\n18\n \n\n\nDecember\n16\n \n\n\nJanuary\n20\n \n\n\nFebruary\n24\n \n\n\nMarch\n24\n \n\n\nApril\n21\n \n\n\nMay\n19\n \n\n\n\n 
URL:https://www.beloitrifleclub.org/event/ladies-in-arms-group-3-shooting-classes/2025-11-18/
LOCATION:Clubhouse Indoor Range\, 851 E Philhower Road\, Beloit\, WI\, 53511\, United States
END:VEVENT
BEGIN:VEVENT
DTSTART;TZID=America/Chicago:20251111T060000
DTEND;TZID=America/Chicago:20251111T073000
DTSTAMP:20260424T033537
CREATED:20250816T204552Z
LAST-MODIFIED:20250816T205644Z
UID:10012910-1762840800-1762846200@www.beloitrifleclub.org
SUMMARY:Ladies in Arms - Group 2 - Shooting Classes
DESCRIPTION:  \n\n\n\nTime: 6:00 PM to 7:30 PM\n\n\nMonth\nDay\nAdditional info\n\n\n\n\nSeptember\n16\n \n\n\nOctober\n14\n \n\n\nNovember\n11\n \n\n\nDecember\n9\n \n\n\nJanuary\n20\n \n\n\nFebruary\n17\n \n\n\nMarch\n17\n \n\n\nApril\n14\n \n\n\nMay\n12\n \n\n\n\n 
URL:https://www.beloitrifleclub.org/event/ladies-in-arms-group-2-shooting-classes/2025-11-11/
LOCATION:Clubhouse Indoor Range\, 851 E Philhower Road\, Beloit\, WI\, 53511\, United States
END:VEVENT
BEGIN:VEVENT
DTSTART;TZID=America/Chicago:20251104T180000
DTEND;TZID=America/Chicago:20251104T193000
DTSTAMP:20260424T033537
CREATED:20241102T135834Z
LAST-MODIFIED:20250816T205926Z
UID:10012853-1762279200-1762284600@www.beloitrifleclub.org
SUMMARY:Ladies in Arms - Group 1 - Shooting Classes
DESCRIPTION:  \n\n\n\nTime: 6:00 PM to 7:30 PM\n\n\nMonth\nDay\nAdditional info\n\n\n\n\nSeptember\n26\n \n\n\nOctober\n10\n \n\n\nNovember\n4\n \n\n\nDecember\n2\n \n\n\nJanuary\n13\n \n\n\nFebruary\n10\n \n\n\nMarch\n10\n \n\n\nApril\n7\n \n\n\nMay\n5\n \n\n\n\n 
URL:https://www.beloitrifleclub.org/event/ladies-in-arms-classes/2025-11-04/
LOCATION:Clubhouse Indoor Range\, 851 E Philhower Road\, Beloit\, WI\, 53511\, United States
END:VEVENT
BEGIN:VEVENT
DTSTART;TZID=America/Chicago:20251021T060000
DTEND;TZID=America/Chicago:20251021T073000
DTSTAMP:20260424T033537
CREATED:20250816T205428Z
LAST-MODIFIED:20250816T205607Z
UID:10012899-1761026400-1761031800@www.beloitrifleclub.org
SUMMARY:Ladies in Arms - Group 3 - Shooting Classes
DESCRIPTION:  \n\n\n\nTime: 6:00 PM to 7:30 PM\n\n\nMonth\nDay\nAdditional info\n\n\n\n\nSeptember\n30\n \n\n\nOctober\n21\n \n\n\nNovember\n18\n \n\n\nDecember\n16\n \n\n\nJanuary\n20\n \n\n\nFebruary\n24\n \n\n\nMarch\n24\n \n\n\nApril\n21\n \n\n\nMay\n19\n \n\n\n\n 
URL:https://www.beloitrifleclub.org/event/ladies-in-arms-group-3-shooting-classes/2025-10-21/
LOCATION:Clubhouse Indoor Range\, 851 E Philhower Road\, Beloit\, WI\, 53511\, United States
END:VEVENT
BEGIN:VEVENT
DTSTART;TZID=America/Chicago:20251014T060000
DTEND;TZID=America/Chicago:20251014T073000
DTSTAMP:20260424T033537
CREATED:20250816T204552Z
LAST-MODIFIED:20250816T205644Z
UID:10012909-1760421600-1760427000@www.beloitrifleclub.org
SUMMARY:Ladies in Arms - Group 2 - Shooting Classes
DESCRIPTION:  \n\n\n\nTime: 6:00 PM to 7:30 PM\n\n\nMonth\nDay\nAdditional info\n\n\n\n\nSeptember\n16\n \n\n\nOctober\n14\n \n\n\nNovember\n11\n \n\n\nDecember\n9\n \n\n\nJanuary\n20\n \n\n\nFebruary\n17\n \n\n\nMarch\n17\n \n\n\nApril\n14\n \n\n\nMay\n12\n \n\n\n\n 
URL:https://www.beloitrifleclub.org/event/ladies-in-arms-group-2-shooting-classes/2025-10-14/
LOCATION:Clubhouse Indoor Range\, 851 E Philhower Road\, Beloit\, WI\, 53511\, United States
END:VEVENT
BEGIN:VEVENT
DTSTART;TZID=America/Chicago:20251010T180000
DTEND;TZID=America/Chicago:20251010T193000
DTSTAMP:20260424T033537
CREATED:20241102T135834Z
LAST-MODIFIED:20250816T205926Z
UID:10012852-1760119200-1760124600@www.beloitrifleclub.org
SUMMARY:Ladies in Arms - Group 1 - Shooting Classes
DESCRIPTION:  \n\n\n\nTime: 6:00 PM to 7:30 PM\n\n\nMonth\nDay\nAdditional info\n\n\n\n\nSeptember\n26\n \n\n\nOctober\n10\n \n\n\nNovember\n4\n \n\n\nDecember\n2\n \n\n\nJanuary\n13\n \n\n\nFebruary\n10\n \n\n\nMarch\n10\n \n\n\nApril\n7\n \n\n\nMay\n5\n \n\n\n\n 
URL:https://www.beloitrifleclub.org/event/ladies-in-arms-classes/2025-10-10/
LOCATION:Clubhouse Indoor Range\, 851 E Philhower Road\, Beloit\, WI\, 53511\, United States
END:VEVENT
BEGIN:VEVENT
DTSTART;TZID=America/Chicago:20250324T060000
DTEND;TZID=America/Chicago:20250324T073000
DTSTAMP:20260424T033537
CREATED:20250816T205428Z
LAST-MODIFIED:20250816T205607Z
UID:10012898-1742796000-1742801400@www.beloitrifleclub.org
SUMMARY:Ladies in Arms - Group 3 - Shooting Classes
DESCRIPTION:  \n\n\n\nTime: 6:00 PM to 7:30 PM\n\n\nMonth\nDay\nAdditional info\n\n\n\n\nSeptember\n30\n \n\n\nOctober\n21\n \n\n\nNovember\n18\n \n\n\nDecember\n16\n \n\n\nJanuary\n20\n \n\n\nFebruary\n24\n \n\n\nMarch\n24\n \n\n\nApril\n21\n \n\n\nMay\n19\n \n\n\n\n 
URL:https://www.beloitrifleclub.org/event/ladies-in-arms-group-3-shooting-classes/2025-03-24/
LOCATION:Clubhouse Indoor Range\, 851 E Philhower Road\, Beloit\, WI\, 53511\, United States
END:VEVENT
BEGIN:VEVENT
DTSTART;TZID=America/Chicago:20250317T060000
DTEND;TZID=America/Chicago:20250317T073000
DTSTAMP:20260424T033537
CREATED:20250816T204552Z
LAST-MODIFIED:20250816T205644Z
UID:10012908-1742191200-1742196600@www.beloitrifleclub.org
SUMMARY:Ladies in Arms - Group 2 - Shooting Classes
DESCRIPTION:  \n\n\n\nTime: 6:00 PM to 7:30 PM\n\n\nMonth\nDay\nAdditional info\n\n\n\n\nSeptember\n16\n \n\n\nOctober\n14\n \n\n\nNovember\n11\n \n\n\nDecember\n9\n \n\n\nJanuary\n20\n \n\n\nFebruary\n17\n \n\n\nMarch\n17\n \n\n\nApril\n14\n \n\n\nMay\n12\n \n\n\n\n 
URL:https://www.beloitrifleclub.org/event/ladies-in-arms-group-2-shooting-classes/2025-03-17/
LOCATION:Clubhouse Indoor Range\, 851 E Philhower Road\, Beloit\, WI\, 53511\, United States
END:VEVENT
BEGIN:VEVENT
DTSTART;TZID=America/Chicago:20250310T180000
DTEND;TZID=America/Chicago:20250310T193000
DTSTAMP:20260424T033537
CREATED:20241102T135834Z
LAST-MODIFIED:20250816T205926Z
UID:10012851-1741629600-1741635000@www.beloitrifleclub.org
SUMMARY:Ladies in Arms - Group 1 - Shooting Classes
DESCRIPTION:  \n\n\n\nTime: 6:00 PM to 7:30 PM\n\n\nMonth\nDay\nAdditional info\n\n\n\n\nSeptember\n26\n \n\n\nOctober\n10\n \n\n\nNovember\n4\n \n\n\nDecember\n2\n \n\n\nJanuary\n13\n \n\n\nFebruary\n10\n \n\n\nMarch\n10\n \n\n\nApril\n7\n \n\n\nMay\n5\n \n\n\n\n 
URL:https://www.beloitrifleclub.org/event/ladies-in-arms-classes/2025-03-10/
LOCATION:Clubhouse Indoor Range\, 851 E Philhower Road\, Beloit\, WI\, 53511\, United States
END:VEVENT
BEGIN:VEVENT
DTSTART;TZID=America/Chicago:20250224T060000
DTEND;TZID=America/Chicago:20250224T073000
DTSTAMP:20260424T033537
CREATED:20250816T205428Z
LAST-MODIFIED:20250816T205607Z
UID:10012897-1740376800-1740382200@www.beloitrifleclub.org
SUMMARY:Ladies in Arms - Group 3 - Shooting Classes
DESCRIPTION:  \n\n\n\nTime: 6:00 PM to 7:30 PM\n\n\nMonth\nDay\nAdditional info\n\n\n\n\nSeptember\n30\n \n\n\nOctober\n21\n \n\n\nNovember\n18\n \n\n\nDecember\n16\n \n\n\nJanuary\n20\n \n\n\nFebruary\n24\n \n\n\nMarch\n24\n \n\n\nApril\n21\n \n\n\nMay\n19\n \n\n\n\n 
URL:https://www.beloitrifleclub.org/event/ladies-in-arms-group-3-shooting-classes/2025-02-24/
LOCATION:Clubhouse Indoor Range\, 851 E Philhower Road\, Beloit\, WI\, 53511\, United States
END:VEVENT
BEGIN:VEVENT
DTSTART;TZID=America/Chicago:20250217T060000
DTEND;TZID=America/Chicago:20250217T073000
DTSTAMP:20260424T033537
CREATED:20250816T204552Z
LAST-MODIFIED:20250816T205644Z
UID:10012907-1739772000-1739777400@www.beloitrifleclub.org
SUMMARY:Ladies in Arms - Group 2 - Shooting Classes
DESCRIPTION:  \n\n\n\nTime: 6:00 PM to 7:30 PM\n\n\nMonth\nDay\nAdditional info\n\n\n\n\nSeptember\n16\n \n\n\nOctober\n14\n \n\n\nNovember\n11\n \n\n\nDecember\n9\n \n\n\nJanuary\n20\n \n\n\nFebruary\n17\n \n\n\nMarch\n17\n \n\n\nApril\n14\n \n\n\nMay\n12\n \n\n\n\n 
URL:https://www.beloitrifleclub.org/event/ladies-in-arms-group-2-shooting-classes/2025-02-17/
LOCATION:Clubhouse Indoor Range\, 851 E Philhower Road\, Beloit\, WI\, 53511\, United States
END:VEVENT
BEGIN:VEVENT
DTSTART;TZID=America/Chicago:20250210T180000
DTEND;TZID=America/Chicago:20250210T193000
DTSTAMP:20260424T033537
CREATED:20241102T135834Z
LAST-MODIFIED:20250816T205926Z
UID:10012850-1739210400-1739215800@www.beloitrifleclub.org
SUMMARY:Ladies in Arms - Group 1 - Shooting Classes
DESCRIPTION:  \n\n\n\nTime: 6:00 PM to 7:30 PM\n\n\nMonth\nDay\nAdditional info\n\n\n\n\nSeptember\n26\n \n\n\nOctober\n10\n \n\n\nNovember\n4\n \n\n\nDecember\n2\n \n\n\nJanuary\n13\n \n\n\nFebruary\n10\n \n\n\nMarch\n10\n \n\n\nApril\n7\n \n\n\nMay\n5\n \n\n\n\n 
URL:https://www.beloitrifleclub.org/event/ladies-in-arms-classes/2025-02-10/
LOCATION:Clubhouse Indoor Range\, 851 E Philhower Road\, Beloit\, WI\, 53511\, United States
END:VEVENT
BEGIN:VEVENT
DTSTART;TZID=America/Chicago:20250127T060000
DTEND;TZID=America/Chicago:20250127T073000
DTSTAMP:20260424T033537
CREATED:20250816T205428Z
LAST-MODIFIED:20250816T205607Z
UID:10012896-1737957600-1737963000@www.beloitrifleclub.org
SUMMARY:Ladies in Arms - Group 3 - Shooting Classes
DESCRIPTION:  \n\n\n\nTime: 6:00 PM to 7:30 PM\n\n\nMonth\nDay\nAdditional info\n\n\n\n\nSeptember\n30\n \n\n\nOctober\n21\n \n\n\nNovember\n18\n \n\n\nDecember\n16\n \n\n\nJanuary\n20\n \n\n\nFebruary\n24\n \n\n\nMarch\n24\n \n\n\nApril\n21\n \n\n\nMay\n19\n \n\n\n\n 
URL:https://www.beloitrifleclub.org/event/ladies-in-arms-group-3-shooting-classes/2025-01-27/
LOCATION:Clubhouse Indoor Range\, 851 E Philhower Road\, Beloit\, WI\, 53511\, United States
END:VEVENT
BEGIN:VEVENT
DTSTART;TZID=America/Chicago:20250120T060000
DTEND;TZID=America/Chicago:20250120T073000
DTSTAMP:20260424T033537
CREATED:20250816T204552Z
LAST-MODIFIED:20250816T205644Z
UID:10012906-1737352800-1737358200@www.beloitrifleclub.org
SUMMARY:Ladies in Arms - Group 2 - Shooting Classes
DESCRIPTION:  \n\n\n\nTime: 6:00 PM to 7:30 PM\n\n\nMonth\nDay\nAdditional info\n\n\n\n\nSeptember\n16\n \n\n\nOctober\n14\n \n\n\nNovember\n11\n \n\n\nDecember\n9\n \n\n\nJanuary\n20\n \n\n\nFebruary\n17\n \n\n\nMarch\n17\n \n\n\nApril\n14\n \n\n\nMay\n12\n \n\n\n\n 
URL:https://www.beloitrifleclub.org/event/ladies-in-arms-group-2-shooting-classes/2025-01-20/
LOCATION:Clubhouse Indoor Range\, 851 E Philhower Road\, Beloit\, WI\, 53511\, United States
END:VEVENT
BEGIN:VEVENT
DTSTART;TZID=America/Chicago:20250113T180000
DTEND;TZID=America/Chicago:20250113T193000
DTSTAMP:20260424T033537
CREATED:20241102T135834Z
LAST-MODIFIED:20250816T205926Z
UID:10012849-1736791200-1736796600@www.beloitrifleclub.org
SUMMARY:Ladies in Arms - Group 1 - Shooting Classes
DESCRIPTION:  \n\n\n\nTime: 6:00 PM to 7:30 PM\n\n\nMonth\nDay\nAdditional info\n\n\n\n\nSeptember\n26\n \n\n\nOctober\n10\n \n\n\nNovember\n4\n \n\n\nDecember\n2\n \n\n\nJanuary\n13\n \n\n\nFebruary\n10\n \n\n\nMarch\n10\n \n\n\nApril\n7\n \n\n\nMay\n5\n \n\n\n\n 
URL:https://www.beloitrifleclub.org/event/ladies-in-arms-classes/2025-01-13/
LOCATION:Clubhouse Indoor Range\, 851 E Philhower Road\, Beloit\, WI\, 53511\, United States
END:VEVENT
BEGIN:VEVENT
DTSTART;TZID=America/Chicago:20240521T180000
DTEND;TZID=America/Chicago:20240521T200000
DTSTAMP:20260424T033537
CREATED:20231231T224353Z
LAST-MODIFIED:20231231T224353Z
UID:10011781-1716314400-1716321600@www.beloitrifleclub.org
SUMMARY:Women’s Shooting Group 4
DESCRIPTION:Group 4 \n6:00 PM – 8:00 PM \nDec 19\, Jan 23\, Feb 27\, Mar 26\, April 23\, May 21 \n 
URL:https://www.beloitrifleclub.org/event/womens-shooting-group-4-2/2024-05-21/
END:VEVENT
BEGIN:VEVENT
DTSTART;TZID=America/Chicago:20240518T090000
DTEND;TZID=America/Chicago:20240518T140000
DTSTAMP:20260424T033537
CREATED:20240420T153913Z
LAST-MODIFIED:20240420T154957Z
UID:10011998-1716022800-1716040800@www.beloitrifleclub.org
SUMMARY:Intro to Pistol / Refresher Course
DESCRIPTION:Intro to Pistols / Refresher Course\nSaturday May 18\, 2024 : 9am to 2pm\nBeloit Rifle Club – 851 East Philhower Rd – Beloit WI \nDownload Info\nTraining by a NRA Certified female coach.\nFor ages 13 and up! \nSkills to be learned: \n\nFirearmTerminology\nFirearmsafetyandhandlingandcare\nFundamentals of shooting: Stance\, grip\, sights\,\nbreathing\, trigger pull\, follow thru.\nMisfiresandMalfunctions\nWays to conceal carry\, situational awareness &\nfirearm suitability.\n\nClass size is limited to 10 people. \nProvided in class: \n\nTargets and limited firearms available for use in rimfire calibers (.22).\n\nYou need to bring: \n\n300-350 rounds of ammo to go with your firearm.\nIf you are using a club .22 will need to bring 40 grain .22 LR rounds\nElectronic ear muffs and eye protection.\nBall cap\,\nClosed toed shoes\nNo low cut shirts.\nWater\, snacks and lunch.\n\nPop machine is available. \nCost: $65.00\n          Please mail check in beforehand to register. \n          No refunds if no show.\nContact Julie for reservation or questions\njuliebrc@yahoo.com \n*More information to follow once signed up
URL:https://www.beloitrifleclub.org/event/intro-to-pistol-refresher-course/
LOCATION:Clubhouse Indoor Range\, 851 E Philhower Road\, Beloit\, WI\, 53511\, United States
END:VEVENT
BEGIN:VEVENT
DTSTART;TZID=America/Chicago:20240514T180000
DTEND;TZID=America/Chicago:20240514T200000
DTSTAMP:20260424T033537
CREATED:20231231T224217Z
LAST-MODIFIED:20231231T224217Z
UID:10011769-1715709600-1715716800@www.beloitrifleclub.org
SUMMARY:Women’s Shooting Group 3
DESCRIPTION:Group 3  \n6:00 PM – 8:00 PM\nDec 12\, Jan 16\, Feb 20\, Mar 19\, April 16\, May 14
URL:https://www.beloitrifleclub.org/event/womens-shooting-group-3-3/2024-05-14/
END:VEVENT
BEGIN:VEVENT
DTSTART;TZID=America/Chicago:20240507T193000
DTEND;TZID=America/Chicago:20240507T210000
DTSTAMP:20260424T033537
CREATED:20231231T223634Z
LAST-MODIFIED:20231231T223634Z
UID:10011757-1715110200-1715115600@www.beloitrifleclub.org
SUMMARY:Women’s Shooting Group 2
DESCRIPTION:Group 2  \n7:30 PM to 9:00 PM \nDec 5\, Jan 9\, Feb 13\, Mar 12\, April 9\, May 7
URL:https://www.beloitrifleclub.org/event/womens-shooting-group-2-2/2024-05-07/
END:VEVENT
BEGIN:VEVENT
DTSTART;TZID=America/Chicago:20240427T083000
DTEND;TZID=America/Chicago:20240427T163000
DTSTAMP:20260424T033537
CREATED:20240420T155339Z
LAST-MODIFIED:20240420T155339Z
UID:10011999-1714206600-1714235400@www.beloitrifleclub.org
SUMMARY:Personal Defense Class - Ladies in Arms
DESCRIPTION:Ladies in Arms – Personal Defense Class \nPersonal defense class for Ladies in Arms class. Must be signed up thru Julie to attend. \n 
URL:https://www.beloitrifleclub.org/event/personal-defense-class-ladies-in-arms/
LOCATION:BRC Clubhouse\, 851 E Philhower Road\, Beloit\, WI\, 53511\, United States
END:VEVENT
END:VCALENDAR