BEGIN:VCALENDAR
VERSION:2.0
PRODID:-//Beloit Rifle Club - ECPv6.15.17.1//NONSGML v1.0//EN
CALSCALE:GREGORIAN
METHOD:PUBLISH
X-ORIGINAL-URL:https://www.beloitrifleclub.org
X-WR-CALDESC:Events for Beloit Rifle Club
REFRESH-INTERVAL;VALUE=DURATION:PT1H
X-Robots-Tag:noindex
X-PUBLISHED-TTL:PT1H
BEGIN:VTIMEZONE
TZID:America/Chicago
BEGIN:DAYLIGHT
TZOFFSETFROM:-0600
TZOFFSETTO:-0500
TZNAME:CDT
DTSTART:20230312T080000
END:DAYLIGHT
BEGIN:STANDARD
TZOFFSETFROM:-0500
TZOFFSETTO:-0600
TZNAME:CST
DTSTART:20231105T070000
END:STANDARD
BEGIN:DAYLIGHT
TZOFFSETFROM:-0600
TZOFFSETTO:-0500
TZNAME:CDT
DTSTART:20240310T080000
END:DAYLIGHT
BEGIN:STANDARD
TZOFFSETFROM:-0500
TZOFFSETTO:-0600
TZNAME:CST
DTSTART:20241103T070000
END:STANDARD
BEGIN:DAYLIGHT
TZOFFSETFROM:-0600
TZOFFSETTO:-0500
TZNAME:CDT
DTSTART:20250309T080000
END:DAYLIGHT
BEGIN:STANDARD
TZOFFSETFROM:-0500
TZOFFSETTO:-0600
TZNAME:CST
DTSTART:20251102T070000
END:STANDARD
END:VTIMEZONE
BEGIN:VEVENT
DTSTART;TZID=America/Chicago:20240509T180000
DTEND;TZID=America/Chicago:20240509T203000
DTSTAMP:20260423T051901
CREATED:20231002T232533Z
LAST-MODIFIED:20231231T214509Z
UID:10011557-1715277600-1715286600@www.beloitrifleclub.org
SUMMARY:BRC Indoor Winter Pistol League
DESCRIPTION:All matches will be held 6pm & 7:30pm\nAll matches will be held in the indoor range\nAll matches will be  $1.00 a gun\nAll matches will follow the course of fire of the NRA National gallery course.\nAll matches will be held the 2nd and 4th thursday of the month from October thru May.\n \nStarts:  10/12/2023\nEnds:     5/9/2024\n \nNo shoot on 11/23/2023\n \nHANDICAP MATCH:  5/9/2024\nEND OF LEAGUE DINNER:  5/16/2023\n    TIME AND PLACE TO BE DETERMINED\, GUESTS $10\n \nSPECIAL NOTE: PLEASE CONTACT DON HALPERN IF YOU HAVE ANY QUESTIONS. CONTACT INFORMATION IS ON THE MEMBERSHIP CARD.  SHOOTERS OF ALL EXPERIENCE LEVELS ARE WELCOME.
URL:https://www.beloitrifleclub.org/event/brc-indoor-winter-pistol-league-2/2024-05-09/
LOCATION:Clubhouse Indoor Range\, 851 E Philhower Road\, Beloit\, WI\, 53511\, United States
END:VEVENT
BEGIN:VEVENT
DTSTART;TZID=America/Chicago:20240425T180000
DTEND;TZID=America/Chicago:20240425T203000
DTSTAMP:20260423T051901
CREATED:20231002T233120Z
LAST-MODIFIED:20231231T214349Z
UID:10011490-1714068000-1714077000@www.beloitrifleclub.org
SUMMARY:BRC Indoor Winter Pistol League
DESCRIPTION:All matches will be held 6pm & 7:30pm\nAll matches will be held in the indoor range\nAll matches will be  $1.00 a gun\nAll matches will follow the course of fire of the NRA National gallery course.\nAll matches will be held the 2nd and 4th thursday of the month from October thru May.\n \nStarts:  10/12/2023\nEnds:     5/9/2024\n \nNo shoot on 11/23/2023\n \nHANDICAP MATCH:  5/9/2024\nEND OF LEAGUE DINNER:  5/16/2023\n    TIME AND PLACE TO BE DETERMINED\, GUESTS $10\n \nSPECIAL NOTE: PLEASE CONTACT DON HALPERN IF YOU HAVE ANY QUESTIONS. CONTACT INFORMATION IS ON THE MEMBERSHIP CARD.  SHOOTERS OF ALL EXPERIENCE LEVELS ARE WELCOME.
URL:https://www.beloitrifleclub.org/event/brc-indoor-winter-pistol-league-3/2024-04-25/
LOCATION:Clubhouse Indoor Range\, 851 E Philhower Road\, Beloit\, WI\, 53511\, United States
END:VEVENT
END:VCALENDAR