BEGIN:VCALENDAR
VERSION:2.0
PRODID:-//Beloit Rifle Club - ECPv6.15.17.1//NONSGML v1.0//EN
CALSCALE:GREGORIAN
METHOD:PUBLISH
X-WR-CALNAME:Beloit Rifle Club
X-ORIGINAL-URL:https://www.beloitrifleclub.org
X-WR-CALDESC:Events for Beloit Rifle Club
REFRESH-INTERVAL;VALUE=DURATION:PT1H
X-Robots-Tag:noindex
X-PUBLISHED-TTL:PT1H
BEGIN:VTIMEZONE
TZID:America/Chicago
BEGIN:DAYLIGHT
TZOFFSETFROM:-0600
TZOFFSETTO:-0500
TZNAME:CDT
DTSTART:20250309T080000
END:DAYLIGHT
BEGIN:STANDARD
TZOFFSETFROM:-0500
TZOFFSETTO:-0600
TZNAME:CST
DTSTART:20251102T070000
END:STANDARD
BEGIN:DAYLIGHT
TZOFFSETFROM:-0600
TZOFFSETTO:-0500
TZNAME:CDT
DTSTART:20260308T080000
END:DAYLIGHT
BEGIN:STANDARD
TZOFFSETFROM:-0500
TZOFFSETTO:-0600
TZNAME:CST
DTSTART:20261101T070000
END:STANDARD
BEGIN:DAYLIGHT
TZOFFSETFROM:-0600
TZOFFSETTO:-0500
TZNAME:CDT
DTSTART:20270314T080000
END:DAYLIGHT
BEGIN:STANDARD
TZOFFSETFROM:-0500
TZOFFSETTO:-0600
TZNAME:CST
DTSTART:20271107T070000
END:STANDARD
BEGIN:DAYLIGHT
TZOFFSETFROM:-0600
TZOFFSETTO:-0500
TZNAME:CDT
DTSTART:20280312T080000
END:DAYLIGHT
BEGIN:STANDARD
TZOFFSETFROM:-0500
TZOFFSETTO:-0600
TZNAME:CST
DTSTART:20281105T070000
END:STANDARD
BEGIN:DAYLIGHT
TZOFFSETFROM:-0600
TZOFFSETTO:-0500
TZNAME:CDT
DTSTART:20290311T080000
END:DAYLIGHT
BEGIN:STANDARD
TZOFFSETFROM:-0500
TZOFFSETTO:-0600
TZNAME:CST
DTSTART:20291104T070000
END:STANDARD
END:VTIMEZONE
BEGIN:VEVENT
DTSTART;TZID=America/Chicago:20260513T183000
DTEND;TZID=America/Chicago:20260513T200000
DTSTAMP:20260424T033415
CREATED:20251230T230539Z
LAST-MODIFIED:20251230T230539Z
UID:10013064-1778697000-1778702400@www.beloitrifleclub.org
SUMMARY:Practical Pistol
DESCRIPTION:Based on USPSA style matches this is an excellent experience for defensive firearm use. This event will be held on the 2nd and 4th Wednesday of each month. Set up time is 6:30pm. Shooting of the first of three stages starts around 7:00pm. 150 rounds of ammo and multiple magazines are suggested. Holsters not required. PCC are welcome. Non members are welcome to attend. $10 for non members of BRC and $5 for members.
URL:https://www.beloitrifleclub.org/event/practical-pistol/2026-05-13/
LOCATION:BRC 25 yard indoor range\, 851 Philhower Rd\, Beloit\, WI\, 53511
END:VEVENT
BEGIN:VEVENT
DTSTART;TZID=America/Chicago:20260610T183000
DTEND;TZID=America/Chicago:20260610T200000
DTSTAMP:20260424T033415
CREATED:20251230T230539Z
LAST-MODIFIED:20251230T230539Z
UID:10013065-1781116200-1781121600@www.beloitrifleclub.org
SUMMARY:Practical Pistol
DESCRIPTION:Based on USPSA style matches this is an excellent experience for defensive firearm use. This event will be held on the 2nd and 4th Wednesday of each month. Set up time is 6:30pm. Shooting of the first of three stages starts around 7:00pm. 150 rounds of ammo and multiple magazines are suggested. Holsters not required. PCC are welcome. Non members are welcome to attend. $10 for non members of BRC and $5 for members.
URL:https://www.beloitrifleclub.org/event/practical-pistol/2026-06-10/
LOCATION:BRC 25 yard indoor range\, 851 Philhower Rd\, Beloit\, WI\, 53511
END:VEVENT
BEGIN:VEVENT
DTSTART;TZID=America/Chicago:20260708T183000
DTEND;TZID=America/Chicago:20260708T200000
DTSTAMP:20260424T033415
CREATED:20251230T230539Z
LAST-MODIFIED:20251230T230539Z
UID:10013066-1783535400-1783540800@www.beloitrifleclub.org
SUMMARY:Practical Pistol
DESCRIPTION:Based on USPSA style matches this is an excellent experience for defensive firearm use. This event will be held on the 2nd and 4th Wednesday of each month. Set up time is 6:30pm. Shooting of the first of three stages starts around 7:00pm. 150 rounds of ammo and multiple magazines are suggested. Holsters not required. PCC are welcome. Non members are welcome to attend. $10 for non members of BRC and $5 for members.
URL:https://www.beloitrifleclub.org/event/practical-pistol/2026-07-08/
LOCATION:BRC 25 yard indoor range\, 851 Philhower Rd\, Beloit\, WI\, 53511
END:VEVENT
BEGIN:VEVENT
DTSTART;TZID=America/Chicago:20260812T183000
DTEND;TZID=America/Chicago:20260812T200000
DTSTAMP:20260424T033415
CREATED:20251230T230539Z
LAST-MODIFIED:20251230T230539Z
UID:10013067-1786559400-1786564800@www.beloitrifleclub.org
SUMMARY:Practical Pistol
DESCRIPTION:Based on USPSA style matches this is an excellent experience for defensive firearm use. This event will be held on the 2nd and 4th Wednesday of each month. Set up time is 6:30pm. Shooting of the first of three stages starts around 7:00pm. 150 rounds of ammo and multiple magazines are suggested. Holsters not required. PCC are welcome. Non members are welcome to attend. $10 for non members of BRC and $5 for members.
URL:https://www.beloitrifleclub.org/event/practical-pistol/2026-08-12/
LOCATION:BRC 25 yard indoor range\, 851 Philhower Rd\, Beloit\, WI\, 53511
END:VEVENT
BEGIN:VEVENT
DTSTART;TZID=America/Chicago:20260909T183000
DTEND;TZID=America/Chicago:20260909T200000
DTSTAMP:20260424T033415
CREATED:20251230T230539Z
LAST-MODIFIED:20251230T230539Z
UID:10013068-1788978600-1788984000@www.beloitrifleclub.org
SUMMARY:Practical Pistol
DESCRIPTION:Based on USPSA style matches this is an excellent experience for defensive firearm use. This event will be held on the 2nd and 4th Wednesday of each month. Set up time is 6:30pm. Shooting of the first of three stages starts around 7:00pm. 150 rounds of ammo and multiple magazines are suggested. Holsters not required. PCC are welcome. Non members are welcome to attend. $10 for non members of BRC and $5 for members.
URL:https://www.beloitrifleclub.org/event/practical-pistol/2026-09-09/
LOCATION:BRC 25 yard indoor range\, 851 Philhower Rd\, Beloit\, WI\, 53511
END:VEVENT
BEGIN:VEVENT
DTSTART;TZID=America/Chicago:20261014T183000
DTEND;TZID=America/Chicago:20261014T200000
DTSTAMP:20260424T033415
CREATED:20251230T230539Z
LAST-MODIFIED:20251230T230539Z
UID:10013069-1792002600-1792008000@www.beloitrifleclub.org
SUMMARY:Practical Pistol
DESCRIPTION:Based on USPSA style matches this is an excellent experience for defensive firearm use. This event will be held on the 2nd and 4th Wednesday of each month. Set up time is 6:30pm. Shooting of the first of three stages starts around 7:00pm. 150 rounds of ammo and multiple magazines are suggested. Holsters not required. PCC are welcome. Non members are welcome to attend. $10 for non members of BRC and $5 for members.
URL:https://www.beloitrifleclub.org/event/practical-pistol/2026-10-14/
LOCATION:BRC 25 yard indoor range\, 851 Philhower Rd\, Beloit\, WI\, 53511
END:VEVENT
BEGIN:VEVENT
DTSTART;TZID=America/Chicago:20261111T183000
DTEND;TZID=America/Chicago:20261111T200000
DTSTAMP:20260424T033415
CREATED:20251230T230539Z
LAST-MODIFIED:20251230T230539Z
UID:10013070-1794421800-1794427200@www.beloitrifleclub.org
SUMMARY:Practical Pistol
DESCRIPTION:Based on USPSA style matches this is an excellent experience for defensive firearm use. This event will be held on the 2nd and 4th Wednesday of each month. Set up time is 6:30pm. Shooting of the first of three stages starts around 7:00pm. 150 rounds of ammo and multiple magazines are suggested. Holsters not required. PCC are welcome. Non members are welcome to attend. $10 for non members of BRC and $5 for members.
URL:https://www.beloitrifleclub.org/event/practical-pistol/2026-11-11/
LOCATION:BRC 25 yard indoor range\, 851 Philhower Rd\, Beloit\, WI\, 53511
END:VEVENT
BEGIN:VEVENT
DTSTART;TZID=America/Chicago:20261209T183000
DTEND;TZID=America/Chicago:20261209T200000
DTSTAMP:20260424T033415
CREATED:20251230T230539Z
LAST-MODIFIED:20251230T230539Z
UID:10013071-1796841000-1796846400@www.beloitrifleclub.org
SUMMARY:Practical Pistol
DESCRIPTION:Based on USPSA style matches this is an excellent experience for defensive firearm use. This event will be held on the 2nd and 4th Wednesday of each month. Set up time is 6:30pm. Shooting of the first of three stages starts around 7:00pm. 150 rounds of ammo and multiple magazines are suggested. Holsters not required. PCC are welcome. Non members are welcome to attend. $10 for non members of BRC and $5 for members.
URL:https://www.beloitrifleclub.org/event/practical-pistol/2026-12-09/
LOCATION:BRC 25 yard indoor range\, 851 Philhower Rd\, Beloit\, WI\, 53511
END:VEVENT
BEGIN:VEVENT
DTSTART;TZID=America/Chicago:20270113T183000
DTEND;TZID=America/Chicago:20270113T200000
DTSTAMP:20260424T033415
CREATED:20251230T230539Z
LAST-MODIFIED:20251230T230539Z
UID:10013072-1799865000-1799870400@www.beloitrifleclub.org
SUMMARY:Practical Pistol
DESCRIPTION:Based on USPSA style matches this is an excellent experience for defensive firearm use. This event will be held on the 2nd and 4th Wednesday of each month. Set up time is 6:30pm. Shooting of the first of three stages starts around 7:00pm. 150 rounds of ammo and multiple magazines are suggested. Holsters not required. PCC are welcome. Non members are welcome to attend. $10 for non members of BRC and $5 for members.
URL:https://www.beloitrifleclub.org/event/practical-pistol/2027-01-13/
LOCATION:BRC 25 yard indoor range\, 851 Philhower Rd\, Beloit\, WI\, 53511
END:VEVENT
BEGIN:VEVENT
DTSTART;TZID=America/Chicago:20270210T183000
DTEND;TZID=America/Chicago:20270210T200000
DTSTAMP:20260424T033415
CREATED:20251230T230539Z
LAST-MODIFIED:20251230T230539Z
UID:10013073-1802284200-1802289600@www.beloitrifleclub.org
SUMMARY:Practical Pistol
DESCRIPTION:Based on USPSA style matches this is an excellent experience for defensive firearm use. This event will be held on the 2nd and 4th Wednesday of each month. Set up time is 6:30pm. Shooting of the first of three stages starts around 7:00pm. 150 rounds of ammo and multiple magazines are suggested. Holsters not required. PCC are welcome. Non members are welcome to attend. $10 for non members of BRC and $5 for members.
URL:https://www.beloitrifleclub.org/event/practical-pistol/2027-02-10/
LOCATION:BRC 25 yard indoor range\, 851 Philhower Rd\, Beloit\, WI\, 53511
END:VEVENT
BEGIN:VEVENT
DTSTART;TZID=America/Chicago:20270310T183000
DTEND;TZID=America/Chicago:20270310T200000
DTSTAMP:20260424T033416
CREATED:20251230T230539Z
LAST-MODIFIED:20251230T230539Z
UID:10013074-1804703400-1804708800@www.beloitrifleclub.org
SUMMARY:Practical Pistol
DESCRIPTION:Based on USPSA style matches this is an excellent experience for defensive firearm use. This event will be held on the 2nd and 4th Wednesday of each month. Set up time is 6:30pm. Shooting of the first of three stages starts around 7:00pm. 150 rounds of ammo and multiple magazines are suggested. Holsters not required. PCC are welcome. Non members are welcome to attend. $10 for non members of BRC and $5 for members.
URL:https://www.beloitrifleclub.org/event/practical-pistol/2027-03-10/
LOCATION:BRC 25 yard indoor range\, 851 Philhower Rd\, Beloit\, WI\, 53511
END:VEVENT
BEGIN:VEVENT
DTSTART;TZID=America/Chicago:20270414T183000
DTEND;TZID=America/Chicago:20270414T200000
DTSTAMP:20260424T033416
CREATED:20251230T230539Z
LAST-MODIFIED:20251230T230539Z
UID:10013075-1807727400-1807732800@www.beloitrifleclub.org
SUMMARY:Practical Pistol
DESCRIPTION:Based on USPSA style matches this is an excellent experience for defensive firearm use. This event will be held on the 2nd and 4th Wednesday of each month. Set up time is 6:30pm. Shooting of the first of three stages starts around 7:00pm. 150 rounds of ammo and multiple magazines are suggested. Holsters not required. PCC are welcome. Non members are welcome to attend. $10 for non members of BRC and $5 for members.
URL:https://www.beloitrifleclub.org/event/practical-pistol/2027-04-14/
LOCATION:BRC 25 yard indoor range\, 851 Philhower Rd\, Beloit\, WI\, 53511
END:VEVENT
BEGIN:VEVENT
DTSTART;TZID=America/Chicago:20270512T183000
DTEND;TZID=America/Chicago:20270512T200000
DTSTAMP:20260424T033416
CREATED:20251230T230539Z
LAST-MODIFIED:20251230T230539Z
UID:10013076-1810146600-1810152000@www.beloitrifleclub.org
SUMMARY:Practical Pistol
DESCRIPTION:Based on USPSA style matches this is an excellent experience for defensive firearm use. This event will be held on the 2nd and 4th Wednesday of each month. Set up time is 6:30pm. Shooting of the first of three stages starts around 7:00pm. 150 rounds of ammo and multiple magazines are suggested. Holsters not required. PCC are welcome. Non members are welcome to attend. $10 for non members of BRC and $5 for members.
URL:https://www.beloitrifleclub.org/event/practical-pistol/2027-05-12/
LOCATION:BRC 25 yard indoor range\, 851 Philhower Rd\, Beloit\, WI\, 53511
END:VEVENT
BEGIN:VEVENT
DTSTART;TZID=America/Chicago:20270609T183000
DTEND;TZID=America/Chicago:20270609T200000
DTSTAMP:20260424T033416
CREATED:20251230T230539Z
LAST-MODIFIED:20251230T230539Z
UID:10013077-1812565800-1812571200@www.beloitrifleclub.org
SUMMARY:Practical Pistol
DESCRIPTION:Based on USPSA style matches this is an excellent experience for defensive firearm use. This event will be held on the 2nd and 4th Wednesday of each month. Set up time is 6:30pm. Shooting of the first of three stages starts around 7:00pm. 150 rounds of ammo and multiple magazines are suggested. Holsters not required. PCC are welcome. Non members are welcome to attend. $10 for non members of BRC and $5 for members.
URL:https://www.beloitrifleclub.org/event/practical-pistol/2027-06-09/
LOCATION:BRC 25 yard indoor range\, 851 Philhower Rd\, Beloit\, WI\, 53511
END:VEVENT
BEGIN:VEVENT
DTSTART;TZID=America/Chicago:20270714T183000
DTEND;TZID=America/Chicago:20270714T200000
DTSTAMP:20260424T033416
CREATED:20251230T230539Z
LAST-MODIFIED:20251230T230539Z
UID:10013078-1815589800-1815595200@www.beloitrifleclub.org
SUMMARY:Practical Pistol
DESCRIPTION:Based on USPSA style matches this is an excellent experience for defensive firearm use. This event will be held on the 2nd and 4th Wednesday of each month. Set up time is 6:30pm. Shooting of the first of three stages starts around 7:00pm. 150 rounds of ammo and multiple magazines are suggested. Holsters not required. PCC are welcome. Non members are welcome to attend. $10 for non members of BRC and $5 for members.
URL:https://www.beloitrifleclub.org/event/practical-pistol/2027-07-14/
LOCATION:BRC 25 yard indoor range\, 851 Philhower Rd\, Beloit\, WI\, 53511
END:VEVENT
BEGIN:VEVENT
DTSTART;TZID=America/Chicago:20270811T183000
DTEND;TZID=America/Chicago:20270811T200000
DTSTAMP:20260424T033416
CREATED:20251230T230539Z
LAST-MODIFIED:20251230T230539Z
UID:10013079-1818009000-1818014400@www.beloitrifleclub.org
SUMMARY:Practical Pistol
DESCRIPTION:Based on USPSA style matches this is an excellent experience for defensive firearm use. This event will be held on the 2nd and 4th Wednesday of each month. Set up time is 6:30pm. Shooting of the first of three stages starts around 7:00pm. 150 rounds of ammo and multiple magazines are suggested. Holsters not required. PCC are welcome. Non members are welcome to attend. $10 for non members of BRC and $5 for members.
URL:https://www.beloitrifleclub.org/event/practical-pistol/2027-08-11/
LOCATION:BRC 25 yard indoor range\, 851 Philhower Rd\, Beloit\, WI\, 53511
END:VEVENT
BEGIN:VEVENT
DTSTART;TZID=America/Chicago:20270908T183000
DTEND;TZID=America/Chicago:20270908T200000
DTSTAMP:20260424T033416
CREATED:20251230T230539Z
LAST-MODIFIED:20251230T230539Z
UID:10013080-1820428200-1820433600@www.beloitrifleclub.org
SUMMARY:Practical Pistol
DESCRIPTION:Based on USPSA style matches this is an excellent experience for defensive firearm use. This event will be held on the 2nd and 4th Wednesday of each month. Set up time is 6:30pm. Shooting of the first of three stages starts around 7:00pm. 150 rounds of ammo and multiple magazines are suggested. Holsters not required. PCC are welcome. Non members are welcome to attend. $10 for non members of BRC and $5 for members.
URL:https://www.beloitrifleclub.org/event/practical-pistol/2027-09-08/
LOCATION:BRC 25 yard indoor range\, 851 Philhower Rd\, Beloit\, WI\, 53511
END:VEVENT
BEGIN:VEVENT
DTSTART;TZID=America/Chicago:20271013T183000
DTEND;TZID=America/Chicago:20271013T200000
DTSTAMP:20260424T033416
CREATED:20251230T230539Z
LAST-MODIFIED:20251230T230539Z
UID:10013081-1823452200-1823457600@www.beloitrifleclub.org
SUMMARY:Practical Pistol
DESCRIPTION:Based on USPSA style matches this is an excellent experience for defensive firearm use. This event will be held on the 2nd and 4th Wednesday of each month. Set up time is 6:30pm. Shooting of the first of three stages starts around 7:00pm. 150 rounds of ammo and multiple magazines are suggested. Holsters not required. PCC are welcome. Non members are welcome to attend. $10 for non members of BRC and $5 for members.
URL:https://www.beloitrifleclub.org/event/practical-pistol/2027-10-13/
LOCATION:BRC 25 yard indoor range\, 851 Philhower Rd\, Beloit\, WI\, 53511
END:VEVENT
BEGIN:VEVENT
DTSTART;TZID=America/Chicago:20271110T183000
DTEND;TZID=America/Chicago:20271110T200000
DTSTAMP:20260424T033416
CREATED:20251230T230539Z
LAST-MODIFIED:20251230T230539Z
UID:10013082-1825871400-1825876800@www.beloitrifleclub.org
SUMMARY:Practical Pistol
DESCRIPTION:Based on USPSA style matches this is an excellent experience for defensive firearm use. This event will be held on the 2nd and 4th Wednesday of each month. Set up time is 6:30pm. Shooting of the first of three stages starts around 7:00pm. 150 rounds of ammo and multiple magazines are suggested. Holsters not required. PCC are welcome. Non members are welcome to attend. $10 for non members of BRC and $5 for members.
URL:https://www.beloitrifleclub.org/event/practical-pistol/2027-11-10/
LOCATION:BRC 25 yard indoor range\, 851 Philhower Rd\, Beloit\, WI\, 53511
END:VEVENT
BEGIN:VEVENT
DTSTART;TZID=America/Chicago:20271208T183000
DTEND;TZID=America/Chicago:20271208T200000
DTSTAMP:20260424T033416
CREATED:20251230T230539Z
LAST-MODIFIED:20251230T230539Z
UID:10013083-1828290600-1828296000@www.beloitrifleclub.org
SUMMARY:Practical Pistol
DESCRIPTION:Based on USPSA style matches this is an excellent experience for defensive firearm use. This event will be held on the 2nd and 4th Wednesday of each month. Set up time is 6:30pm. Shooting of the first of three stages starts around 7:00pm. 150 rounds of ammo and multiple magazines are suggested. Holsters not required. PCC are welcome. Non members are welcome to attend. $10 for non members of BRC and $5 for members.
URL:https://www.beloitrifleclub.org/event/practical-pistol/2027-12-08/
LOCATION:BRC 25 yard indoor range\, 851 Philhower Rd\, Beloit\, WI\, 53511
END:VEVENT
BEGIN:VEVENT
DTSTART;TZID=America/Chicago:20280112T183000
DTEND;TZID=America/Chicago:20280112T200000
DTSTAMP:20260424T033416
CREATED:20251230T230539Z
LAST-MODIFIED:20251230T230539Z
UID:10013084-1831314600-1831320000@www.beloitrifleclub.org
SUMMARY:Practical Pistol
DESCRIPTION:Based on USPSA style matches this is an excellent experience for defensive firearm use. This event will be held on the 2nd and 4th Wednesday of each month. Set up time is 6:30pm. Shooting of the first of three stages starts around 7:00pm. 150 rounds of ammo and multiple magazines are suggested. Holsters not required. PCC are welcome. Non members are welcome to attend. $10 for non members of BRC and $5 for members.
URL:https://www.beloitrifleclub.org/event/practical-pistol/2028-01-12/
LOCATION:BRC 25 yard indoor range\, 851 Philhower Rd\, Beloit\, WI\, 53511
END:VEVENT
BEGIN:VEVENT
DTSTART;TZID=America/Chicago:20280209T183000
DTEND;TZID=America/Chicago:20280209T200000
DTSTAMP:20260424T033416
CREATED:20251230T230539Z
LAST-MODIFIED:20251230T230539Z
UID:10013085-1833733800-1833739200@www.beloitrifleclub.org
SUMMARY:Practical Pistol
DESCRIPTION:Based on USPSA style matches this is an excellent experience for defensive firearm use. This event will be held on the 2nd and 4th Wednesday of each month. Set up time is 6:30pm. Shooting of the first of three stages starts around 7:00pm. 150 rounds of ammo and multiple magazines are suggested. Holsters not required. PCC are welcome. Non members are welcome to attend. $10 for non members of BRC and $5 for members.
URL:https://www.beloitrifleclub.org/event/practical-pistol/2028-02-09/
LOCATION:BRC 25 yard indoor range\, 851 Philhower Rd\, Beloit\, WI\, 53511
END:VEVENT
BEGIN:VEVENT
DTSTART;TZID=America/Chicago:20280308T183000
DTEND;TZID=America/Chicago:20280308T200000
DTSTAMP:20260424T033416
CREATED:20251230T230539Z
LAST-MODIFIED:20251230T230539Z
UID:10013086-1836153000-1836158400@www.beloitrifleclub.org
SUMMARY:Practical Pistol
DESCRIPTION:Based on USPSA style matches this is an excellent experience for defensive firearm use. This event will be held on the 2nd and 4th Wednesday of each month. Set up time is 6:30pm. Shooting of the first of three stages starts around 7:00pm. 150 rounds of ammo and multiple magazines are suggested. Holsters not required. PCC are welcome. Non members are welcome to attend. $10 for non members of BRC and $5 for members.
URL:https://www.beloitrifleclub.org/event/practical-pistol/2028-03-08/
LOCATION:BRC 25 yard indoor range\, 851 Philhower Rd\, Beloit\, WI\, 53511
END:VEVENT
BEGIN:VEVENT
DTSTART;TZID=America/Chicago:20280412T183000
DTEND;TZID=America/Chicago:20280412T200000
DTSTAMP:20260424T033416
CREATED:20251230T230539Z
LAST-MODIFIED:20251230T230539Z
UID:10013087-1839177000-1839182400@www.beloitrifleclub.org
SUMMARY:Practical Pistol
DESCRIPTION:Based on USPSA style matches this is an excellent experience for defensive firearm use. This event will be held on the 2nd and 4th Wednesday of each month. Set up time is 6:30pm. Shooting of the first of three stages starts around 7:00pm. 150 rounds of ammo and multiple magazines are suggested. Holsters not required. PCC are welcome. Non members are welcome to attend. $10 for non members of BRC and $5 for members.
URL:https://www.beloitrifleclub.org/event/practical-pistol/2028-04-12/
LOCATION:BRC 25 yard indoor range\, 851 Philhower Rd\, Beloit\, WI\, 53511
END:VEVENT
BEGIN:VEVENT
DTSTART;TZID=America/Chicago:20280510T183000
DTEND;TZID=America/Chicago:20280510T200000
DTSTAMP:20260424T033416
CREATED:20251230T230539Z
LAST-MODIFIED:20251230T230539Z
UID:10013088-1841596200-1841601600@www.beloitrifleclub.org
SUMMARY:Practical Pistol
DESCRIPTION:Based on USPSA style matches this is an excellent experience for defensive firearm use. This event will be held on the 2nd and 4th Wednesday of each month. Set up time is 6:30pm. Shooting of the first of three stages starts around 7:00pm. 150 rounds of ammo and multiple magazines are suggested. Holsters not required. PCC are welcome. Non members are welcome to attend. $10 for non members of BRC and $5 for members.
URL:https://www.beloitrifleclub.org/event/practical-pistol/2028-05-10/
LOCATION:BRC 25 yard indoor range\, 851 Philhower Rd\, Beloit\, WI\, 53511
END:VEVENT
BEGIN:VEVENT
DTSTART;TZID=America/Chicago:20280614T183000
DTEND;TZID=America/Chicago:20280614T200000
DTSTAMP:20260424T033416
CREATED:20251230T230539Z
LAST-MODIFIED:20251230T230539Z
UID:10013089-1844620200-1844625600@www.beloitrifleclub.org
SUMMARY:Practical Pistol
DESCRIPTION:Based on USPSA style matches this is an excellent experience for defensive firearm use. This event will be held on the 2nd and 4th Wednesday of each month. Set up time is 6:30pm. Shooting of the first of three stages starts around 7:00pm. 150 rounds of ammo and multiple magazines are suggested. Holsters not required. PCC are welcome. Non members are welcome to attend. $10 for non members of BRC and $5 for members.
URL:https://www.beloitrifleclub.org/event/practical-pistol/2028-06-14/
LOCATION:BRC 25 yard indoor range\, 851 Philhower Rd\, Beloit\, WI\, 53511
END:VEVENT
BEGIN:VEVENT
DTSTART;TZID=America/Chicago:20280712T183000
DTEND;TZID=America/Chicago:20280712T200000
DTSTAMP:20260424T033416
CREATED:20251230T230539Z
LAST-MODIFIED:20251230T230539Z
UID:10013090-1847039400-1847044800@www.beloitrifleclub.org
SUMMARY:Practical Pistol
DESCRIPTION:Based on USPSA style matches this is an excellent experience for defensive firearm use. This event will be held on the 2nd and 4th Wednesday of each month. Set up time is 6:30pm. Shooting of the first of three stages starts around 7:00pm. 150 rounds of ammo and multiple magazines are suggested. Holsters not required. PCC are welcome. Non members are welcome to attend. $10 for non members of BRC and $5 for members.
URL:https://www.beloitrifleclub.org/event/practical-pistol/2028-07-12/
LOCATION:BRC 25 yard indoor range\, 851 Philhower Rd\, Beloit\, WI\, 53511
END:VEVENT
BEGIN:VEVENT
DTSTART;TZID=America/Chicago:20280809T183000
DTEND;TZID=America/Chicago:20280809T200000
DTSTAMP:20260424T033416
CREATED:20251230T230539Z
LAST-MODIFIED:20251230T230539Z
UID:10013091-1849458600-1849464000@www.beloitrifleclub.org
SUMMARY:Practical Pistol
DESCRIPTION:Based on USPSA style matches this is an excellent experience for defensive firearm use. This event will be held on the 2nd and 4th Wednesday of each month. Set up time is 6:30pm. Shooting of the first of three stages starts around 7:00pm. 150 rounds of ammo and multiple magazines are suggested. Holsters not required. PCC are welcome. Non members are welcome to attend. $10 for non members of BRC and $5 for members.
URL:https://www.beloitrifleclub.org/event/practical-pistol/2028-08-09/
LOCATION:BRC 25 yard indoor range\, 851 Philhower Rd\, Beloit\, WI\, 53511
END:VEVENT
BEGIN:VEVENT
DTSTART;TZID=America/Chicago:20280913T183000
DTEND;TZID=America/Chicago:20280913T200000
DTSTAMP:20260424T033416
CREATED:20251230T230539Z
LAST-MODIFIED:20251230T230539Z
UID:10013092-1852482600-1852488000@www.beloitrifleclub.org
SUMMARY:Practical Pistol
DESCRIPTION:Based on USPSA style matches this is an excellent experience for defensive firearm use. This event will be held on the 2nd and 4th Wednesday of each month. Set up time is 6:30pm. Shooting of the first of three stages starts around 7:00pm. 150 rounds of ammo and multiple magazines are suggested. Holsters not required. PCC are welcome. Non members are welcome to attend. $10 for non members of BRC and $5 for members.
URL:https://www.beloitrifleclub.org/event/practical-pistol/2028-09-13/
LOCATION:BRC 25 yard indoor range\, 851 Philhower Rd\, Beloit\, WI\, 53511
END:VEVENT
BEGIN:VEVENT
DTSTART;TZID=America/Chicago:20281011T183000
DTEND;TZID=America/Chicago:20281011T200000
DTSTAMP:20260424T033416
CREATED:20251230T230539Z
LAST-MODIFIED:20251230T230539Z
UID:10013093-1854901800-1854907200@www.beloitrifleclub.org
SUMMARY:Practical Pistol
DESCRIPTION:Based on USPSA style matches this is an excellent experience for defensive firearm use. This event will be held on the 2nd and 4th Wednesday of each month. Set up time is 6:30pm. Shooting of the first of three stages starts around 7:00pm. 150 rounds of ammo and multiple magazines are suggested. Holsters not required. PCC are welcome. Non members are welcome to attend. $10 for non members of BRC and $5 for members.
URL:https://www.beloitrifleclub.org/event/practical-pistol/2028-10-11/
LOCATION:BRC 25 yard indoor range\, 851 Philhower Rd\, Beloit\, WI\, 53511
END:VEVENT
END:VCALENDAR