BEGIN:VCALENDAR
VERSION:2.0
PRODID:-//Beloit Rifle Club - ECPv6.15.17.1//NONSGML v1.0//EN
CALSCALE:GREGORIAN
METHOD:PUBLISH
X-WR-CALNAME:Beloit Rifle Club
X-ORIGINAL-URL:https://www.beloitrifleclub.org
X-WR-CALDESC:Events for Beloit Rifle Club
REFRESH-INTERVAL;VALUE=DURATION:PT1H
X-Robots-Tag:noindex
X-PUBLISHED-TTL:PT1H
BEGIN:VTIMEZONE
TZID:America/Chicago
BEGIN:DAYLIGHT
TZOFFSETFROM:-0600
TZOFFSETTO:-0500
TZNAME:CDT
DTSTART:20250309T080000
END:DAYLIGHT
BEGIN:STANDARD
TZOFFSETFROM:-0500
TZOFFSETTO:-0600
TZNAME:CST
DTSTART:20251102T070000
END:STANDARD
BEGIN:DAYLIGHT
TZOFFSETFROM:-0600
TZOFFSETTO:-0500
TZNAME:CDT
DTSTART:20260308T080000
END:DAYLIGHT
BEGIN:STANDARD
TZOFFSETFROM:-0500
TZOFFSETTO:-0600
TZNAME:CST
DTSTART:20261101T070000
END:STANDARD
BEGIN:DAYLIGHT
TZOFFSETFROM:-0600
TZOFFSETTO:-0500
TZNAME:CDT
DTSTART:20270314T080000
END:DAYLIGHT
BEGIN:STANDARD
TZOFFSETFROM:-0500
TZOFFSETTO:-0600
TZNAME:CST
DTSTART:20271107T070000
END:STANDARD
END:VTIMEZONE
BEGIN:VEVENT
DTSTART;TZID=America/Chicago:20260420T170000
DTEND;TZID=America/Chicago:20260420T180000
DTSTAMP:20260420T050427
CREATED:20260209T122757Z
LAST-MODIFIED:20260209T123621Z
UID:10013358-1776704400-1776708000@www.beloitrifleclub.org
SUMMARY:Smallbore Silhouette Practice
DESCRIPTION:NRA Smallbore Rifle Silhouette\n1 practice match (40 shots) \nPractice is open to club members and public.\nJunior shooters need to be accompanied by an adult.\nSetup starts approximately 4:45 PM shooting starts approximately 5:00 PM\nShooters will be required to reset targets between animals. \nWhat to bring:\nEye and ear protection\nEmpty chamber indicator(ECI). A limited number of ECI’s are available at the range.\n50+ rounds of ammunition. Please use only 22 short/long or long rifle; no magnum or stinger rounds. \nSilhouette Discipline page…\n\n  \n  \n 
URL:https://www.beloitrifleclub.org/event/smallbore-silhouette-practice-2/2026-04-20/
LOCATION:Clubhouse Indoor Range\, 851 E Philhower Road\, Beloit\, WI\, 53511\, United States
END:VEVENT
BEGIN:VEVENT
DTSTART;TZID=America/Chicago:20260420T180000
DTEND;TZID=America/Chicago:20260420T200000
DTSTAMP:20260420T050427
CREATED:20210116T142635Z
LAST-MODIFIED:20231218T024445Z
UID:10009987-1776708000-1776715200@www.beloitrifleclub.org
SUMMARY:Rattlers Air Rifle
DESCRIPTION:
URL:https://www.beloitrifleclub.org/event/rattlers-air-rifle-2/2026-04-20/
LOCATION:BRC Indoor Range\, 851 E Philhower Road\, Beloit\, WI\, 53511\, United States
GEO:42.568993375477;-89.02376644076
X-APPLE-STRUCTURED-LOCATION;VALUE=URI;X-ADDRESS=BRC Indoor Range 851 E Philhower Road Beloit WI 53511 United States;X-APPLE-RADIUS=500;X-TITLE=851 E Philhower Road:geo:-89.02376644076,42.568993375477
END:VEVENT
BEGIN:VEVENT
DTSTART;TZID=America/Chicago:20260421T060000
DTEND;TZID=America/Chicago:20260421T073000
DTSTAMP:20260420T050427
CREATED:20250816T205428Z
LAST-MODIFIED:20250816T205607Z
UID:10012902-1776751200-1776756600@www.beloitrifleclub.org
SUMMARY:Ladies in Arms - Group 3 - Shooting Classes
DESCRIPTION:  \n\n\n\nTime: 6:00 PM to 7:30 PM\n\n\nMonth\nDay\nAdditional info\n\n\n\n\nSeptember\n30\n \n\n\nOctober\n21\n \n\n\nNovember\n18\n \n\n\nDecember\n16\n \n\n\nJanuary\n20\n \n\n\nFebruary\n24\n \n\n\nMarch\n24\n \n\n\nApril\n21\n \n\n\nMay\n19\n \n\n\n\n 
URL:https://www.beloitrifleclub.org/event/ladies-in-arms-group-3-shooting-classes/2026-04-21/
LOCATION:Clubhouse Indoor Range\, 851 E Philhower Road\, Beloit\, WI\, 53511\, United States
END:VEVENT
BEGIN:VEVENT
DTSTART;TZID=America/Chicago:20260421T150000
DTEND;TZID=America/Chicago:20260421T180000
DTSTAMP:20260420T050427
CREATED:20250527T103539Z
LAST-MODIFIED:20251019T155852Z
UID:10012722-1776783600-1776794400@www.beloitrifleclub.org
SUMMARY:Precision Pistol Indoor Practice
DESCRIPTION:Start:  3:00 PM \nEnd:  6:00 PM
URL:https://www.beloitrifleclub.org/event/precision-pistol-outdoor-match-2/2026-04-21/
LOCATION:BRC Outdoor Pistol Range
GEO:42.569205083441;-89.0255173714
END:VEVENT
BEGIN:VEVENT
DTSTART;TZID=America/Chicago:20260421T180000
DTEND;TZID=America/Chicago:20260421T193000
DTSTAMP:20260420T050427
CREATED:20260201T170919Z
LAST-MODIFIED:20260204T225645Z
UID:10013318-1776794400-1776799800@www.beloitrifleclub.org
SUMMARY:Ladies in Arms Shooting
DESCRIPTION:  \n\n\n\nTime: 6:00 PM to 7:30 PM\n\n\nMonth\nDay\nAdditional info\n\n\n\n\nDecember (2025)\n16\n \n\n\nJanuary\n27\n \n\n\nFebruary\n24\n \n\n\nMarch\n24\n \n\n\nApril\n21\n \n\n\nMay\n19\n \n\n\n\nLocation:  New Indoor Range \n  \nSign Up\n   \nContact Us\n 
URL:https://www.beloitrifleclub.org/event/ladies-in-arms-shooting/2026-04-21/
LOCATION:New Indoor Range
ATTACH;FMTTYPE=image/jpeg:https://www.beloitrifleclub.org/wp-content/uploads/2020/09/women.shooters.jpg
END:VEVENT
BEGIN:VEVENT
DTSTART;TZID=America/Chicago:20260422T090000
DTEND;TZID=America/Chicago:20260422T130000
DTSTAMP:20260420T050427
CREATED:20251230T222916Z
LAST-MODIFIED:20260107T182757Z
UID:10013200-1776848400-1776862800@www.beloitrifleclub.org
SUMMARY:Wednesday Morning Group
DESCRIPTION:2026 CALENDAR\n\n\n\n\n\n\nJAN \n\n\n\n\nRIFLE SILHOUETTE \n\n\n\n\nINDOORS \n\n\n\n\n\n\nFEB \n\n\n\n\nPELLET GUN \n\n\n\n\nINDOORS \n\n\n\n\n\n\nMAR \n\n\n\n\nPISTOL SILHOUETTE \n\n\n\n\nINDOORS \n\n\n\n\n\n\nAPR \n\n\n\n\nOPEN SHOOTING \n\n\n\n\nINDOORS \n\n\n\n\n\n\nMAY \n\n\n\n\nTRAP \n\n\n\n\nTRAP RANGE \n\n\n\n\n\n\nJUN \n\n\n\n\nTRAP \n\n\n\n\nTRAP RANGE \n\n\n\n\n\n\nJUL \n\n\n\n\nTRAP \n\n\n\n\nTRAP RANGE \n\n\n\n\n\n\nAUG \n\n\n\n\nTRAP \n\n\n\n\nTRAP RANGE \n\n\n\n\n\n\nSEP \n\n\n\n\nTRAP \n\n\n\n\nTRAP RANGE  \n\n\n\n\n\n\nOCT \n\n\n\n\nTRAP \n\n\n\n\nTRAP RANGE \n\n\n\n\n\n\nNOV \n\n\n\n\nOPEN SHOOTING \n\n\n\n\nINDOORS \n\n\n\n\n\n\nDEC \n\n\n\n\nOPEN SHOOTING \n\n\n\n\nINDOORS \n\n\n\n\n\n  \nLARRY ABBOTT WILL RUN THE PELLET GUN COMPETITION IN FEBRUARY \nRIFLE SILHOUETTE TOURNAMENT IN JANUARY \nPISTOL SILHOUETTE TOURNAMENT IN MARCH \nMAY THROUGH OCTOBER WE WILL SHOOT TRAP STARTING AT 9:00 AND ENDING 10:30 AM NORMAL TRAP FEES WILL BE COLLECTED. \nTHERE WILL BE NO ORGANIZED SHOOTING ON THE FOLLOWING ON NOV 18 BECAUSE OF SIGHT IN DAY.  ON NEW YEARS DAY AND CHRISTMAS EVE THERE WILL BE NO ORGANIZED SHOOTING.
URL:https://www.beloitrifleclub.org/event/wednesday-morning-group-3/2026-04-22/
LOCATION:Beloit Rifle Club\, 851 E Philhower Road\, Beloit\, WI\, 53511\, United States
END:VEVENT
BEGIN:VEVENT
DTSTART;TZID=America/Chicago:20260422T140000
DTEND;TZID=America/Chicago:20260422T200000
DTSTAMP:20260420T050427
CREATED:20220910T040154Z
LAST-MODIFIED:20220910T040154Z
UID:10010334-1776866400-1776888000@www.beloitrifleclub.org
SUMMARY:Rattlers Air Rifle
DESCRIPTION:
URL:https://www.beloitrifleclub.org/event/rattlers-air-rifle/2026-04-22/
LOCATION:BRC Indoor Range\, 851 E Philhower Road\, Beloit\, WI\, 53511\, United States
GEO:42.568993375477;-89.02376644076
X-APPLE-STRUCTURED-LOCATION;VALUE=URI;X-ADDRESS=BRC Indoor Range 851 E Philhower Road Beloit WI 53511 United States;X-APPLE-RADIUS=500;X-TITLE=851 E Philhower Road:geo:-89.02376644076,42.568993375477
END:VEVENT
BEGIN:VEVENT
DTSTART;TZID=America/Chicago:20260422T183000
DTEND;TZID=America/Chicago:20260422T200000
DTSTAMP:20260420T050427
CREATED:20251230T231236Z
LAST-MODIFIED:20251230T231236Z
UID:10013123-1776882600-1776888000@www.beloitrifleclub.org
SUMMARY:Practical Pistol
DESCRIPTION:Based on USPSA style matches this is an excellent experience for defensive firearm use. This event will be held on the 2nd and 4th Wednesday of each month. Set up time is 6:30pm. Shooting of the first of three stages starts around 7:00pm. 150 rounds of ammo and multiple magazines are suggested. Holsters not required. PCC are welcome. Non members are welcome to attend. $10 for non members of BRC and $5 for members.
URL:https://www.beloitrifleclub.org/event/practical-pistol-2/2026-04-22/
LOCATION:BRC 25 yard indoor range\, 851 Philhower Rd\, Beloit\, WI\, 53511
END:VEVENT
BEGIN:VEVENT
DTSTART;TZID=America/Chicago:20260426T090000
DTEND;TZID=America/Chicago:20260426T120000
DTSTAMP:20260420T050427
CREATED:20241220T120406Z
LAST-MODIFIED:20260214T191259Z
UID:10013402-1777194000-1777204800@www.beloitrifleclub.org
SUMMARY:Centerfire Benchrest Match
DESCRIPTION:Location:  100-500 meter range \n\n\n\nDate\n  Start Time  \n  End Time  \n\n\n\n\nApril 26\, 2026\n0730\n1200\n\n\nMay 24\, 2026\n0730\n1200\n\n\nJune 28\, 2026\n0730\n1200\n\n\nJuly 26\, 2026\n0730\n1200\n\n\nAugust 23\, 2026\n0730\n1200\n\n\nSeptember 27\, 2026     \n0730\n1200\n\n\n      \n \n \n\n\n\nContact Link \n 
URL:https://www.beloitrifleclub.org/event/centerfire-benchrest-match/2026-04-26/
LOCATION:BRC 100/500 Meter Range
GEO:42.571125932637;-89.021952357541
END:VEVENT
BEGIN:VEVENT
DTSTART;TZID=America/Chicago:20260427T170000
DTEND;TZID=America/Chicago:20260427T180000
DTSTAMP:20260420T050427
CREATED:20260209T122757Z
LAST-MODIFIED:20260209T123621Z
UID:10013359-1777309200-1777312800@www.beloitrifleclub.org
SUMMARY:Smallbore Silhouette Practice
DESCRIPTION:NRA Smallbore Rifle Silhouette\n1 practice match (40 shots) \nPractice is open to club members and public.\nJunior shooters need to be accompanied by an adult.\nSetup starts approximately 4:45 PM shooting starts approximately 5:00 PM\nShooters will be required to reset targets between animals. \nWhat to bring:\nEye and ear protection\nEmpty chamber indicator(ECI). A limited number of ECI’s are available at the range.\n50+ rounds of ammunition. Please use only 22 short/long or long rifle; no magnum or stinger rounds. \nSilhouette Discipline page…\n\n  \n  \n 
URL:https://www.beloitrifleclub.org/event/smallbore-silhouette-practice-2/2026-04-27/
LOCATION:Clubhouse Indoor Range\, 851 E Philhower Road\, Beloit\, WI\, 53511\, United States
END:VEVENT
BEGIN:VEVENT
DTSTART;TZID=America/Chicago:20260427T180000
DTEND;TZID=America/Chicago:20260427T200000
DTSTAMP:20260420T050427
CREATED:20210116T142635Z
LAST-MODIFIED:20231218T024445Z
UID:10009988-1777312800-1777320000@www.beloitrifleclub.org
SUMMARY:Rattlers Air Rifle
DESCRIPTION:
URL:https://www.beloitrifleclub.org/event/rattlers-air-rifle-2/2026-04-27/
LOCATION:BRC Indoor Range\, 851 E Philhower Road\, Beloit\, WI\, 53511\, United States
GEO:42.568993375477;-89.02376644076
X-APPLE-STRUCTURED-LOCATION;VALUE=URI;X-ADDRESS=BRC Indoor Range 851 E Philhower Road Beloit WI 53511 United States;X-APPLE-RADIUS=500;X-TITLE=851 E Philhower Road:geo:-89.02376644076,42.568993375477
END:VEVENT
BEGIN:VEVENT
DTSTART;TZID=America/Chicago:20260428T150000
DTEND;TZID=America/Chicago:20260428T180000
DTSTAMP:20260420T050427
CREATED:20250527T103539Z
LAST-MODIFIED:20251019T155852Z
UID:10012723-1777388400-1777399200@www.beloitrifleclub.org
SUMMARY:Precision Pistol Indoor Practice
DESCRIPTION:Start:  3:00 PM \nEnd:  6:00 PM
URL:https://www.beloitrifleclub.org/event/precision-pistol-outdoor-match-2/2026-04-28/
LOCATION:BRC Outdoor Pistol Range
GEO:42.569205083441;-89.0255173714
END:VEVENT
BEGIN:VEVENT
DTSTART;TZID=America/Chicago:20260429T090000
DTEND;TZID=America/Chicago:20260429T130000
DTSTAMP:20260420T050427
CREATED:20251230T222916Z
LAST-MODIFIED:20260107T182757Z
UID:10013201-1777453200-1777467600@www.beloitrifleclub.org
SUMMARY:Wednesday Morning Group
DESCRIPTION:2026 CALENDAR\n\n\n\n\n\n\nJAN \n\n\n\n\nRIFLE SILHOUETTE \n\n\n\n\nINDOORS \n\n\n\n\n\n\nFEB \n\n\n\n\nPELLET GUN \n\n\n\n\nINDOORS \n\n\n\n\n\n\nMAR \n\n\n\n\nPISTOL SILHOUETTE \n\n\n\n\nINDOORS \n\n\n\n\n\n\nAPR \n\n\n\n\nOPEN SHOOTING \n\n\n\n\nINDOORS \n\n\n\n\n\n\nMAY \n\n\n\n\nTRAP \n\n\n\n\nTRAP RANGE \n\n\n\n\n\n\nJUN \n\n\n\n\nTRAP \n\n\n\n\nTRAP RANGE \n\n\n\n\n\n\nJUL \n\n\n\n\nTRAP \n\n\n\n\nTRAP RANGE \n\n\n\n\n\n\nAUG \n\n\n\n\nTRAP \n\n\n\n\nTRAP RANGE \n\n\n\n\n\n\nSEP \n\n\n\n\nTRAP \n\n\n\n\nTRAP RANGE  \n\n\n\n\n\n\nOCT \n\n\n\n\nTRAP \n\n\n\n\nTRAP RANGE \n\n\n\n\n\n\nNOV \n\n\n\n\nOPEN SHOOTING \n\n\n\n\nINDOORS \n\n\n\n\n\n\nDEC \n\n\n\n\nOPEN SHOOTING \n\n\n\n\nINDOORS \n\n\n\n\n\n  \nLARRY ABBOTT WILL RUN THE PELLET GUN COMPETITION IN FEBRUARY \nRIFLE SILHOUETTE TOURNAMENT IN JANUARY \nPISTOL SILHOUETTE TOURNAMENT IN MARCH \nMAY THROUGH OCTOBER WE WILL SHOOT TRAP STARTING AT 9:00 AND ENDING 10:30 AM NORMAL TRAP FEES WILL BE COLLECTED. \nTHERE WILL BE NO ORGANIZED SHOOTING ON THE FOLLOWING ON NOV 18 BECAUSE OF SIGHT IN DAY.  ON NEW YEARS DAY AND CHRISTMAS EVE THERE WILL BE NO ORGANIZED SHOOTING.
URL:https://www.beloitrifleclub.org/event/wednesday-morning-group-3/2026-04-29/
LOCATION:Beloit Rifle Club\, 851 E Philhower Road\, Beloit\, WI\, 53511\, United States
END:VEVENT
BEGIN:VEVENT
DTSTART;TZID=America/Chicago:20260429T140000
DTEND;TZID=America/Chicago:20260429T200000
DTSTAMP:20260420T050427
CREATED:20220910T040154Z
LAST-MODIFIED:20220910T040154Z
UID:10010335-1777471200-1777492800@www.beloitrifleclub.org
SUMMARY:Rattlers Air Rifle
DESCRIPTION:
URL:https://www.beloitrifleclub.org/event/rattlers-air-rifle/2026-04-29/
LOCATION:BRC Indoor Range\, 851 E Philhower Road\, Beloit\, WI\, 53511\, United States
GEO:42.568993375477;-89.02376644076
X-APPLE-STRUCTURED-LOCATION;VALUE=URI;X-ADDRESS=BRC Indoor Range 851 E Philhower Road Beloit WI 53511 United States;X-APPLE-RADIUS=500;X-TITLE=851 E Philhower Road:geo:-89.02376644076,42.568993375477
END:VEVENT
BEGIN:VEVENT
DTSTART;TZID=America/Chicago:20260429T190000
DTEND;TZID=America/Chicago:20260429T190000
DTSTAMP:20260420T050427
CREATED:20240530T003120Z
LAST-MODIFIED:20240820T040355Z
UID:10012081-1777489200-1777489200@www.beloitrifleclub.org
SUMMARY:CMP Match
DESCRIPTION:2024 Match Dates: \n\n\n \nBeloit Rifle Club \n\n\n \n\n\n\n\nDate\nClinic at Clubhouse\nBack Range Shoot\nBlack Powder Range Shoot\n\n\nMay 25\nNone\n12pm to 4pm\n \n\n\nJune 8\n 8:30am to 12pm\n \n12pm to 4pm\n\n\nAugust 17\n Canceled\n \n \n\n\nSeptember 14  \nnone\n12pm to 4pm\n \n\n\nOctober 12\nnone\n12pm to 4pm\n \n\n\n \n \n \n \n\n\n\n\n\n\n \nMatch Registration 11am – 12pm \nDownload Details \n 
URL:https://www.beloitrifleclub.org/event/cmp-match-3/2026-04-29/
LOCATION:BRC 100/500 Meter Range
GEO:42.571125932637;-89.021952357541
END:VEVENT
END:VCALENDAR