BEGIN:VCALENDAR
VERSION:2.0
PRODID:-//Beloit Rifle Club - ECPv6.15.17.1//NONSGML v1.0//EN
CALSCALE:GREGORIAN
METHOD:PUBLISH
X-ORIGINAL-URL:https://www.beloitrifleclub.org
X-WR-CALDESC:Events for Beloit Rifle Club
REFRESH-INTERVAL;VALUE=DURATION:PT1H
X-Robots-Tag:noindex
X-PUBLISHED-TTL:PT1H
BEGIN:VTIMEZONE
TZID:America/Chicago
BEGIN:DAYLIGHT
TZOFFSETFROM:-0600
TZOFFSETTO:-0500
TZNAME:CDT
DTSTART:20290311T080000
END:DAYLIGHT
BEGIN:STANDARD
TZOFFSETFROM:-0500
TZOFFSETTO:-0600
TZNAME:CST
DTSTART:20291104T070000
END:STANDARD
BEGIN:DAYLIGHT
TZOFFSETFROM:-0600
TZOFFSETTO:-0500
TZNAME:CDT
DTSTART:20300310T080000
END:DAYLIGHT
BEGIN:STANDARD
TZOFFSETFROM:-0500
TZOFFSETTO:-0600
TZNAME:CST
DTSTART:20301103T070000
END:STANDARD
BEGIN:DAYLIGHT
TZOFFSETFROM:-0600
TZOFFSETTO:-0500
TZNAME:CDT
DTSTART:20310309T080000
END:DAYLIGHT
BEGIN:STANDARD
TZOFFSETFROM:-0500
TZOFFSETTO:-0600
TZNAME:CST
DTSTART:20311102T070000
END:STANDARD
END:VTIMEZONE
BEGIN:VEVENT
DTSTART;TZID=America/Chicago:20300624T180000
DTEND;TZID=America/Chicago:20300624T200000
DTSTAMP:20260419T085135
CREATED:20210116T142635Z
LAST-MODIFIED:20231218T024445Z
UID:10012823-1908554400-1908561600@www.beloitrifleclub.org
SUMMARY:Rattlers Air Rifle
DESCRIPTION:
URL:https://www.beloitrifleclub.org/event/rattlers-air-rifle-2/2030-06-24/
LOCATION:BRC Indoor Range\, 851 E Philhower Road\, Beloit\, WI\, 53511\, United States
GEO:42.568993375477;-89.02376644076
X-APPLE-STRUCTURED-LOCATION;VALUE=URI;X-ADDRESS=BRC Indoor Range 851 E Philhower Road Beloit WI 53511 United States;X-APPLE-RADIUS=500;X-TITLE=851 E Philhower Road:geo:-89.02376644076,42.568993375477
END:VEVENT
BEGIN:VEVENT
DTSTART;TZID=America/Chicago:20300626T140000
DTEND;TZID=America/Chicago:20300626T200000
DTSTAMP:20260419T085135
CREATED:20220910T040154Z
LAST-MODIFIED:20220910T040154Z
UID:10012824-1908712800-1908734400@www.beloitrifleclub.org
SUMMARY:Rattlers Air Rifle
DESCRIPTION:
URL:https://www.beloitrifleclub.org/event/rattlers-air-rifle/2030-06-26/
LOCATION:BRC Indoor Range\, 851 E Philhower Road\, Beloit\, WI\, 53511\, United States
GEO:42.568993375477;-89.02376644076
X-APPLE-STRUCTURED-LOCATION;VALUE=URI;X-ADDRESS=BRC Indoor Range 851 E Philhower Road Beloit WI 53511 United States;X-APPLE-RADIUS=500;X-TITLE=851 E Philhower Road:geo:-89.02376644076,42.568993375477
END:VEVENT
BEGIN:VEVENT
DTSTART;TZID=America/Chicago:20300626T183000
DTEND;TZID=America/Chicago:20300626T200000
DTSTAMP:20260419T085135
CREATED:20251230T231236Z
LAST-MODIFIED:20251230T231236Z
UID:10013173-1908729000-1908734400@www.beloitrifleclub.org
SUMMARY:Practical Pistol
DESCRIPTION:Based on USPSA style matches this is an excellent experience for defensive firearm use. This event will be held on the 2nd and 4th Wednesday of each month. Set up time is 6:30pm. Shooting of the first of three stages starts around 7:00pm. 150 rounds of ammo and multiple magazines are suggested. Holsters not required. PCC are welcome. Non members are welcome to attend. $10 for non members of BRC and $5 for members.
URL:https://www.beloitrifleclub.org/event/practical-pistol-2/2030-06-26/
LOCATION:BRC 25 yard indoor range\, 851 Philhower Rd\, Beloit\, WI\, 53511
END:VEVENT
BEGIN:VEVENT
DTSTART;TZID=America/Chicago:20300701T180000
DTEND;TZID=America/Chicago:20300701T200000
DTSTAMP:20260419T085135
CREATED:20210116T142635Z
LAST-MODIFIED:20231218T024445Z
UID:10012825-1909159200-1909166400@www.beloitrifleclub.org
SUMMARY:Rattlers Air Rifle
DESCRIPTION:
URL:https://www.beloitrifleclub.org/event/rattlers-air-rifle-2/2030-07-01/
LOCATION:BRC Indoor Range\, 851 E Philhower Road\, Beloit\, WI\, 53511\, United States
GEO:42.568993375477;-89.02376644076
X-APPLE-STRUCTURED-LOCATION;VALUE=URI;X-ADDRESS=BRC Indoor Range 851 E Philhower Road Beloit WI 53511 United States;X-APPLE-RADIUS=500;X-TITLE=851 E Philhower Road:geo:-89.02376644076,42.568993375477
END:VEVENT
BEGIN:VEVENT
DTSTART;TZID=America/Chicago:20300703T140000
DTEND;TZID=America/Chicago:20300703T200000
DTSTAMP:20260419T085135
CREATED:20220910T040154Z
LAST-MODIFIED:20220910T040154Z
UID:10012826-1909317600-1909339200@www.beloitrifleclub.org
SUMMARY:Rattlers Air Rifle
DESCRIPTION:
URL:https://www.beloitrifleclub.org/event/rattlers-air-rifle/2030-07-03/
LOCATION:BRC Indoor Range\, 851 E Philhower Road\, Beloit\, WI\, 53511\, United States
GEO:42.568993375477;-89.02376644076
X-APPLE-STRUCTURED-LOCATION;VALUE=URI;X-ADDRESS=BRC Indoor Range 851 E Philhower Road Beloit WI 53511 United States;X-APPLE-RADIUS=500;X-TITLE=851 E Philhower Road:geo:-89.02376644076,42.568993375477
END:VEVENT
BEGIN:VEVENT
DTSTART;TZID=America/Chicago:20300703T183000
DTEND;TZID=America/Chicago:20300703T200000
DTSTAMP:20260419T085135
CREATED:20210209T212034Z
LAST-MODIFIED:20260404T132817Z
UID:10012827-1909333800-1909339200@www.beloitrifleclub.org
SUMMARY:Monthly Club / Board Meeting
DESCRIPTION:At Clubhouse 
URL:https://www.beloitrifleclub.org/event/monthly-club-board-meeting/2030-07-03/
LOCATION:Beloit Rifle Club\, 851 E Philhower Road\, Beloit\, WI\, 53511\, United States
END:VEVENT
BEGIN:VEVENT
DTSTART;TZID=America/Chicago:20300708T180000
DTEND;TZID=America/Chicago:20300708T200000
DTSTAMP:20260419T085135
CREATED:20210116T142635Z
LAST-MODIFIED:20231218T024445Z
UID:10012828-1909764000-1909771200@www.beloitrifleclub.org
SUMMARY:Rattlers Air Rifle
DESCRIPTION:
URL:https://www.beloitrifleclub.org/event/rattlers-air-rifle-2/2030-07-08/
LOCATION:BRC Indoor Range\, 851 E Philhower Road\, Beloit\, WI\, 53511\, United States
GEO:42.568993375477;-89.02376644076
X-APPLE-STRUCTURED-LOCATION;VALUE=URI;X-ADDRESS=BRC Indoor Range 851 E Philhower Road Beloit WI 53511 United States;X-APPLE-RADIUS=500;X-TITLE=851 E Philhower Road:geo:-89.02376644076,42.568993375477
END:VEVENT
BEGIN:VEVENT
DTSTART;TZID=America/Chicago:20300710T140000
DTEND;TZID=America/Chicago:20300710T200000
DTSTAMP:20260419T085135
CREATED:20220910T040154Z
LAST-MODIFIED:20220910T040154Z
UID:10012829-1909922400-1909944000@www.beloitrifleclub.org
SUMMARY:Rattlers Air Rifle
DESCRIPTION:
URL:https://www.beloitrifleclub.org/event/rattlers-air-rifle/2030-07-10/
LOCATION:BRC Indoor Range\, 851 E Philhower Road\, Beloit\, WI\, 53511\, United States
GEO:42.568993375477;-89.02376644076
X-APPLE-STRUCTURED-LOCATION;VALUE=URI;X-ADDRESS=BRC Indoor Range 851 E Philhower Road Beloit WI 53511 United States;X-APPLE-RADIUS=500;X-TITLE=851 E Philhower Road:geo:-89.02376644076,42.568993375477
END:VEVENT
BEGIN:VEVENT
DTSTART;TZID=America/Chicago:20300710T183000
DTEND;TZID=America/Chicago:20300710T200000
DTSTAMP:20260419T085135
CREATED:20251230T230539Z
LAST-MODIFIED:20251230T230539Z
UID:10013114-1909938600-1909944000@www.beloitrifleclub.org
SUMMARY:Practical Pistol
DESCRIPTION:Based on USPSA style matches this is an excellent experience for defensive firearm use. This event will be held on the 2nd and 4th Wednesday of each month. Set up time is 6:30pm. Shooting of the first of three stages starts around 7:00pm. 150 rounds of ammo and multiple magazines are suggested. Holsters not required. PCC are welcome. Non members are welcome to attend. $10 for non members of BRC and $5 for members.
URL:https://www.beloitrifleclub.org/event/practical-pistol/2030-07-10/
LOCATION:BRC 25 yard indoor range\, 851 Philhower Rd\, Beloit\, WI\, 53511
END:VEVENT
BEGIN:VEVENT
DTSTART;TZID=America/Chicago:20300715T180000
DTEND;TZID=America/Chicago:20300715T200000
DTSTAMP:20260419T085135
CREATED:20210116T142635Z
LAST-MODIFIED:20231218T024445Z
UID:10012830-1910368800-1910376000@www.beloitrifleclub.org
SUMMARY:Rattlers Air Rifle
DESCRIPTION:
URL:https://www.beloitrifleclub.org/event/rattlers-air-rifle-2/2030-07-15/
LOCATION:BRC Indoor Range\, 851 E Philhower Road\, Beloit\, WI\, 53511\, United States
GEO:42.568993375477;-89.02376644076
X-APPLE-STRUCTURED-LOCATION;VALUE=URI;X-ADDRESS=BRC Indoor Range 851 E Philhower Road Beloit WI 53511 United States;X-APPLE-RADIUS=500;X-TITLE=851 E Philhower Road:geo:-89.02376644076,42.568993375477
END:VEVENT
BEGIN:VEVENT
DTSTART;TZID=America/Chicago:20300717T140000
DTEND;TZID=America/Chicago:20300717T200000
DTSTAMP:20260419T085135
CREATED:20220910T040154Z
LAST-MODIFIED:20220910T040154Z
UID:10012831-1910527200-1910548800@www.beloitrifleclub.org
SUMMARY:Rattlers Air Rifle
DESCRIPTION:
URL:https://www.beloitrifleclub.org/event/rattlers-air-rifle/2030-07-17/
LOCATION:BRC Indoor Range\, 851 E Philhower Road\, Beloit\, WI\, 53511\, United States
GEO:42.568993375477;-89.02376644076
X-APPLE-STRUCTURED-LOCATION;VALUE=URI;X-ADDRESS=BRC Indoor Range 851 E Philhower Road Beloit WI 53511 United States;X-APPLE-RADIUS=500;X-TITLE=851 E Philhower Road:geo:-89.02376644076,42.568993375477
END:VEVENT
BEGIN:VEVENT
DTSTART;TZID=America/Chicago:20300722T180000
DTEND;TZID=America/Chicago:20300722T200000
DTSTAMP:20260419T085135
CREATED:20210116T142635Z
LAST-MODIFIED:20231218T024445Z
UID:10012832-1910973600-1910980800@www.beloitrifleclub.org
SUMMARY:Rattlers Air Rifle
DESCRIPTION:
URL:https://www.beloitrifleclub.org/event/rattlers-air-rifle-2/2030-07-22/
LOCATION:BRC Indoor Range\, 851 E Philhower Road\, Beloit\, WI\, 53511\, United States
GEO:42.568993375477;-89.02376644076
X-APPLE-STRUCTURED-LOCATION;VALUE=URI;X-ADDRESS=BRC Indoor Range 851 E Philhower Road Beloit WI 53511 United States;X-APPLE-RADIUS=500;X-TITLE=851 E Philhower Road:geo:-89.02376644076,42.568993375477
END:VEVENT
BEGIN:VEVENT
DTSTART;TZID=America/Chicago:20300724T140000
DTEND;TZID=America/Chicago:20300724T200000
DTSTAMP:20260419T085135
CREATED:20220910T040154Z
LAST-MODIFIED:20220910T040154Z
UID:10012833-1911132000-1911153600@www.beloitrifleclub.org
SUMMARY:Rattlers Air Rifle
DESCRIPTION:
URL:https://www.beloitrifleclub.org/event/rattlers-air-rifle/2030-07-24/
LOCATION:BRC Indoor Range\, 851 E Philhower Road\, Beloit\, WI\, 53511\, United States
GEO:42.568993375477;-89.02376644076
X-APPLE-STRUCTURED-LOCATION;VALUE=URI;X-ADDRESS=BRC Indoor Range 851 E Philhower Road Beloit WI 53511 United States;X-APPLE-RADIUS=500;X-TITLE=851 E Philhower Road:geo:-89.02376644076,42.568993375477
END:VEVENT
BEGIN:VEVENT
DTSTART;TZID=America/Chicago:20300724T183000
DTEND;TZID=America/Chicago:20300724T200000
DTSTAMP:20260419T085135
CREATED:20251230T231236Z
LAST-MODIFIED:20251230T231236Z
UID:10013174-1911148200-1911153600@www.beloitrifleclub.org
SUMMARY:Practical Pistol
DESCRIPTION:Based on USPSA style matches this is an excellent experience for defensive firearm use. This event will be held on the 2nd and 4th Wednesday of each month. Set up time is 6:30pm. Shooting of the first of three stages starts around 7:00pm. 150 rounds of ammo and multiple magazines are suggested. Holsters not required. PCC are welcome. Non members are welcome to attend. $10 for non members of BRC and $5 for members.
URL:https://www.beloitrifleclub.org/event/practical-pistol-2/2030-07-24/
LOCATION:BRC 25 yard indoor range\, 851 Philhower Rd\, Beloit\, WI\, 53511
END:VEVENT
BEGIN:VEVENT
DTSTART;TZID=America/Chicago:20300729T180000
DTEND;TZID=America/Chicago:20300729T200000
DTSTAMP:20260419T085135
CREATED:20210116T142635Z
LAST-MODIFIED:20231218T024445Z
UID:10012836-1911578400-1911585600@www.beloitrifleclub.org
SUMMARY:Rattlers Air Rifle
DESCRIPTION:
URL:https://www.beloitrifleclub.org/event/rattlers-air-rifle-2/2030-07-29/
LOCATION:BRC Indoor Range\, 851 E Philhower Road\, Beloit\, WI\, 53511\, United States
GEO:42.568993375477;-89.02376644076
X-APPLE-STRUCTURED-LOCATION;VALUE=URI;X-ADDRESS=BRC Indoor Range 851 E Philhower Road Beloit WI 53511 United States;X-APPLE-RADIUS=500;X-TITLE=851 E Philhower Road:geo:-89.02376644076,42.568993375477
END:VEVENT
BEGIN:VEVENT
DTSTART;TZID=America/Chicago:20300731T140000
DTEND;TZID=America/Chicago:20300731T200000
DTSTAMP:20260419T085135
CREATED:20220910T040154Z
LAST-MODIFIED:20220910T040154Z
UID:10012837-1911736800-1911758400@www.beloitrifleclub.org
SUMMARY:Rattlers Air Rifle
DESCRIPTION:
URL:https://www.beloitrifleclub.org/event/rattlers-air-rifle/2030-07-31/
LOCATION:BRC Indoor Range\, 851 E Philhower Road\, Beloit\, WI\, 53511\, United States
GEO:42.568993375477;-89.02376644076
X-APPLE-STRUCTURED-LOCATION;VALUE=URI;X-ADDRESS=BRC Indoor Range 851 E Philhower Road Beloit WI 53511 United States;X-APPLE-RADIUS=500;X-TITLE=851 E Philhower Road:geo:-89.02376644076,42.568993375477
END:VEVENT
BEGIN:VEVENT
DTSTART;TZID=America/Chicago:20300805T180000
DTEND;TZID=America/Chicago:20300805T200000
DTSTAMP:20260419T085135
CREATED:20210116T142635Z
LAST-MODIFIED:20231218T024445Z
UID:10012838-1912183200-1912190400@www.beloitrifleclub.org
SUMMARY:Rattlers Air Rifle
DESCRIPTION:
URL:https://www.beloitrifleclub.org/event/rattlers-air-rifle-2/2030-08-05/
LOCATION:BRC Indoor Range\, 851 E Philhower Road\, Beloit\, WI\, 53511\, United States
GEO:42.568993375477;-89.02376644076
X-APPLE-STRUCTURED-LOCATION;VALUE=URI;X-ADDRESS=BRC Indoor Range 851 E Philhower Road Beloit WI 53511 United States;X-APPLE-RADIUS=500;X-TITLE=851 E Philhower Road:geo:-89.02376644076,42.568993375477
END:VEVENT
BEGIN:VEVENT
DTSTART;TZID=America/Chicago:20300807T140000
DTEND;TZID=America/Chicago:20300807T200000
DTSTAMP:20260419T085135
CREATED:20220910T040154Z
LAST-MODIFIED:20220910T040154Z
UID:10012839-1912341600-1912363200@www.beloitrifleclub.org
SUMMARY:Rattlers Air Rifle
DESCRIPTION:
URL:https://www.beloitrifleclub.org/event/rattlers-air-rifle/2030-08-07/
LOCATION:BRC Indoor Range\, 851 E Philhower Road\, Beloit\, WI\, 53511\, United States
GEO:42.568993375477;-89.02376644076
X-APPLE-STRUCTURED-LOCATION;VALUE=URI;X-ADDRESS=BRC Indoor Range 851 E Philhower Road Beloit WI 53511 United States;X-APPLE-RADIUS=500;X-TITLE=851 E Philhower Road:geo:-89.02376644076,42.568993375477
END:VEVENT
BEGIN:VEVENT
DTSTART;TZID=America/Chicago:20300807T183000
DTEND;TZID=America/Chicago:20300807T200000
DTSTAMP:20260419T085135
CREATED:20210209T212034Z
LAST-MODIFIED:20260404T132817Z
UID:10012927-1912357800-1912363200@www.beloitrifleclub.org
SUMMARY:Monthly Club / Board Meeting
DESCRIPTION:At Clubhouse 
URL:https://www.beloitrifleclub.org/event/monthly-club-board-meeting/2030-08-07/
LOCATION:Beloit Rifle Club\, 851 E Philhower Road\, Beloit\, WI\, 53511\, United States
END:VEVENT
BEGIN:VEVENT
DTSTART;TZID=America/Chicago:20300812T180000
DTEND;TZID=America/Chicago:20300812T200000
DTSTAMP:20260419T085135
CREATED:20210116T142635Z
LAST-MODIFIED:20231218T024445Z
UID:10012841-1912788000-1912795200@www.beloitrifleclub.org
SUMMARY:Rattlers Air Rifle
DESCRIPTION:
URL:https://www.beloitrifleclub.org/event/rattlers-air-rifle-2/2030-08-12/
LOCATION:BRC Indoor Range\, 851 E Philhower Road\, Beloit\, WI\, 53511\, United States
GEO:42.568993375477;-89.02376644076
X-APPLE-STRUCTURED-LOCATION;VALUE=URI;X-ADDRESS=BRC Indoor Range 851 E Philhower Road Beloit WI 53511 United States;X-APPLE-RADIUS=500;X-TITLE=851 E Philhower Road:geo:-89.02376644076,42.568993375477
END:VEVENT
BEGIN:VEVENT
DTSTART;TZID=America/Chicago:20300814T140000
DTEND;TZID=America/Chicago:20300814T200000
DTSTAMP:20260419T085135
CREATED:20220910T040154Z
LAST-MODIFIED:20220910T040154Z
UID:10012916-1912946400-1912968000@www.beloitrifleclub.org
SUMMARY:Rattlers Air Rifle
DESCRIPTION:
URL:https://www.beloitrifleclub.org/event/rattlers-air-rifle/2030-08-14/
LOCATION:BRC Indoor Range\, 851 E Philhower Road\, Beloit\, WI\, 53511\, United States
GEO:42.568993375477;-89.02376644076
X-APPLE-STRUCTURED-LOCATION;VALUE=URI;X-ADDRESS=BRC Indoor Range 851 E Philhower Road Beloit WI 53511 United States;X-APPLE-RADIUS=500;X-TITLE=851 E Philhower Road:geo:-89.02376644076,42.568993375477
END:VEVENT
BEGIN:VEVENT
DTSTART;TZID=America/Chicago:20300814T183000
DTEND;TZID=America/Chicago:20300814T200000
DTSTAMP:20260419T085135
CREATED:20251230T230539Z
LAST-MODIFIED:20251230T230539Z
UID:10013115-1912962600-1912968000@www.beloitrifleclub.org
SUMMARY:Practical Pistol
DESCRIPTION:Based on USPSA style matches this is an excellent experience for defensive firearm use. This event will be held on the 2nd and 4th Wednesday of each month. Set up time is 6:30pm. Shooting of the first of three stages starts around 7:00pm. 150 rounds of ammo and multiple magazines are suggested. Holsters not required. PCC are welcome. Non members are welcome to attend. $10 for non members of BRC and $5 for members.
URL:https://www.beloitrifleclub.org/event/practical-pistol/2030-08-14/
LOCATION:BRC 25 yard indoor range\, 851 Philhower Rd\, Beloit\, WI\, 53511
END:VEVENT
BEGIN:VEVENT
DTSTART;TZID=America/Chicago:20300819T180000
DTEND;TZID=America/Chicago:20300819T200000
DTSTAMP:20260419T085135
CREATED:20210116T142635Z
LAST-MODIFIED:20231218T024445Z
UID:10012917-1913392800-1913400000@www.beloitrifleclub.org
SUMMARY:Rattlers Air Rifle
DESCRIPTION:
URL:https://www.beloitrifleclub.org/event/rattlers-air-rifle-2/2030-08-19/
LOCATION:BRC Indoor Range\, 851 E Philhower Road\, Beloit\, WI\, 53511\, United States
GEO:42.568993375477;-89.02376644076
X-APPLE-STRUCTURED-LOCATION;VALUE=URI;X-ADDRESS=BRC Indoor Range 851 E Philhower Road Beloit WI 53511 United States;X-APPLE-RADIUS=500;X-TITLE=851 E Philhower Road:geo:-89.02376644076,42.568993375477
END:VEVENT
BEGIN:VEVENT
DTSTART;TZID=America/Chicago:20300821T140000
DTEND;TZID=America/Chicago:20300821T200000
DTSTAMP:20260419T085135
CREATED:20220910T040154Z
LAST-MODIFIED:20220910T040154Z
UID:10012918-1913551200-1913572800@www.beloitrifleclub.org
SUMMARY:Rattlers Air Rifle
DESCRIPTION:
URL:https://www.beloitrifleclub.org/event/rattlers-air-rifle/2030-08-21/
LOCATION:BRC Indoor Range\, 851 E Philhower Road\, Beloit\, WI\, 53511\, United States
GEO:42.568993375477;-89.02376644076
X-APPLE-STRUCTURED-LOCATION;VALUE=URI;X-ADDRESS=BRC Indoor Range 851 E Philhower Road Beloit WI 53511 United States;X-APPLE-RADIUS=500;X-TITLE=851 E Philhower Road:geo:-89.02376644076,42.568993375477
END:VEVENT
BEGIN:VEVENT
DTSTART;TZID=America/Chicago:20300826T180000
DTEND;TZID=America/Chicago:20300826T200000
DTSTAMP:20260419T085135
CREATED:20210116T142635Z
LAST-MODIFIED:20231218T024445Z
UID:10012922-1913997600-1914004800@www.beloitrifleclub.org
SUMMARY:Rattlers Air Rifle
DESCRIPTION:
URL:https://www.beloitrifleclub.org/event/rattlers-air-rifle-2/2030-08-26/
LOCATION:BRC Indoor Range\, 851 E Philhower Road\, Beloit\, WI\, 53511\, United States
GEO:42.568993375477;-89.02376644076
X-APPLE-STRUCTURED-LOCATION;VALUE=URI;X-ADDRESS=BRC Indoor Range 851 E Philhower Road Beloit WI 53511 United States;X-APPLE-RADIUS=500;X-TITLE=851 E Philhower Road:geo:-89.02376644076,42.568993375477
END:VEVENT
BEGIN:VEVENT
DTSTART;TZID=America/Chicago:20300828T140000
DTEND;TZID=America/Chicago:20300828T200000
DTSTAMP:20260419T085135
CREATED:20220910T040154Z
LAST-MODIFIED:20220910T040154Z
UID:10012923-1914156000-1914177600@www.beloitrifleclub.org
SUMMARY:Rattlers Air Rifle
DESCRIPTION:
URL:https://www.beloitrifleclub.org/event/rattlers-air-rifle/2030-08-28/
LOCATION:BRC Indoor Range\, 851 E Philhower Road\, Beloit\, WI\, 53511\, United States
GEO:42.568993375477;-89.02376644076
X-APPLE-STRUCTURED-LOCATION;VALUE=URI;X-ADDRESS=BRC Indoor Range 851 E Philhower Road Beloit WI 53511 United States;X-APPLE-RADIUS=500;X-TITLE=851 E Philhower Road:geo:-89.02376644076,42.568993375477
END:VEVENT
BEGIN:VEVENT
DTSTART;TZID=America/Chicago:20300828T183000
DTEND;TZID=America/Chicago:20300828T200000
DTSTAMP:20260419T085135
CREATED:20251230T231236Z
LAST-MODIFIED:20251230T231236Z
UID:10013175-1914172200-1914177600@www.beloitrifleclub.org
SUMMARY:Practical Pistol
DESCRIPTION:Based on USPSA style matches this is an excellent experience for defensive firearm use. This event will be held on the 2nd and 4th Wednesday of each month. Set up time is 6:30pm. Shooting of the first of three stages starts around 7:00pm. 150 rounds of ammo and multiple magazines are suggested. Holsters not required. PCC are welcome. Non members are welcome to attend. $10 for non members of BRC and $5 for members.
URL:https://www.beloitrifleclub.org/event/practical-pistol-2/2030-08-28/
LOCATION:BRC 25 yard indoor range\, 851 Philhower Rd\, Beloit\, WI\, 53511
END:VEVENT
BEGIN:VEVENT
DTSTART;TZID=America/Chicago:20300902T180000
DTEND;TZID=America/Chicago:20300902T200000
DTSTAMP:20260419T085135
CREATED:20210116T142635Z
LAST-MODIFIED:20231218T024445Z
UID:10012924-1914602400-1914609600@www.beloitrifleclub.org
SUMMARY:Rattlers Air Rifle
DESCRIPTION:
URL:https://www.beloitrifleclub.org/event/rattlers-air-rifle-2/2030-09-02/
LOCATION:BRC Indoor Range\, 851 E Philhower Road\, Beloit\, WI\, 53511\, United States
GEO:42.568993375477;-89.02376644076
X-APPLE-STRUCTURED-LOCATION;VALUE=URI;X-ADDRESS=BRC Indoor Range 851 E Philhower Road Beloit WI 53511 United States;X-APPLE-RADIUS=500;X-TITLE=851 E Philhower Road:geo:-89.02376644076,42.568993375477
END:VEVENT
BEGIN:VEVENT
DTSTART;TZID=America/Chicago:20300904T140000
DTEND;TZID=America/Chicago:20300904T200000
DTSTAMP:20260419T085135
CREATED:20220910T040154Z
LAST-MODIFIED:20220910T040154Z
UID:10012926-1914760800-1914782400@www.beloitrifleclub.org
SUMMARY:Rattlers Air Rifle
DESCRIPTION:
URL:https://www.beloitrifleclub.org/event/rattlers-air-rifle/2030-09-04/
LOCATION:BRC Indoor Range\, 851 E Philhower Road\, Beloit\, WI\, 53511\, United States
GEO:42.568993375477;-89.02376644076
X-APPLE-STRUCTURED-LOCATION;VALUE=URI;X-ADDRESS=BRC Indoor Range 851 E Philhower Road Beloit WI 53511 United States;X-APPLE-RADIUS=500;X-TITLE=851 E Philhower Road:geo:-89.02376644076,42.568993375477
END:VEVENT
BEGIN:VEVENT
DTSTART;TZID=America/Chicago:20300904T183000
DTEND;TZID=America/Chicago:20300904T200000
DTSTAMP:20260419T085135
CREATED:20210209T212034Z
LAST-MODIFIED:20260404T132817Z
UID:10012928-1914777000-1914782400@www.beloitrifleclub.org
SUMMARY:Monthly Club / Board Meeting
DESCRIPTION:At Clubhouse 
URL:https://www.beloitrifleclub.org/event/monthly-club-board-meeting/2030-09-04/
LOCATION:Beloit Rifle Club\, 851 E Philhower Road\, Beloit\, WI\, 53511\, United States
END:VEVENT
END:VCALENDAR