BEGIN:VCALENDAR
VERSION:2.0
PRODID:-//Beloit Rifle Club - ECPv6.15.17.1//NONSGML v1.0//EN
CALSCALE:GREGORIAN
METHOD:PUBLISH
X-WR-CALNAME:Beloit Rifle Club
X-ORIGINAL-URL:https://www.beloitrifleclub.org
X-WR-CALDESC:Events for Beloit Rifle Club
REFRESH-INTERVAL;VALUE=DURATION:PT1H
X-Robots-Tag:noindex
X-PUBLISHED-TTL:PT1H
BEGIN:VTIMEZONE
TZID:America/Chicago
BEGIN:DAYLIGHT
TZOFFSETFROM:-0600
TZOFFSETTO:-0500
TZNAME:CDT
DTSTART:20250309T080000
END:DAYLIGHT
BEGIN:STANDARD
TZOFFSETFROM:-0500
TZOFFSETTO:-0600
TZNAME:CST
DTSTART:20251102T070000
END:STANDARD
BEGIN:DAYLIGHT
TZOFFSETFROM:-0600
TZOFFSETTO:-0500
TZNAME:CDT
DTSTART:20260308T080000
END:DAYLIGHT
BEGIN:STANDARD
TZOFFSETFROM:-0500
TZOFFSETTO:-0600
TZNAME:CST
DTSTART:20261101T070000
END:STANDARD
BEGIN:DAYLIGHT
TZOFFSETFROM:-0600
TZOFFSETTO:-0500
TZNAME:CDT
DTSTART:20270314T080000
END:DAYLIGHT
BEGIN:STANDARD
TZOFFSETFROM:-0500
TZOFFSETTO:-0600
TZNAME:CST
DTSTART:20271107T070000
END:STANDARD
END:VTIMEZONE
BEGIN:VEVENT
DTSTART;TZID=America/Chicago:20261010T073000
DTEND;TZID=America/Chicago:20261010T140000
DTSTAMP:20260424T074726
CREATED:20241230T000103Z
LAST-MODIFIED:20260125T055846Z
UID:10013268-1791617400-1791640800@www.beloitrifleclub.org
SUMMARY:Rock River Regulator - Cowboy Action Shoot - Wild Bunch
DESCRIPTION:  \n\nWe start registration at 7:30 and begin shooting at 9:00. \nWe shoot 5 fun and exciting stages each match followed lunch. We encourage you to come and see what it is all about. \nRemember your eye and ear protection.  \nBRC members if you are looking for work hours\, we are looking for help at the shoots. \nThe West Defensive Range will be shut down for motor traffic until 2:00PM. If you want to use the Defensive range\, you will need to carry your gear down to the range. \n  \n\n\n\nDate\n    Start Time    \n    End Time    \nSpecial notes\n\n\n\n\nApril 11\, 2026    \n7:30am\n2:00pm\nWild Bunch Match     \n\n\nMay 9\, 2026\n7:30am\n2:00pm\nWild Bunch Match     \n\n\nJuly 11\, 2026    \n7:30am\n2:00pm\nWild Bunch Match     \n\n\nAugust 8\, 2026    \n7:30am\n2:00pm\nWild Bunch Match     \n\n\nSeptember 12\, 2026    \n7:30am\n2:00pm\nWild Bunch Match     \n\n\nOctober 10\, 2026    \n7:30am\n2:00pm\nWild Bunch Match     \n\n\n\n\n\n\n\n\n\n\n\n\n\n\n\n \n  \n 
URL:https://www.beloitrifleclub.org/event/rock-river-regulator-wild-bunch-cowboy/2026-10-10/
LOCATION:BRC Cowboy Range\, 951 E Philhower Road\, Beloit\, WI\, 53511\, United States
ATTACH;FMTTYPE=image/jpeg:https://www.beloitrifleclub.org/wp-content/uploads/2026/01/IMG_2469.jpeg
END:VEVENT
END:VCALENDAR