BEGIN:VCALENDAR
VERSION:2.0
PRODID:-//Beloit Rifle Club - ECPv6.15.17.1//NONSGML v1.0//EN
CALSCALE:GREGORIAN
METHOD:PUBLISH
X-WR-CALNAME:Beloit Rifle Club
X-ORIGINAL-URL:https://www.beloitrifleclub.org
X-WR-CALDESC:Events for Beloit Rifle Club
REFRESH-INTERVAL;VALUE=DURATION:PT1H
X-Robots-Tag:noindex
X-PUBLISHED-TTL:PT1H
BEGIN:VTIMEZONE
TZID:America/Chicago
BEGIN:DAYLIGHT
TZOFFSETFROM:-0600
TZOFFSETTO:-0500
TZNAME:CDT
DTSTART:20250309T080000
END:DAYLIGHT
BEGIN:STANDARD
TZOFFSETFROM:-0500
TZOFFSETTO:-0600
TZNAME:CST
DTSTART:20251102T070000
END:STANDARD
BEGIN:DAYLIGHT
TZOFFSETFROM:-0600
TZOFFSETTO:-0500
TZNAME:CDT
DTSTART:20260308T080000
END:DAYLIGHT
BEGIN:STANDARD
TZOFFSETFROM:-0500
TZOFFSETTO:-0600
TZNAME:CST
DTSTART:20261101T070000
END:STANDARD
BEGIN:DAYLIGHT
TZOFFSETFROM:-0600
TZOFFSETTO:-0500
TZNAME:CDT
DTSTART:20270314T080000
END:DAYLIGHT
BEGIN:STANDARD
TZOFFSETFROM:-0500
TZOFFSETTO:-0600
TZNAME:CST
DTSTART:20271107T070000
END:STANDARD
END:VTIMEZONE
BEGIN:VEVENT
DTSTART;TZID=America/Chicago:20261003T073000
DTEND;TZID=America/Chicago:20261003T140000
DTSTAMP:20260424T074838
CREATED:20241229T225651Z
LAST-MODIFIED:20260125T054555Z
UID:10013260-1791012600-1791036000@www.beloitrifleclub.org
SUMMARY:Rock River Regulator - Cowboy Action Shoot - Match
DESCRIPTION:We have Cowboy competitions every 1st and 3rd Saturday of the month. \nWe start registration at 7:30 and begin shooting at 9:00. \nWe shoot 5 fun and exciting stages each match followed lunch. We encourage you to come and see what it is all about. \nRemember your eye and ear protection.  \nBRC members if you are looking for work hours we are looking for help at the shoots. \nThe West Defensive Range will be shutdown for motor traffic until 2:00PM. If you want to use the Defensive range you will need to carry your gear down to the range. \n  \n\n\n\nDate\n    Start Time    \n    End Time    \nSpecial notes\n\n\n\n\nApril 4\, 2026\n7:30am\n2:00pm\nCowboy Match\n\n\nApril 18\, 2026\n7:30am\n2:00pm\nCowboy Match\n\n\nMay 2\, 2026\n7:30am\n2:00pm\nCowboy Match\n\n\nMay 16\, 2026\n7:30am\n2:00pm\nCowboy Match\n\n\nMay 30\, 2026 ???\n7:30am\n2:00pm\nWild Bunch Match     \n\n\nJune 6\, 2026\n7:30am\n2:00pm\nCowboy Match\n\n\nJuly 4\, 2026\n7:30 am\n2:00pm\nCowboy Match\n\n\nJuly 18\, 2026\n7:30am\n2:00pm\nCowboy Match\n\n\nAugust 1\, 2026\n7:30am\n2:00pm\nCowboy Match\n\n\nAugust 15\, 2026\n7:30am\n2:00pm\nCowboy Match\n\n\nAugust 29\, 2026 ???\n7:30am\n2:00pm\nWild Bunch Match     \n\n\nSeptember 5\, 2026\n7:30am\n2:00pm\nCowboy Match\n\n\nSeptember 19\, 2026\n7:30am\n2:00pm\nCowboy Match\n\n\nOctober 3\, 2026\n7:30am\n2:00pm\nCowboy Match\n\n\nOctober 17\, 2026\n7:30am\n2:00pm\nCowboy Match\n\n\nOctober 31\, 2026\n7:30am\n2:00pm\nCowboy Match\n\n\n\n\n\n\n\n\n\n\n\n\n\n\n\n \n  \n 
URL:https://www.beloitrifleclub.org/event/rock-river-regulator-cowboy/2026-10-03/
LOCATION:BRC Cowboy Range\, 951 E Philhower Road\, Beloit\, WI\, 53511\, United States
ATTACH;FMTTYPE=image/jpeg:https://www.beloitrifleclub.org/wp-content/uploads/2026/01/IMG_2469.jpeg
END:VEVENT
BEGIN:VEVENT
DTSTART;TZID=America/Chicago:20261003T080000
DTEND;TZID=America/Chicago:20261003T170000
DTSTAMP:20260424T074838
CREATED:20240129T134540Z
LAST-MODIFIED:20260401T233124Z
UID:10013297-1791014400-1791046800@www.beloitrifleclub.org
SUMMARY:General Work Day
DESCRIPTION:Range Construction\nContact \n\nGeneral Workday Schedule 2026\n\n\n\nSaturday\, April 4 — 7am – 3:30pm\n\n\n\nThe first General Work Day at the Beloit Rifle Club for 2026 is scheduled for Saturday April 4th from 7:00 am until 3:30 pm. Scheduled work includes but is not limited to: \n\n1) Pick up trash on Philhower Rd\n\n\n2) Build shelves in the equipment room of the new Indoor Range.\n\n\n3) Build target frames for the Defense Range\, East Bay Range and 500M Ranges out back.\n\n\n4) Install wash stations in the three outhouses on the Front Range.\n\n\n5) Pickup brush and cleanup snow plow damage on the Front Range.\n\n\n6) Re-hang the rain gutters on the Main Range cover next to the Range Shed.\n\n\n7) Clean out lead in the new Indoor range.\n\n\n8) Repair frames and replace target boards on the Black Powder Range.\n\n\n9) Replace / repair target boards and frames on the Main Range.\n\n\n10) Repair target on the back 500M Range as necessary.\n \n\n\nIf you have your own Cordless drills / saws for you to use please bring them as the club only has a limited number of tools. If you can’t make the entire day\, come for whatever you can.\n \n\n\nLunch will be provided for those members who work the entire 8 hours.\n \n\n\nContact Brad Mueller – Range Construction Director at 815-218-2944 or reply to this post if you have any questions. Early signup for the Work Day is not necessary.\n\nLunch will be provided for all workers who plan on working all day. As usual\, the club will provide all tools necessary for the Work Day\, but if you have personal cordless hand tools that you could bring\, that would be helpful and appreciated. \nNo advance signup for the Work Day is necessary. We will have a sign-in sheet in the clubhouse that morning to sign-in. \nAny questions\, leave a message here or call Brad Mueller – Range Construction Director at 815-218-2944. \n\n\n\nSaturday\, May 2 — 7am – 3:30pm\n\n\nTBD\n\n\nSaturday\, June 6 — 7am – 3:30pm\n\n\nTBD\n\n\nSaturday\, July 11 — 7am – 3:30pm\n\n\nTBD\n\n\nSaturday\, August 1 — 7am – 3:30pm\n\n\nTBD\n\n\nSaturday\, Sept. 12 — 7am – 3:30pm\n\n\nTBD\n\n\nSaturday\, Oct 3 — 7am – 3:30pm\n\n\nTBD\n\n\n\n  \nWork items may be changed/updated due to weather and other needs. \nPersonal tools and equipment are always welcome. \nIndividual ranges will be closed based on work schedule. \n\nSpecial Work Days\n\n\n\nIndoor Range Lead Cleanout — Friday\, Feb 20 — 9:00 am – 1 pm\n\n\nRemove lead from the indoor range\n\n\nMain Range – NRA Youth Sport Fest Set-up — Friday\, May 8 — 8am – 1pm\n\n\nSetting up tables and chairs\, working on the Ranges\, placement of temporary fences and targets\n\n\nMain Range – Sight In Days Set-up — Friday\, Nov 6 — 8am – 2pm\n\n\nReplacing targets and backboards on Main Range\, install numbers for target frames\, clean the Clubhouse and set up for Sight In Days\n\n\n\n  \nThis listing is the main projects set for work days. Each work date will also have a variety of other small projects for everyone. \nThe 2026 Range Construction Team \nBrad Mueller\, Bruce Nygren\, Robert Sobucki\, Reggie James\, Sean Clark\, Walt Weber
URL:https://www.beloitrifleclub.org/event/general-work-day-15/2026-10-03/
LOCATION:Beloit Rifle Club\, 851 E Philhower Road\, Beloit\, WI\, 53511\, United States
ORGANIZER;CN="Brad Mueller":MAILTO:Bradrm@charter.net
END:VEVENT
BEGIN:VEVENT
DTSTART;TZID=America/Chicago:20261003T090000
DTEND;TZID=America/Chicago:20261003T170000
DTSTAMP:20260424T074838
CREATED:20250302T002457Z
LAST-MODIFIED:20260205T015226Z
UID:10013337-1791018000-1791046800@www.beloitrifleclub.org
SUMMARY:Raven Creek Training - Illinois Concealed Carry - Pistol Essentials
DESCRIPTION:Register on Eventbrite \nEvents:\n\n\n\nDates\nEvent Type\nLocation\nDescription\n\n\n\n\nFebruary 21 & 22\nIllinois Concealed Carry\nNew Indoor Range\nTime: 9am to 5pm\nTraining and Qualification\n\n\nMarch 7\nPistol Essentials Training\nWest Defensive Pistol Range\nTime: 9am to 4pm\n\n\nMay 2 & 3\nIllinois Concealed Carry\nNew Indoor Range\nTime: 9am to 4pm\nTraining and Qualification\n\n\nMay 23\nPistol Essentials Training\nWest Defensive Pistol Range\nTime: 9am to 4pm\n\n\nJuly 25 & 26\nIllinois Concealed Carry\nNew Indoor Range\nTime: 9am to 5pm\nTraining and Qualification\n\n\nAugust 2\nPistol Essentials Training\nWest Defensive Pistol Range\nTime: 9am to 4pm\n\n\nOctober 3 & 4\nIllinois Concealed Carry\nNew Indoor Range\nTime: 9am to 4pm\nTraining and Qualification\n\n\nOctober 24\nPistol Essentials Training\nWest Defensive Pistol Range\nTime: 9am to 4pm\n\n\n\n  \n\nIllinois Concealed Carry:\nReady to legally carry in Illinois?  \nSign up for our Illinois Concealed Carry License class today! \nCome join us for our full 16 hour Illinois Concealed and Carry Course! This in-person event will be held at the Beloit Rifle Club\, Our class covers the states requirements and much more. This course requires a deposit only to secure your spot\, so don’t miss out! \nTotal cost of the class:\n\n$175 for Beloit Rifle Club Members\n$225 for Non-Members. \n\nYour $75 deposit confirms your seat and is a non-refundable.\nThe balance is due the first day of class. \nHope to see you all in April or November.\nDon’t wait—secure your spot today!\nStay safe\, stay prepared! \nWhat to bring:\n\nNotebook and pen\nModern semi auto pistol in a case.\nMinimum 50 rounds of ammunition.\n\n  \n\nPistol Essentials Training:\nThis is an 8 hour pistol class for beginners to intermediate shooters who want to focus on the 5 fundamentals of marksmanship and drawing from the holster.   \nCost:\n\n$175 for BRC members \n$225 for non-members \n\nWhat to bring:\n\nModern semi auto pistol.\nMinimum 3 magazines\nMinimum 500 rounds of ammunition.\nStrong side OWB kydex holster.\nA detailed list will be sent by email.\n\n\nContact info:\nJeffery Drummond\n815-922-7923\nravencreektraining@gmail.com \n  \n  \n  \n 
URL:https://www.beloitrifleclub.org/event/raven-creek-training-illinois-concealed-carry-pistol-essentials/2026-10-03/
LOCATION:Beloit Rifle Club\, 851 E Philhower Road\, Beloit\, WI\, 53511\, United States
ATTACH;FMTTYPE=image/jpeg:https://www.beloitrifleclub.org/wp-content/uploads/2025/03/IMG_2073-scaled-e1740880104252.jpeg
END:VEVENT
END:VCALENDAR