BEGIN:VCALENDAR
VERSION:2.0
PRODID:-//Beloit Rifle Club - ECPv6.15.17.1//NONSGML v1.0//EN
CALSCALE:GREGORIAN
METHOD:PUBLISH
X-WR-CALNAME:Beloit Rifle Club
X-ORIGINAL-URL:https://www.beloitrifleclub.org
X-WR-CALDESC:Events for Beloit Rifle Club
REFRESH-INTERVAL;VALUE=DURATION:PT1H
X-Robots-Tag:noindex
X-PUBLISHED-TTL:PT1H
BEGIN:VTIMEZONE
TZID:America/Chicago
BEGIN:DAYLIGHT
TZOFFSETFROM:-0600
TZOFFSETTO:-0500
TZNAME:CDT
DTSTART:20250309T080000
END:DAYLIGHT
BEGIN:STANDARD
TZOFFSETFROM:-0500
TZOFFSETTO:-0600
TZNAME:CST
DTSTART:20251102T070000
END:STANDARD
BEGIN:DAYLIGHT
TZOFFSETFROM:-0600
TZOFFSETTO:-0500
TZNAME:CDT
DTSTART:20260308T080000
END:DAYLIGHT
BEGIN:STANDARD
TZOFFSETFROM:-0500
TZOFFSETTO:-0600
TZNAME:CST
DTSTART:20261101T070000
END:STANDARD
BEGIN:DAYLIGHT
TZOFFSETFROM:-0600
TZOFFSETTO:-0500
TZNAME:CDT
DTSTART:20270314T080000
END:DAYLIGHT
BEGIN:STANDARD
TZOFFSETFROM:-0500
TZOFFSETTO:-0600
TZNAME:CST
DTSTART:20271107T070000
END:STANDARD
END:VTIMEZONE
BEGIN:VEVENT
DTSTART;TZID=America/Chicago:20260926T080000
DTEND;TZID=America/Chicago:20260926T110000
DTSTAMP:20260424T031025
CREATED:20230107T022403Z
LAST-MODIFIED:20260213T120502Z
UID:10013330-1790409600-1790420400@www.beloitrifleclub.org
SUMMARY:Rimfire Benchrest
DESCRIPTION:Location:  100-500 meter range \nTime:  8am to 11am \nDates:\n     May 9\n     May 23\n     June 13\n     June 27\n     July 11\n     July 25\n     Aug 8\n     Aug 22\n     Sept 12\n     Sept 26 \nContact Link \n  \n 
URL:https://www.beloitrifleclub.org/event/rimfire-benchrest-13/2026-09-26/
LOCATION:BRC 500 Meter Range\, 851 PhilhowerRoad\, Beloit\, WI\, 53511\, United States
END:VEVENT
END:VCALENDAR