BEGIN:VCALENDAR
VERSION:2.0
PRODID:-//Beloit Rifle Club - ECPv6.15.17.1//NONSGML v1.0//EN
CALSCALE:GREGORIAN
METHOD:PUBLISH
X-ORIGINAL-URL:https://www.beloitrifleclub.org
X-WR-CALDESC:Events for Beloit Rifle Club
REFRESH-INTERVAL;VALUE=DURATION:PT1H
X-Robots-Tag:noindex
X-PUBLISHED-TTL:PT1H
BEGIN:VTIMEZONE
TZID:America/Chicago
BEGIN:DAYLIGHT
TZOFFSETFROM:-0600
TZOFFSETTO:-0500
TZNAME:CDT
DTSTART:20250309T080000
END:DAYLIGHT
BEGIN:STANDARD
TZOFFSETFROM:-0500
TZOFFSETTO:-0600
TZNAME:CST
DTSTART:20251102T070000
END:STANDARD
BEGIN:DAYLIGHT
TZOFFSETFROM:-0600
TZOFFSETTO:-0500
TZNAME:CDT
DTSTART:20260308T080000
END:DAYLIGHT
BEGIN:STANDARD
TZOFFSETFROM:-0500
TZOFFSETTO:-0600
TZNAME:CST
DTSTART:20261101T070000
END:STANDARD
BEGIN:DAYLIGHT
TZOFFSETFROM:-0600
TZOFFSETTO:-0500
TZNAME:CDT
DTSTART:20270314T080000
END:DAYLIGHT
BEGIN:STANDARD
TZOFFSETFROM:-0500
TZOFFSETTO:-0600
TZNAME:CST
DTSTART:20271107T070000
END:STANDARD
END:VTIMEZONE
BEGIN:VEVENT
DTSTART;TZID=America/Chicago:20260627T080000
DTEND;TZID=America/Chicago:20260627T110000
DTSTAMP:20260422T065225
CREATED:20230107T022403Z
LAST-MODIFIED:20260213T120502Z
UID:10013324-1782547200-1782558000@www.beloitrifleclub.org
SUMMARY:Rimfire Benchrest
DESCRIPTION:Location:  100-500 meter range \nTime:  8am to 11am \nDates:\n     May 9\n     May 23\n     June 13\n     June 27\n     July 11\n     July 25\n     Aug 8\n     Aug 22\n     Sept 12\n     Sept 26 \nContact Link \n  \n 
URL:https://www.beloitrifleclub.org/event/rimfire-benchrest-13/2026-06-27/
LOCATION:BRC 500 Meter Range\, 851 PhilhowerRoad\, Beloit\, WI\, 53511\, United States
END:VEVENT
BEGIN:VEVENT
DTSTART;TZID=America/Chicago:20260627T090000
DTEND;TZID=America/Chicago:20260627T140000
DTSTAMP:20260422T065225
CREATED:20211104T144808Z
LAST-MODIFIED:20260209T143054Z
UID:10010748-1782550800-1782568800@www.beloitrifleclub.org
SUMMARY:Black Powder Lodge W.M.L.A. Sanctioned Wisconsin Sergeant Alvin C. York Shoot - CGM 60 Yards
DESCRIPTION:Black Powder Lodge W.M.L.A. Sanctioned Wisconsin\nSergeant Alvin C. York Shoot – CGM 60 Yards \nTime 9am to 2pm \nFull Schedule \nCONTACT\nFor more information contact Harley Whitt 608-921-1542 or Charlie Brown 608-290-2978 \nGPS – 851 E. Philhower Rd.\, Beloit Wisconsin 53511
URL:https://www.beloitrifleclub.org/event/black-powder-lodge-w-m-l-a-sanctioned-wisconsin-sergeant-alvin-c-york-shoot-cgm-60-yards/
LOCATION:BRC Black Powder Range\, 851 E. Philhower Rd.\, Beloit\, WI\, 53511\, United States
GEO:42.56908121548;-89.026182665433
X-APPLE-STRUCTURED-LOCATION;VALUE=URI;X-ADDRESS=BRC Black Powder Range 851 E. Philhower Rd. Beloit WI 53511 United States;X-APPLE-RADIUS=500;X-TITLE=851 E. Philhower Rd.:geo:-89.026182665433,42.56908121548
END:VEVENT
END:VCALENDAR