BEGIN:VCALENDAR
VERSION:2.0
PRODID:-//Beloit Rifle Club - ECPv6.15.17.1//NONSGML v1.0//EN
CALSCALE:GREGORIAN
METHOD:PUBLISH
X-ORIGINAL-URL:https://www.beloitrifleclub.org
X-WR-CALDESC:Events for Beloit Rifle Club
REFRESH-INTERVAL;VALUE=DURATION:PT1H
X-Robots-Tag:noindex
X-PUBLISHED-TTL:PT1H
BEGIN:VTIMEZONE
TZID:America/Chicago
BEGIN:DAYLIGHT
TZOFFSETFROM:-0600
TZOFFSETTO:-0500
TZNAME:CDT
DTSTART:20250309T080000
END:DAYLIGHT
BEGIN:STANDARD
TZOFFSETFROM:-0500
TZOFFSETTO:-0600
TZNAME:CST
DTSTART:20251102T070000
END:STANDARD
BEGIN:DAYLIGHT
TZOFFSETFROM:-0600
TZOFFSETTO:-0500
TZNAME:CDT
DTSTART:20260308T080000
END:DAYLIGHT
BEGIN:STANDARD
TZOFFSETFROM:-0500
TZOFFSETTO:-0600
TZNAME:CST
DTSTART:20261101T070000
END:STANDARD
BEGIN:DAYLIGHT
TZOFFSETFROM:-0600
TZOFFSETTO:-0500
TZNAME:CDT
DTSTART:20270314T080000
END:DAYLIGHT
BEGIN:STANDARD
TZOFFSETFROM:-0500
TZOFFSETTO:-0600
TZNAME:CST
DTSTART:20271107T070000
END:STANDARD
END:VTIMEZONE
BEGIN:VEVENT
DTSTART;TZID=America/Chicago:20260530T073000
DTEND;TZID=America/Chicago:20260530T140000
DTSTAMP:20260424T032118
CREATED:20241229T225651Z
LAST-MODIFIED:20260125T054555Z
UID:10013251-1780126200-1780149600@www.beloitrifleclub.org
SUMMARY:Rock River Regulator - Cowboy Action Shoot - Match
DESCRIPTION:We have Cowboy competitions every 1st and 3rd Saturday of the month. \nWe start registration at 7:30 and begin shooting at 9:00. \nWe shoot 5 fun and exciting stages each match followed lunch. We encourage you to come and see what it is all about. \nRemember your eye and ear protection.  \nBRC members if you are looking for work hours we are looking for help at the shoots. \nThe West Defensive Range will be shutdown for motor traffic until 2:00PM. If you want to use the Defensive range you will need to carry your gear down to the range. \n  \n\n\n\nDate\n    Start Time    \n    End Time    \nSpecial notes\n\n\n\n\nApril 4\, 2026\n7:30am\n2:00pm\nCowboy Match\n\n\nApril 18\, 2026\n7:30am\n2:00pm\nCowboy Match\n\n\nMay 2\, 2026\n7:30am\n2:00pm\nCowboy Match\n\n\nMay 16\, 2026\n7:30am\n2:00pm\nCowboy Match\n\n\nMay 30\, 2026 ???\n7:30am\n2:00pm\nWild Bunch Match     \n\n\nJune 6\, 2026\n7:30am\n2:00pm\nCowboy Match\n\n\nJuly 4\, 2026\n7:30 am\n2:00pm\nCowboy Match\n\n\nJuly 18\, 2026\n7:30am\n2:00pm\nCowboy Match\n\n\nAugust 1\, 2026\n7:30am\n2:00pm\nCowboy Match\n\n\nAugust 15\, 2026\n7:30am\n2:00pm\nCowboy Match\n\n\nAugust 29\, 2026 ???\n7:30am\n2:00pm\nWild Bunch Match     \n\n\nSeptember 5\, 2026\n7:30am\n2:00pm\nCowboy Match\n\n\nSeptember 19\, 2026\n7:30am\n2:00pm\nCowboy Match\n\n\nOctober 3\, 2026\n7:30am\n2:00pm\nCowboy Match\n\n\nOctober 17\, 2026\n7:30am\n2:00pm\nCowboy Match\n\n\nOctober 31\, 2026\n7:30am\n2:00pm\nCowboy Match\n\n\n\n\n\n\n\n\n\n\n\n\n\n\n\n \n  \n 
URL:https://www.beloitrifleclub.org/event/rock-river-regulator-cowboy/2026-05-30/
LOCATION:BRC Cowboy Range\, 951 E Philhower Road\, Beloit\, WI\, 53511\, United States
ATTACH;FMTTYPE=image/jpeg:https://www.beloitrifleclub.org/wp-content/uploads/2026/01/IMG_2469.jpeg
END:VEVENT
BEGIN:VEVENT
DTSTART;TZID=America/Chicago:20260530T080000
DTEND;TZID=America/Chicago:20260530T120000
DTSTAMP:20260424T032118
CREATED:20250301T232714Z
LAST-MODIFIED:20260402T001848Z
UID:10012559-1780128000-1780142400@www.beloitrifleclub.org
SUMMARY:Marine Corps League Detachment 623 and Combat Veterans Event
DESCRIPTION:Marine Corp League Detachment 623\nCombat Veterans Motorcycle Association Chapter 45-9\nshoot \nLocation:  Main Range \nMain Range Closed for the event.
URL:https://www.beloitrifleclub.org/event/marine-corps-league-detachment-625-event/
LOCATION:BRC Main Range\, Beloit\, WI\, United States
END:VEVENT
BEGIN:VEVENT
DTSTART;TZID=America/Chicago:20260530T083000
DTEND;TZID=America/Chicago:20260530T150000
DTSTAMP:20260424T032118
CREATED:20260420T002203Z
LAST-MODIFIED:20260420T002203Z
UID:10013492-1780129800-1780153200@www.beloitrifleclub.org
SUMMARY:Pistol / Lever Action / Sporter rifle Silhouette Shoot
DESCRIPTION:Important!!! 22 caliber rimfire only! Please no magnum or stinger rounds.\nThe purpose of this event is to evaluate the interest for pistol and/or lever action rifle matches.\nThis event is open to the public and participation is free. \nLever action / Sporter rifle match description:\nThis is a 40 shots match. NRA rules will be observed.\nLever Action Rifle: Any lever action with a tubular magazine and mechanical sights\, including aperture or diopter style sights. Single load is allowed.\nSporter rifle: Bolt action rifle with open sights only.\nShooting position: Standing\, unsupported.\nTargets: 1/2 scale \nPistol match description:\nThis is a 40 shots match. NRA rules will be observed.\nPistol: Any rimfire pistol. There will be separate classes for optics and open sights.\nShooting position: Standing. (Freestyle – TBD)\nTargets: 1/2 scale \nAll firearms should be in good mechanical condition.\nEye and ear protection are mandatory. Empty chamber indicators are required. \nRange will open at 8:30; matches will start at 10:00.\nFinal format and additional relays/matches will be decided based on number of participants and available time.\nPlease communicate you intention to participate using the link bellow. \n\nContact
URL:https://www.beloitrifleclub.org/event/pistol-lever-action-sporter-rifle-silhouette-shoot/
LOCATION:Beloit Rifle Club\, 851 E Philhower Road\, Beloit\, WI\, 53511\, United States
END:VEVENT
END:VCALENDAR